BEGIN:VCALENDAR
VERSION:2.0
PRODID:-//Hangar 24 Craft Brewing - ECPv6.15.20//NONSGML v1.0//EN
CALSCALE:GREGORIAN
METHOD:PUBLISH
X-WR-CALNAME:Hangar 24 Craft Brewing
X-ORIGINAL-URL:https://hangar24brewing.com
X-WR-CALDESC:Events for Hangar 24 Craft Brewing
REFRESH-INTERVAL;VALUE=DURATION:PT1H
X-Robots-Tag:noindex
X-PUBLISHED-TTL:PT1H
BEGIN:VTIMEZONE
TZID:America/Los_Angeles
BEGIN:DAYLIGHT
TZOFFSETFROM:-0800
TZOFFSETTO:-0700
TZNAME:PDT
DTSTART:20280312T100000
END:DAYLIGHT
BEGIN:STANDARD
TZOFFSETFROM:-0700
TZOFFSETTO:-0800
TZNAME:PST
DTSTART:20281105T090000
END:STANDARD
BEGIN:DAYLIGHT
TZOFFSETFROM:-0800
TZOFFSETTO:-0700
TZNAME:PDT
DTSTART:20290311T100000
END:DAYLIGHT
BEGIN:STANDARD
TZOFFSETFROM:-0700
TZOFFSETTO:-0800
TZNAME:PST
DTSTART:20291104T090000
END:STANDARD
BEGIN:DAYLIGHT
TZOFFSETFROM:-0800
TZOFFSETTO:-0700
TZNAME:PDT
DTSTART:20300310T100000
END:DAYLIGHT
BEGIN:STANDARD
TZOFFSETFROM:-0700
TZOFFSETTO:-0800
TZNAME:PST
DTSTART:20301103T090000
END:STANDARD
BEGIN:DAYLIGHT
TZOFFSETFROM:-0800
TZOFFSETTO:-0700
TZNAME:PDT
DTSTART:20310309T100000
END:DAYLIGHT
BEGIN:STANDARD
TZOFFSETFROM:-0700
TZOFFSETTO:-0800
TZNAME:PST
DTSTART:20311102T090000
END:STANDARD
END:VTIMEZONE
BEGIN:VEVENT
DTSTART;TZID=America/Los_Angeles:20291205T173000
DTEND;TZID=America/Los_Angeles:20291205T193000
DTSTAMP:20260420T181617
CREATED:20251223T204203Z
LAST-MODIFIED:20260220T182628Z
UID:10010948-1891186200-1891193400@hangar24brewing.com
SUMMARY:Bingo Wednesdays!!
DESCRIPTION:
URL:https://hangar24brewing.com/event/bingo-night-2-2/2029-12-05/
LOCATION:HANGAR 24 BREWING – LAKE HAVASU CITY\, CA
CATEGORIES:Lake Havasu City, CA Events
END:VEVENT
BEGIN:VEVENT
DTSTART;TZID=America/Los_Angeles:20291206T180000
DTEND;TZID=America/Los_Angeles:20291206T200000
DTSTAMP:20260420T181617
CREATED:20251223T205854Z
LAST-MODIFIED:20260219T200301Z
UID:10009878-1891274400-1891281600@hangar24brewing.com
SUMMARY:Trivia Thursdays
DESCRIPTION:
URL:https://hangar24brewing.com/event/trivia-night-geeks-who-drink-2-2/2029-12-06/
LOCATION:HANGAR 24 BREWING – LAKE HAVASU CITY\, CA
CATEGORIES:Lake Havasu City, CA Events
END:VEVENT
BEGIN:VEVENT
DTSTART;TZID=America/Los_Angeles:20291212T173000
DTEND;TZID=America/Los_Angeles:20291212T193000
DTSTAMP:20260420T181617
CREATED:20251223T204203Z
LAST-MODIFIED:20260220T182628Z
UID:10010949-1891791000-1891798200@hangar24brewing.com
SUMMARY:Bingo Wednesdays!!
DESCRIPTION:
URL:https://hangar24brewing.com/event/bingo-night-2-2/2029-12-12/
LOCATION:HANGAR 24 BREWING – LAKE HAVASU CITY\, CA
CATEGORIES:Lake Havasu City, CA Events
END:VEVENT
BEGIN:VEVENT
DTSTART;TZID=America/Los_Angeles:20291213T180000
DTEND;TZID=America/Los_Angeles:20291213T200000
DTSTAMP:20260420T181617
CREATED:20251223T205854Z
LAST-MODIFIED:20260219T200301Z
UID:10009879-1891879200-1891886400@hangar24brewing.com
SUMMARY:Trivia Thursdays
DESCRIPTION:
URL:https://hangar24brewing.com/event/trivia-night-geeks-who-drink-2-2/2029-12-13/
LOCATION:HANGAR 24 BREWING – LAKE HAVASU CITY\, CA
CATEGORIES:Lake Havasu City, CA Events
END:VEVENT
BEGIN:VEVENT
DTSTART;TZID=America/Los_Angeles:20291219T173000
DTEND;TZID=America/Los_Angeles:20291219T193000
DTSTAMP:20260420T181617
CREATED:20251223T204203Z
LAST-MODIFIED:20260220T182628Z
UID:10010950-1892395800-1892403000@hangar24brewing.com
SUMMARY:Bingo Wednesdays!!
DESCRIPTION:
URL:https://hangar24brewing.com/event/bingo-night-2-2/2029-12-19/
LOCATION:HANGAR 24 BREWING – LAKE HAVASU CITY\, CA
CATEGORIES:Lake Havasu City, CA Events
END:VEVENT
BEGIN:VEVENT
DTSTART;TZID=America/Los_Angeles:20291220T180000
DTEND;TZID=America/Los_Angeles:20291220T200000
DTSTAMP:20260420T181617
CREATED:20251223T205854Z
LAST-MODIFIED:20260219T200301Z
UID:10009880-1892484000-1892491200@hangar24brewing.com
SUMMARY:Trivia Thursdays
DESCRIPTION:
URL:https://hangar24brewing.com/event/trivia-night-geeks-who-drink-2-2/2029-12-20/
LOCATION:HANGAR 24 BREWING – LAKE HAVASU CITY\, CA
CATEGORIES:Lake Havasu City, CA Events
END:VEVENT
BEGIN:VEVENT
DTSTART;TZID=America/Los_Angeles:20291226T173000
DTEND;TZID=America/Los_Angeles:20291226T193000
DTSTAMP:20260420T181617
CREATED:20251223T204203Z
LAST-MODIFIED:20260220T182628Z
UID:10010951-1893000600-1893007800@hangar24brewing.com
SUMMARY:Bingo Wednesdays!!
DESCRIPTION:
URL:https://hangar24brewing.com/event/bingo-night-2-2/2029-12-26/
LOCATION:HANGAR 24 BREWING – LAKE HAVASU CITY\, CA
CATEGORIES:Lake Havasu City, CA Events
END:VEVENT
BEGIN:VEVENT
DTSTART;TZID=America/Los_Angeles:20291227T180000
DTEND;TZID=America/Los_Angeles:20291227T200000
DTSTAMP:20260420T181617
CREATED:20251223T205854Z
LAST-MODIFIED:20260219T200301Z
UID:10009881-1893088800-1893096000@hangar24brewing.com
SUMMARY:Trivia Thursdays
DESCRIPTION:
URL:https://hangar24brewing.com/event/trivia-night-geeks-who-drink-2-2/2029-12-27/
LOCATION:HANGAR 24 BREWING – LAKE HAVASU CITY\, CA
CATEGORIES:Lake Havasu City, CA Events
END:VEVENT
BEGIN:VEVENT
DTSTART;TZID=America/Los_Angeles:20300102T173000
DTEND;TZID=America/Los_Angeles:20300102T193000
DTSTAMP:20260420T181617
CREATED:20251223T204203Z
LAST-MODIFIED:20260220T182628Z
UID:10010952-1893605400-1893612600@hangar24brewing.com
SUMMARY:Bingo Wednesdays!!
DESCRIPTION:
URL:https://hangar24brewing.com/event/bingo-night-2-2/2030-01-02/
LOCATION:HANGAR 24 BREWING – LAKE HAVASU CITY\, CA
CATEGORIES:Lake Havasu City, CA Events
END:VEVENT
BEGIN:VEVENT
DTSTART;TZID=America/Los_Angeles:20300103T180000
DTEND;TZID=America/Los_Angeles:20300103T200000
DTSTAMP:20260420T181617
CREATED:20251223T205854Z
LAST-MODIFIED:20260219T200301Z
UID:10009882-1893693600-1893700800@hangar24brewing.com
SUMMARY:Trivia Thursdays
DESCRIPTION:
URL:https://hangar24brewing.com/event/trivia-night-geeks-who-drink-2-2/2030-01-03/
LOCATION:HANGAR 24 BREWING – LAKE HAVASU CITY\, CA
CATEGORIES:Lake Havasu City, CA Events
END:VEVENT
BEGIN:VEVENT
DTSTART;TZID=America/Los_Angeles:20300109T173000
DTEND;TZID=America/Los_Angeles:20300109T193000
DTSTAMP:20260420T181617
CREATED:20251223T204203Z
LAST-MODIFIED:20260220T182628Z
UID:10010953-1894210200-1894217400@hangar24brewing.com
SUMMARY:Bingo Wednesdays!!
DESCRIPTION:
URL:https://hangar24brewing.com/event/bingo-night-2-2/2030-01-09/
LOCATION:HANGAR 24 BREWING – LAKE HAVASU CITY\, CA
CATEGORIES:Lake Havasu City, CA Events
END:VEVENT
BEGIN:VEVENT
DTSTART;TZID=America/Los_Angeles:20300110T180000
DTEND;TZID=America/Los_Angeles:20300110T200000
DTSTAMP:20260420T181617
CREATED:20251223T205854Z
LAST-MODIFIED:20260219T200301Z
UID:10009883-1894298400-1894305600@hangar24brewing.com
SUMMARY:Trivia Thursdays
DESCRIPTION:
URL:https://hangar24brewing.com/event/trivia-night-geeks-who-drink-2-2/2030-01-10/
LOCATION:HANGAR 24 BREWING – LAKE HAVASU CITY\, CA
CATEGORIES:Lake Havasu City, CA Events
END:VEVENT
BEGIN:VEVENT
DTSTART;TZID=America/Los_Angeles:20300116T173000
DTEND;TZID=America/Los_Angeles:20300116T193000
DTSTAMP:20260420T181617
CREATED:20251223T204203Z
LAST-MODIFIED:20260220T182628Z
UID:10010954-1894815000-1894822200@hangar24brewing.com
SUMMARY:Bingo Wednesdays!!
DESCRIPTION:
URL:https://hangar24brewing.com/event/bingo-night-2-2/2030-01-16/
LOCATION:HANGAR 24 BREWING – LAKE HAVASU CITY\, CA
CATEGORIES:Lake Havasu City, CA Events
END:VEVENT
BEGIN:VEVENT
DTSTART;TZID=America/Los_Angeles:20300117T180000
DTEND;TZID=America/Los_Angeles:20300117T200000
DTSTAMP:20260420T181617
CREATED:20251223T205854Z
LAST-MODIFIED:20260219T200301Z
UID:10009884-1894903200-1894910400@hangar24brewing.com
SUMMARY:Trivia Thursdays
DESCRIPTION:
URL:https://hangar24brewing.com/event/trivia-night-geeks-who-drink-2-2/2030-01-17/
LOCATION:HANGAR 24 BREWING – LAKE HAVASU CITY\, CA
CATEGORIES:Lake Havasu City, CA Events
END:VEVENT
BEGIN:VEVENT
DTSTART;TZID=America/Los_Angeles:20300123T173000
DTEND;TZID=America/Los_Angeles:20300123T193000
DTSTAMP:20260420T181617
CREATED:20251223T204203Z
LAST-MODIFIED:20260220T182628Z
UID:10010955-1895419800-1895427000@hangar24brewing.com
SUMMARY:Bingo Wednesdays!!
DESCRIPTION:
URL:https://hangar24brewing.com/event/bingo-night-2-2/2030-01-23/
LOCATION:HANGAR 24 BREWING – LAKE HAVASU CITY\, CA
CATEGORIES:Lake Havasu City, CA Events
END:VEVENT
BEGIN:VEVENT
DTSTART;TZID=America/Los_Angeles:20300124T180000
DTEND;TZID=America/Los_Angeles:20300124T200000
DTSTAMP:20260420T181617
CREATED:20251223T205854Z
LAST-MODIFIED:20260219T200301Z
UID:10009885-1895508000-1895515200@hangar24brewing.com
SUMMARY:Trivia Thursdays
DESCRIPTION:
URL:https://hangar24brewing.com/event/trivia-night-geeks-who-drink-2-2/2030-01-24/
LOCATION:HANGAR 24 BREWING – LAKE HAVASU CITY\, CA
CATEGORIES:Lake Havasu City, CA Events
END:VEVENT
BEGIN:VEVENT
DTSTART;TZID=America/Los_Angeles:20300130T173000
DTEND;TZID=America/Los_Angeles:20300130T193000
DTSTAMP:20260420T181617
CREATED:20251223T204203Z
LAST-MODIFIED:20260220T182628Z
UID:10010956-1896024600-1896031800@hangar24brewing.com
SUMMARY:Bingo Wednesdays!!
DESCRIPTION:
URL:https://hangar24brewing.com/event/bingo-night-2-2/2030-01-30/
LOCATION:HANGAR 24 BREWING – LAKE HAVASU CITY\, CA
CATEGORIES:Lake Havasu City, CA Events
END:VEVENT
BEGIN:VEVENT
DTSTART;TZID=America/Los_Angeles:20300131T180000
DTEND;TZID=America/Los_Angeles:20300131T200000
DTSTAMP:20260420T181617
CREATED:20251223T205854Z
LAST-MODIFIED:20260219T200301Z
UID:10009886-1896112800-1896120000@hangar24brewing.com
SUMMARY:Trivia Thursdays
DESCRIPTION:
URL:https://hangar24brewing.com/event/trivia-night-geeks-who-drink-2-2/2030-01-31/
LOCATION:HANGAR 24 BREWING – LAKE HAVASU CITY\, CA
CATEGORIES:Lake Havasu City, CA Events
END:VEVENT
BEGIN:VEVENT
DTSTART;TZID=America/Los_Angeles:20300206T173000
DTEND;TZID=America/Los_Angeles:20300206T193000
DTSTAMP:20260420T181617
CREATED:20251223T204203Z
LAST-MODIFIED:20260220T182628Z
UID:10010957-1896629400-1896636600@hangar24brewing.com
SUMMARY:Bingo Wednesdays!!
DESCRIPTION:
URL:https://hangar24brewing.com/event/bingo-night-2-2/2030-02-06/
LOCATION:HANGAR 24 BREWING – LAKE HAVASU CITY\, CA
CATEGORIES:Lake Havasu City, CA Events
END:VEVENT
BEGIN:VEVENT
DTSTART;TZID=America/Los_Angeles:20300207T180000
DTEND;TZID=America/Los_Angeles:20300207T200000
DTSTAMP:20260420T181617
CREATED:20251223T205854Z
LAST-MODIFIED:20260219T200301Z
UID:10009887-1896717600-1896724800@hangar24brewing.com
SUMMARY:Trivia Thursdays
DESCRIPTION:
URL:https://hangar24brewing.com/event/trivia-night-geeks-who-drink-2-2/2030-02-07/
LOCATION:HANGAR 24 BREWING – LAKE HAVASU CITY\, CA
CATEGORIES:Lake Havasu City, CA Events
END:VEVENT
BEGIN:VEVENT
DTSTART;TZID=America/Los_Angeles:20300213T173000
DTEND;TZID=America/Los_Angeles:20300213T193000
DTSTAMP:20260420T181617
CREATED:20251223T204203Z
LAST-MODIFIED:20260220T182628Z
UID:10010958-1897234200-1897241400@hangar24brewing.com
SUMMARY:Bingo Wednesdays!!
DESCRIPTION:
URL:https://hangar24brewing.com/event/bingo-night-2-2/2030-02-13/
LOCATION:HANGAR 24 BREWING – LAKE HAVASU CITY\, CA
CATEGORIES:Lake Havasu City, CA Events
END:VEVENT
BEGIN:VEVENT
DTSTART;TZID=America/Los_Angeles:20300214T180000
DTEND;TZID=America/Los_Angeles:20300214T200000
DTSTAMP:20260420T181617
CREATED:20251223T205854Z
LAST-MODIFIED:20260219T200301Z
UID:10009888-1897322400-1897329600@hangar24brewing.com
SUMMARY:Trivia Thursdays
DESCRIPTION:
URL:https://hangar24brewing.com/event/trivia-night-geeks-who-drink-2-2/2030-02-14/
LOCATION:HANGAR 24 BREWING – LAKE HAVASU CITY\, CA
CATEGORIES:Lake Havasu City, CA Events
END:VEVENT
BEGIN:VEVENT
DTSTART;TZID=America/Los_Angeles:20300220T173000
DTEND;TZID=America/Los_Angeles:20300220T193000
DTSTAMP:20260420T181617
CREATED:20251223T204203Z
LAST-MODIFIED:20260220T182628Z
UID:10010959-1897839000-1897846200@hangar24brewing.com
SUMMARY:Bingo Wednesdays!!
DESCRIPTION:
URL:https://hangar24brewing.com/event/bingo-night-2-2/2030-02-20/
LOCATION:HANGAR 24 BREWING – LAKE HAVASU CITY\, CA
CATEGORIES:Lake Havasu City, CA Events
END:VEVENT
BEGIN:VEVENT
DTSTART;TZID=America/Los_Angeles:20300221T180000
DTEND;TZID=America/Los_Angeles:20300221T200000
DTSTAMP:20260420T181617
CREATED:20251223T205854Z
LAST-MODIFIED:20260219T200301Z
UID:10009889-1897927200-1897934400@hangar24brewing.com
SUMMARY:Trivia Thursdays
DESCRIPTION:
URL:https://hangar24brewing.com/event/trivia-night-geeks-who-drink-2-2/2030-02-21/
LOCATION:HANGAR 24 BREWING – LAKE HAVASU CITY\, CA
CATEGORIES:Lake Havasu City, CA Events
END:VEVENT
BEGIN:VEVENT
DTSTART;TZID=America/Los_Angeles:20300227T173000
DTEND;TZID=America/Los_Angeles:20300227T193000
DTSTAMP:20260420T181617
CREATED:20251223T204203Z
LAST-MODIFIED:20260220T182628Z
UID:10010960-1898443800-1898451000@hangar24brewing.com
SUMMARY:Bingo Wednesdays!!
DESCRIPTION:
URL:https://hangar24brewing.com/event/bingo-night-2-2/2030-02-27/
LOCATION:HANGAR 24 BREWING – LAKE HAVASU CITY\, CA
CATEGORIES:Lake Havasu City, CA Events
END:VEVENT
BEGIN:VEVENT
DTSTART;TZID=America/Los_Angeles:20300228T180000
DTEND;TZID=America/Los_Angeles:20300228T200000
DTSTAMP:20260420T181617
CREATED:20251223T205854Z
LAST-MODIFIED:20260219T200301Z
UID:10009890-1898532000-1898539200@hangar24brewing.com
SUMMARY:Trivia Thursdays
DESCRIPTION:
URL:https://hangar24brewing.com/event/trivia-night-geeks-who-drink-2-2/2030-02-28/
LOCATION:HANGAR 24 BREWING – LAKE HAVASU CITY\, CA
CATEGORIES:Lake Havasu City, CA Events
END:VEVENT
BEGIN:VEVENT
DTSTART;TZID=America/Los_Angeles:20300306T173000
DTEND;TZID=America/Los_Angeles:20300306T193000
DTSTAMP:20260420T181617
CREATED:20251223T204203Z
LAST-MODIFIED:20260220T182628Z
UID:10010961-1899048600-1899055800@hangar24brewing.com
SUMMARY:Bingo Wednesdays!!
DESCRIPTION:
URL:https://hangar24brewing.com/event/bingo-night-2-2/2030-03-06/
LOCATION:HANGAR 24 BREWING – LAKE HAVASU CITY\, CA
CATEGORIES:Lake Havasu City, CA Events
END:VEVENT
BEGIN:VEVENT
DTSTART;TZID=America/Los_Angeles:20300307T180000
DTEND;TZID=America/Los_Angeles:20300307T200000
DTSTAMP:20260420T181617
CREATED:20251223T205854Z
LAST-MODIFIED:20260219T200301Z
UID:10009891-1899136800-1899144000@hangar24brewing.com
SUMMARY:Trivia Thursdays
DESCRIPTION:
URL:https://hangar24brewing.com/event/trivia-night-geeks-who-drink-2-2/2030-03-07/
LOCATION:HANGAR 24 BREWING – LAKE HAVASU CITY\, CA
CATEGORIES:Lake Havasu City, CA Events
END:VEVENT
BEGIN:VEVENT
DTSTART;TZID=America/Los_Angeles:20300313T173000
DTEND;TZID=America/Los_Angeles:20300313T193000
DTSTAMP:20260420T181617
CREATED:20251223T204203Z
LAST-MODIFIED:20260220T182628Z
UID:10010962-1899653400-1899660600@hangar24brewing.com
SUMMARY:Bingo Wednesdays!!
DESCRIPTION:
URL:https://hangar24brewing.com/event/bingo-night-2-2/2030-03-13/
LOCATION:HANGAR 24 BREWING – LAKE HAVASU CITY\, CA
CATEGORIES:Lake Havasu City, CA Events
END:VEVENT
BEGIN:VEVENT
DTSTART;TZID=America/Los_Angeles:20300314T180000
DTEND;TZID=America/Los_Angeles:20300314T200000
DTSTAMP:20260420T181617
CREATED:20251223T205854Z
LAST-MODIFIED:20260219T200301Z
UID:10009892-1899741600-1899748800@hangar24brewing.com
SUMMARY:Trivia Thursdays
DESCRIPTION:
URL:https://hangar24brewing.com/event/trivia-night-geeks-who-drink-2-2/2030-03-14/
LOCATION:HANGAR 24 BREWING – LAKE HAVASU CITY\, CA
CATEGORIES:Lake Havasu City, CA Events
END:VEVENT
END:VCALENDAR