BEGIN:VCALENDAR
VERSION:2.0
PRODID:-//Hangar 24 Craft Brewing - ECPv6.15.20//NONSGML v1.0//EN
CALSCALE:GREGORIAN
METHOD:PUBLISH
X-ORIGINAL-URL:https://hangar24brewing.com
X-WR-CALDESC:Events for Hangar 24 Craft Brewing
REFRESH-INTERVAL;VALUE=DURATION:PT1H
X-Robots-Tag:noindex
X-PUBLISHED-TTL:PT1H
BEGIN:VTIMEZONE
TZID:America/Los_Angeles
BEGIN:DAYLIGHT
TZOFFSETFROM:-0800
TZOFFSETTO:-0700
TZNAME:PDT
DTSTART:20290311T100000
END:DAYLIGHT
BEGIN:STANDARD
TZOFFSETFROM:-0700
TZOFFSETTO:-0800
TZNAME:PST
DTSTART:20291104T090000
END:STANDARD
BEGIN:DAYLIGHT
TZOFFSETFROM:-0800
TZOFFSETTO:-0700
TZNAME:PDT
DTSTART:20300310T100000
END:DAYLIGHT
BEGIN:STANDARD
TZOFFSETFROM:-0700
TZOFFSETTO:-0800
TZNAME:PST
DTSTART:20301103T090000
END:STANDARD
BEGIN:DAYLIGHT
TZOFFSETFROM:-0800
TZOFFSETTO:-0700
TZNAME:PDT
DTSTART:20310309T100000
END:DAYLIGHT
BEGIN:STANDARD
TZOFFSETFROM:-0700
TZOFFSETTO:-0800
TZNAME:PST
DTSTART:20311102T090000
END:STANDARD
END:VTIMEZONE
BEGIN:VEVENT
DTSTART;TZID=America/Los_Angeles:20300206T173000
DTEND;TZID=America/Los_Angeles:20300206T193000
DTSTAMP:20260420T070920
CREATED:20251223T204203Z
LAST-MODIFIED:20260220T182628Z
UID:10010957-1896629400-1896636600@hangar24brewing.com
SUMMARY:Bingo Wednesdays!!
DESCRIPTION:
URL:https://hangar24brewing.com/event/bingo-night-2-2/2030-02-06/
LOCATION:HANGAR 24 BREWING – LAKE HAVASU CITY\, CA
CATEGORIES:Lake Havasu City, CA Events
END:VEVENT
BEGIN:VEVENT
DTSTART;TZID=America/Los_Angeles:20300207T180000
DTEND;TZID=America/Los_Angeles:20300207T200000
DTSTAMP:20260420T070920
CREATED:20251223T205854Z
LAST-MODIFIED:20260219T200301Z
UID:10009887-1896717600-1896724800@hangar24brewing.com
SUMMARY:Trivia Thursdays
DESCRIPTION:
URL:https://hangar24brewing.com/event/trivia-night-geeks-who-drink-2-2/2030-02-07/
LOCATION:HANGAR 24 BREWING – LAKE HAVASU CITY\, CA
CATEGORIES:Lake Havasu City, CA Events
END:VEVENT
BEGIN:VEVENT
DTSTART;TZID=America/Los_Angeles:20300213T173000
DTEND;TZID=America/Los_Angeles:20300213T193000
DTSTAMP:20260420T070920
CREATED:20251223T204203Z
LAST-MODIFIED:20260220T182628Z
UID:10010958-1897234200-1897241400@hangar24brewing.com
SUMMARY:Bingo Wednesdays!!
DESCRIPTION:
URL:https://hangar24brewing.com/event/bingo-night-2-2/2030-02-13/
LOCATION:HANGAR 24 BREWING – LAKE HAVASU CITY\, CA
CATEGORIES:Lake Havasu City, CA Events
END:VEVENT
BEGIN:VEVENT
DTSTART;TZID=America/Los_Angeles:20300214T180000
DTEND;TZID=America/Los_Angeles:20300214T200000
DTSTAMP:20260420T070920
CREATED:20251223T205854Z
LAST-MODIFIED:20260219T200301Z
UID:10009888-1897322400-1897329600@hangar24brewing.com
SUMMARY:Trivia Thursdays
DESCRIPTION:
URL:https://hangar24brewing.com/event/trivia-night-geeks-who-drink-2-2/2030-02-14/
LOCATION:HANGAR 24 BREWING – LAKE HAVASU CITY\, CA
CATEGORIES:Lake Havasu City, CA Events
END:VEVENT
BEGIN:VEVENT
DTSTART;TZID=America/Los_Angeles:20300220T173000
DTEND;TZID=America/Los_Angeles:20300220T193000
DTSTAMP:20260420T070920
CREATED:20251223T204203Z
LAST-MODIFIED:20260220T182628Z
UID:10010959-1897839000-1897846200@hangar24brewing.com
SUMMARY:Bingo Wednesdays!!
DESCRIPTION:
URL:https://hangar24brewing.com/event/bingo-night-2-2/2030-02-20/
LOCATION:HANGAR 24 BREWING – LAKE HAVASU CITY\, CA
CATEGORIES:Lake Havasu City, CA Events
END:VEVENT
BEGIN:VEVENT
DTSTART;TZID=America/Los_Angeles:20300221T180000
DTEND;TZID=America/Los_Angeles:20300221T200000
DTSTAMP:20260420T070920
CREATED:20251223T205854Z
LAST-MODIFIED:20260219T200301Z
UID:10009889-1897927200-1897934400@hangar24brewing.com
SUMMARY:Trivia Thursdays
DESCRIPTION:
URL:https://hangar24brewing.com/event/trivia-night-geeks-who-drink-2-2/2030-02-21/
LOCATION:HANGAR 24 BREWING – LAKE HAVASU CITY\, CA
CATEGORIES:Lake Havasu City, CA Events
END:VEVENT
BEGIN:VEVENT
DTSTART;TZID=America/Los_Angeles:20300227T173000
DTEND;TZID=America/Los_Angeles:20300227T193000
DTSTAMP:20260420T070920
CREATED:20251223T204203Z
LAST-MODIFIED:20260220T182628Z
UID:10010960-1898443800-1898451000@hangar24brewing.com
SUMMARY:Bingo Wednesdays!!
DESCRIPTION:
URL:https://hangar24brewing.com/event/bingo-night-2-2/2030-02-27/
LOCATION:HANGAR 24 BREWING – LAKE HAVASU CITY\, CA
CATEGORIES:Lake Havasu City, CA Events
END:VEVENT
BEGIN:VEVENT
DTSTART;TZID=America/Los_Angeles:20300228T180000
DTEND;TZID=America/Los_Angeles:20300228T200000
DTSTAMP:20260420T070920
CREATED:20251223T205854Z
LAST-MODIFIED:20260219T200301Z
UID:10009890-1898532000-1898539200@hangar24brewing.com
SUMMARY:Trivia Thursdays
DESCRIPTION:
URL:https://hangar24brewing.com/event/trivia-night-geeks-who-drink-2-2/2030-02-28/
LOCATION:HANGAR 24 BREWING – LAKE HAVASU CITY\, CA
CATEGORIES:Lake Havasu City, CA Events
END:VEVENT
BEGIN:VEVENT
DTSTART;TZID=America/Los_Angeles:20300306T173000
DTEND;TZID=America/Los_Angeles:20300306T193000
DTSTAMP:20260420T070920
CREATED:20251223T204203Z
LAST-MODIFIED:20260220T182628Z
UID:10010961-1899048600-1899055800@hangar24brewing.com
SUMMARY:Bingo Wednesdays!!
DESCRIPTION:
URL:https://hangar24brewing.com/event/bingo-night-2-2/2030-03-06/
LOCATION:HANGAR 24 BREWING – LAKE HAVASU CITY\, CA
CATEGORIES:Lake Havasu City, CA Events
END:VEVENT
BEGIN:VEVENT
DTSTART;TZID=America/Los_Angeles:20300307T180000
DTEND;TZID=America/Los_Angeles:20300307T200000
DTSTAMP:20260420T070920
CREATED:20251223T205854Z
LAST-MODIFIED:20260219T200301Z
UID:10009891-1899136800-1899144000@hangar24brewing.com
SUMMARY:Trivia Thursdays
DESCRIPTION:
URL:https://hangar24brewing.com/event/trivia-night-geeks-who-drink-2-2/2030-03-07/
LOCATION:HANGAR 24 BREWING – LAKE HAVASU CITY\, CA
CATEGORIES:Lake Havasu City, CA Events
END:VEVENT
BEGIN:VEVENT
DTSTART;TZID=America/Los_Angeles:20300313T173000
DTEND;TZID=America/Los_Angeles:20300313T193000
DTSTAMP:20260420T070920
CREATED:20251223T204203Z
LAST-MODIFIED:20260220T182628Z
UID:10010962-1899653400-1899660600@hangar24brewing.com
SUMMARY:Bingo Wednesdays!!
DESCRIPTION:
URL:https://hangar24brewing.com/event/bingo-night-2-2/2030-03-13/
LOCATION:HANGAR 24 BREWING – LAKE HAVASU CITY\, CA
CATEGORIES:Lake Havasu City, CA Events
END:VEVENT
BEGIN:VEVENT
DTSTART;TZID=America/Los_Angeles:20300314T180000
DTEND;TZID=America/Los_Angeles:20300314T200000
DTSTAMP:20260420T070920
CREATED:20251223T205854Z
LAST-MODIFIED:20260219T200301Z
UID:10009892-1899741600-1899748800@hangar24brewing.com
SUMMARY:Trivia Thursdays
DESCRIPTION:
URL:https://hangar24brewing.com/event/trivia-night-geeks-who-drink-2-2/2030-03-14/
LOCATION:HANGAR 24 BREWING – LAKE HAVASU CITY\, CA
CATEGORIES:Lake Havasu City, CA Events
END:VEVENT
BEGIN:VEVENT
DTSTART;TZID=America/Los_Angeles:20300320T173000
DTEND;TZID=America/Los_Angeles:20300320T193000
DTSTAMP:20260420T070920
CREATED:20251223T204203Z
LAST-MODIFIED:20260220T182628Z
UID:10010963-1900258200-1900265400@hangar24brewing.com
SUMMARY:Bingo Wednesdays!!
DESCRIPTION:
URL:https://hangar24brewing.com/event/bingo-night-2-2/2030-03-20/
LOCATION:HANGAR 24 BREWING – LAKE HAVASU CITY\, CA
CATEGORIES:Lake Havasu City, CA Events
END:VEVENT
BEGIN:VEVENT
DTSTART;TZID=America/Los_Angeles:20300321T180000
DTEND;TZID=America/Los_Angeles:20300321T200000
DTSTAMP:20260420T070920
CREATED:20251223T205854Z
LAST-MODIFIED:20260219T200301Z
UID:10009893-1900346400-1900353600@hangar24brewing.com
SUMMARY:Trivia Thursdays
DESCRIPTION:
URL:https://hangar24brewing.com/event/trivia-night-geeks-who-drink-2-2/2030-03-21/
LOCATION:HANGAR 24 BREWING – LAKE HAVASU CITY\, CA
CATEGORIES:Lake Havasu City, CA Events
END:VEVENT
BEGIN:VEVENT
DTSTART;TZID=America/Los_Angeles:20300327T173000
DTEND;TZID=America/Los_Angeles:20300327T193000
DTSTAMP:20260420T070920
CREATED:20251223T204203Z
LAST-MODIFIED:20260220T182628Z
UID:10010964-1900863000-1900870200@hangar24brewing.com
SUMMARY:Bingo Wednesdays!!
DESCRIPTION:
URL:https://hangar24brewing.com/event/bingo-night-2-2/2030-03-27/
LOCATION:HANGAR 24 BREWING – LAKE HAVASU CITY\, CA
CATEGORIES:Lake Havasu City, CA Events
END:VEVENT
BEGIN:VEVENT
DTSTART;TZID=America/Los_Angeles:20300328T180000
DTEND;TZID=America/Los_Angeles:20300328T200000
DTSTAMP:20260420T070920
CREATED:20251223T205854Z
LAST-MODIFIED:20260219T200301Z
UID:10009894-1900951200-1900958400@hangar24brewing.com
SUMMARY:Trivia Thursdays
DESCRIPTION:
URL:https://hangar24brewing.com/event/trivia-night-geeks-who-drink-2-2/2030-03-28/
LOCATION:HANGAR 24 BREWING – LAKE HAVASU CITY\, CA
CATEGORIES:Lake Havasu City, CA Events
END:VEVENT
BEGIN:VEVENT
DTSTART;TZID=America/Los_Angeles:20300403T173000
DTEND;TZID=America/Los_Angeles:20300403T193000
DTSTAMP:20260420T070920
CREATED:20251223T204203Z
LAST-MODIFIED:20260220T182628Z
UID:10010965-1901467800-1901475000@hangar24brewing.com
SUMMARY:Bingo Wednesdays!!
DESCRIPTION:
URL:https://hangar24brewing.com/event/bingo-night-2-2/2030-04-03/
LOCATION:HANGAR 24 BREWING – LAKE HAVASU CITY\, CA
CATEGORIES:Lake Havasu City, CA Events
END:VEVENT
BEGIN:VEVENT
DTSTART;TZID=America/Los_Angeles:20300404T180000
DTEND;TZID=America/Los_Angeles:20300404T200000
DTSTAMP:20260420T070920
CREATED:20251223T205854Z
LAST-MODIFIED:20260219T200301Z
UID:10009895-1901556000-1901563200@hangar24brewing.com
SUMMARY:Trivia Thursdays
DESCRIPTION:
URL:https://hangar24brewing.com/event/trivia-night-geeks-who-drink-2-2/2030-04-04/
LOCATION:HANGAR 24 BREWING – LAKE HAVASU CITY\, CA
CATEGORIES:Lake Havasu City, CA Events
END:VEVENT
BEGIN:VEVENT
DTSTART;TZID=America/Los_Angeles:20300410T173000
DTEND;TZID=America/Los_Angeles:20300410T193000
DTSTAMP:20260420T070920
CREATED:20251223T204203Z
LAST-MODIFIED:20260220T182628Z
UID:10010966-1902072600-1902079800@hangar24brewing.com
SUMMARY:Bingo Wednesdays!!
DESCRIPTION:
URL:https://hangar24brewing.com/event/bingo-night-2-2/2030-04-10/
LOCATION:HANGAR 24 BREWING – LAKE HAVASU CITY\, CA
CATEGORIES:Lake Havasu City, CA Events
END:VEVENT
BEGIN:VEVENT
DTSTART;TZID=America/Los_Angeles:20300411T180000
DTEND;TZID=America/Los_Angeles:20300411T200000
DTSTAMP:20260420T070920
CREATED:20251223T205854Z
LAST-MODIFIED:20260219T200301Z
UID:10009896-1902160800-1902168000@hangar24brewing.com
SUMMARY:Trivia Thursdays
DESCRIPTION:
URL:https://hangar24brewing.com/event/trivia-night-geeks-who-drink-2-2/2030-04-11/
LOCATION:HANGAR 24 BREWING – LAKE HAVASU CITY\, CA
CATEGORIES:Lake Havasu City, CA Events
END:VEVENT
BEGIN:VEVENT
DTSTART;TZID=America/Los_Angeles:20300417T173000
DTEND;TZID=America/Los_Angeles:20300417T193000
DTSTAMP:20260420T070920
CREATED:20251223T204203Z
LAST-MODIFIED:20260220T182628Z
UID:10010967-1902677400-1902684600@hangar24brewing.com
SUMMARY:Bingo Wednesdays!!
DESCRIPTION:
URL:https://hangar24brewing.com/event/bingo-night-2-2/2030-04-17/
LOCATION:HANGAR 24 BREWING – LAKE HAVASU CITY\, CA
CATEGORIES:Lake Havasu City, CA Events
END:VEVENT
BEGIN:VEVENT
DTSTART;TZID=America/Los_Angeles:20300418T180000
DTEND;TZID=America/Los_Angeles:20300418T200000
DTSTAMP:20260420T070920
CREATED:20251223T205854Z
LAST-MODIFIED:20260219T200301Z
UID:10009897-1902765600-1902772800@hangar24brewing.com
SUMMARY:Trivia Thursdays
DESCRIPTION:
URL:https://hangar24brewing.com/event/trivia-night-geeks-who-drink-2-2/2030-04-18/
LOCATION:HANGAR 24 BREWING – LAKE HAVASU CITY\, CA
CATEGORIES:Lake Havasu City, CA Events
END:VEVENT
BEGIN:VEVENT
DTSTART;TZID=America/Los_Angeles:20300424T173000
DTEND;TZID=America/Los_Angeles:20300424T193000
DTSTAMP:20260420T070920
CREATED:20251223T204203Z
LAST-MODIFIED:20260220T182628Z
UID:10010968-1903282200-1903289400@hangar24brewing.com
SUMMARY:Bingo Wednesdays!!
DESCRIPTION:
URL:https://hangar24brewing.com/event/bingo-night-2-2/2030-04-24/
LOCATION:HANGAR 24 BREWING – LAKE HAVASU CITY\, CA
CATEGORIES:Lake Havasu City, CA Events
END:VEVENT
BEGIN:VEVENT
DTSTART;TZID=America/Los_Angeles:20300425T180000
DTEND;TZID=America/Los_Angeles:20300425T200000
DTSTAMP:20260420T070920
CREATED:20251223T205854Z
LAST-MODIFIED:20260219T200301Z
UID:10009898-1903370400-1903377600@hangar24brewing.com
SUMMARY:Trivia Thursdays
DESCRIPTION:
URL:https://hangar24brewing.com/event/trivia-night-geeks-who-drink-2-2/2030-04-25/
LOCATION:HANGAR 24 BREWING – LAKE HAVASU CITY\, CA
CATEGORIES:Lake Havasu City, CA Events
END:VEVENT
BEGIN:VEVENT
DTSTART;TZID=America/Los_Angeles:20300501T173000
DTEND;TZID=America/Los_Angeles:20300501T193000
DTSTAMP:20260420T070920
CREATED:20251223T204203Z
LAST-MODIFIED:20260220T182628Z
UID:10010969-1903887000-1903894200@hangar24brewing.com
SUMMARY:Bingo Wednesdays!!
DESCRIPTION:
URL:https://hangar24brewing.com/event/bingo-night-2-2/2030-05-01/
LOCATION:HANGAR 24 BREWING – LAKE HAVASU CITY\, CA
CATEGORIES:Lake Havasu City, CA Events
END:VEVENT
BEGIN:VEVENT
DTSTART;TZID=America/Los_Angeles:20300502T180000
DTEND;TZID=America/Los_Angeles:20300502T200000
DTSTAMP:20260420T070920
CREATED:20251223T205854Z
LAST-MODIFIED:20260219T200301Z
UID:10009899-1903975200-1903982400@hangar24brewing.com
SUMMARY:Trivia Thursdays
DESCRIPTION:
URL:https://hangar24brewing.com/event/trivia-night-geeks-who-drink-2-2/2030-05-02/
LOCATION:HANGAR 24 BREWING – LAKE HAVASU CITY\, CA
CATEGORIES:Lake Havasu City, CA Events
END:VEVENT
BEGIN:VEVENT
DTSTART;TZID=America/Los_Angeles:20300508T173000
DTEND;TZID=America/Los_Angeles:20300508T193000
DTSTAMP:20260420T070920
CREATED:20251223T204203Z
LAST-MODIFIED:20260220T182628Z
UID:10010970-1904491800-1904499000@hangar24brewing.com
SUMMARY:Bingo Wednesdays!!
DESCRIPTION:
URL:https://hangar24brewing.com/event/bingo-night-2-2/2030-05-08/
LOCATION:HANGAR 24 BREWING – LAKE HAVASU CITY\, CA
CATEGORIES:Lake Havasu City, CA Events
END:VEVENT
BEGIN:VEVENT
DTSTART;TZID=America/Los_Angeles:20300509T180000
DTEND;TZID=America/Los_Angeles:20300509T200000
DTSTAMP:20260420T070920
CREATED:20251223T205854Z
LAST-MODIFIED:20260219T200301Z
UID:10009900-1904580000-1904587200@hangar24brewing.com
SUMMARY:Trivia Thursdays
DESCRIPTION:
URL:https://hangar24brewing.com/event/trivia-night-geeks-who-drink-2-2/2030-05-09/
LOCATION:HANGAR 24 BREWING – LAKE HAVASU CITY\, CA
CATEGORIES:Lake Havasu City, CA Events
END:VEVENT
BEGIN:VEVENT
DTSTART;TZID=America/Los_Angeles:20300515T173000
DTEND;TZID=America/Los_Angeles:20300515T193000
DTSTAMP:20260420T070920
CREATED:20251223T204203Z
LAST-MODIFIED:20260220T182628Z
UID:10010971-1905096600-1905103800@hangar24brewing.com
SUMMARY:Bingo Wednesdays!!
DESCRIPTION:
URL:https://hangar24brewing.com/event/bingo-night-2-2/2030-05-15/
LOCATION:HANGAR 24 BREWING – LAKE HAVASU CITY\, CA
CATEGORIES:Lake Havasu City, CA Events
END:VEVENT
BEGIN:VEVENT
DTSTART;TZID=America/Los_Angeles:20300516T180000
DTEND;TZID=America/Los_Angeles:20300516T200000
DTSTAMP:20260420T070920
CREATED:20251223T205854Z
LAST-MODIFIED:20260219T200301Z
UID:10009901-1905184800-1905192000@hangar24brewing.com
SUMMARY:Trivia Thursdays
DESCRIPTION:
URL:https://hangar24brewing.com/event/trivia-night-geeks-who-drink-2-2/2030-05-16/
LOCATION:HANGAR 24 BREWING – LAKE HAVASU CITY\, CA
CATEGORIES:Lake Havasu City, CA Events
END:VEVENT
END:VCALENDAR