BEGIN:VCALENDAR
VERSION:2.0
PRODID:-//Hangar 24 Craft Brewing - ECPv6.15.20//NONSGML v1.0//EN
CALSCALE:GREGORIAN
METHOD:PUBLISH
X-WR-CALNAME:Hangar 24 Craft Brewing
X-ORIGINAL-URL:https://hangar24brewing.com
X-WR-CALDESC:Events for Hangar 24 Craft Brewing
REFRESH-INTERVAL;VALUE=DURATION:PT1H
X-Robots-Tag:noindex
X-PUBLISHED-TTL:PT1H
BEGIN:VTIMEZONE
TZID:America/Los_Angeles
BEGIN:DAYLIGHT
TZOFFSETFROM:-0800
TZOFFSETTO:-0700
TZNAME:PDT
DTSTART:20290311T100000
END:DAYLIGHT
BEGIN:STANDARD
TZOFFSETFROM:-0700
TZOFFSETTO:-0800
TZNAME:PST
DTSTART:20291104T090000
END:STANDARD
BEGIN:DAYLIGHT
TZOFFSETFROM:-0800
TZOFFSETTO:-0700
TZNAME:PDT
DTSTART:20300310T100000
END:DAYLIGHT
BEGIN:STANDARD
TZOFFSETFROM:-0700
TZOFFSETTO:-0800
TZNAME:PST
DTSTART:20301103T090000
END:STANDARD
BEGIN:DAYLIGHT
TZOFFSETFROM:-0800
TZOFFSETTO:-0700
TZNAME:PDT
DTSTART:20310309T100000
END:DAYLIGHT
BEGIN:STANDARD
TZOFFSETFROM:-0700
TZOFFSETTO:-0800
TZNAME:PST
DTSTART:20311102T090000
END:STANDARD
END:VTIMEZONE
BEGIN:VEVENT
DTSTART;TZID=America/Los_Angeles:20300626T173000
DTEND;TZID=America/Los_Angeles:20300626T193000
DTSTAMP:20260420T105018
CREATED:20251223T204203Z
LAST-MODIFIED:20260220T182628Z
UID:10010977-1908725400-1908732600@hangar24brewing.com
SUMMARY:Bingo Wednesdays!!
DESCRIPTION:
URL:https://hangar24brewing.com/event/bingo-night-2-2/2030-06-26/
LOCATION:HANGAR 24 BREWING – LAKE HAVASU CITY\, CA
CATEGORIES:Lake Havasu City, CA Events
END:VEVENT
BEGIN:VEVENT
DTSTART;TZID=America/Los_Angeles:20300627T180000
DTEND;TZID=America/Los_Angeles:20300627T200000
DTSTAMP:20260420T105018
CREATED:20251223T205854Z
LAST-MODIFIED:20260219T200301Z
UID:10011005-1908813600-1908820800@hangar24brewing.com
SUMMARY:Trivia Thursdays
DESCRIPTION:
URL:https://hangar24brewing.com/event/trivia-night-geeks-who-drink-2-2/2030-06-27/
LOCATION:HANGAR 24 BREWING – LAKE HAVASU CITY\, CA
CATEGORIES:Lake Havasu City, CA Events
END:VEVENT
BEGIN:VEVENT
DTSTART;TZID=America/Los_Angeles:20300703T173000
DTEND;TZID=America/Los_Angeles:20300703T193000
DTSTAMP:20260420T105018
CREATED:20251223T204203Z
LAST-MODIFIED:20260220T182628Z
UID:10010978-1909330200-1909337400@hangar24brewing.com
SUMMARY:Bingo Wednesdays!!
DESCRIPTION:
URL:https://hangar24brewing.com/event/bingo-night-2-2/2030-07-03/
LOCATION:HANGAR 24 BREWING – LAKE HAVASU CITY\, CA
CATEGORIES:Lake Havasu City, CA Events
END:VEVENT
BEGIN:VEVENT
DTSTART;TZID=America/Los_Angeles:20300704T180000
DTEND;TZID=America/Los_Angeles:20300704T200000
DTSTAMP:20260420T105018
CREATED:20251223T205854Z
LAST-MODIFIED:20260219T200301Z
UID:10011006-1909418400-1909425600@hangar24brewing.com
SUMMARY:Trivia Thursdays
DESCRIPTION:
URL:https://hangar24brewing.com/event/trivia-night-geeks-who-drink-2-2/2030-07-04/
LOCATION:HANGAR 24 BREWING – LAKE HAVASU CITY\, CA
CATEGORIES:Lake Havasu City, CA Events
END:VEVENT
BEGIN:VEVENT
DTSTART;TZID=America/Los_Angeles:20300710T173000
DTEND;TZID=America/Los_Angeles:20300710T193000
DTSTAMP:20260420T105018
CREATED:20251223T204203Z
LAST-MODIFIED:20260220T182628Z
UID:10010979-1909935000-1909942200@hangar24brewing.com
SUMMARY:Bingo Wednesdays!!
DESCRIPTION:
URL:https://hangar24brewing.com/event/bingo-night-2-2/2030-07-10/
LOCATION:HANGAR 24 BREWING – LAKE HAVASU CITY\, CA
CATEGORIES:Lake Havasu City, CA Events
END:VEVENT
BEGIN:VEVENT
DTSTART;TZID=America/Los_Angeles:20300711T180000
DTEND;TZID=America/Los_Angeles:20300711T200000
DTSTAMP:20260420T105018
CREATED:20251223T205854Z
LAST-MODIFIED:20260219T200301Z
UID:10011007-1910023200-1910030400@hangar24brewing.com
SUMMARY:Trivia Thursdays
DESCRIPTION:
URL:https://hangar24brewing.com/event/trivia-night-geeks-who-drink-2-2/2030-07-11/
LOCATION:HANGAR 24 BREWING – LAKE HAVASU CITY\, CA
CATEGORIES:Lake Havasu City, CA Events
END:VEVENT
BEGIN:VEVENT
DTSTART;TZID=America/Los_Angeles:20300717T173000
DTEND;TZID=America/Los_Angeles:20300717T193000
DTSTAMP:20260420T105018
CREATED:20251223T204203Z
LAST-MODIFIED:20260220T182628Z
UID:10010980-1910539800-1910547000@hangar24brewing.com
SUMMARY:Bingo Wednesdays!!
DESCRIPTION:
URL:https://hangar24brewing.com/event/bingo-night-2-2/2030-07-17/
LOCATION:HANGAR 24 BREWING – LAKE HAVASU CITY\, CA
CATEGORIES:Lake Havasu City, CA Events
END:VEVENT
BEGIN:VEVENT
DTSTART;TZID=America/Los_Angeles:20300718T180000
DTEND;TZID=America/Los_Angeles:20300718T200000
DTSTAMP:20260420T105018
CREATED:20251223T205854Z
LAST-MODIFIED:20260219T200301Z
UID:10011008-1910628000-1910635200@hangar24brewing.com
SUMMARY:Trivia Thursdays
DESCRIPTION:
URL:https://hangar24brewing.com/event/trivia-night-geeks-who-drink-2-2/2030-07-18/
LOCATION:HANGAR 24 BREWING – LAKE HAVASU CITY\, CA
CATEGORIES:Lake Havasu City, CA Events
END:VEVENT
BEGIN:VEVENT
DTSTART;TZID=America/Los_Angeles:20300724T173000
DTEND;TZID=America/Los_Angeles:20300724T193000
DTSTAMP:20260420T105018
CREATED:20251223T204203Z
LAST-MODIFIED:20260220T182628Z
UID:10010981-1911144600-1911151800@hangar24brewing.com
SUMMARY:Bingo Wednesdays!!
DESCRIPTION:
URL:https://hangar24brewing.com/event/bingo-night-2-2/2030-07-24/
LOCATION:HANGAR 24 BREWING – LAKE HAVASU CITY\, CA
CATEGORIES:Lake Havasu City, CA Events
END:VEVENT
BEGIN:VEVENT
DTSTART;TZID=America/Los_Angeles:20300725T180000
DTEND;TZID=America/Los_Angeles:20300725T200000
DTSTAMP:20260420T105018
CREATED:20251223T205854Z
LAST-MODIFIED:20260219T200301Z
UID:10011009-1911232800-1911240000@hangar24brewing.com
SUMMARY:Trivia Thursdays
DESCRIPTION:
URL:https://hangar24brewing.com/event/trivia-night-geeks-who-drink-2-2/2030-07-25/
LOCATION:HANGAR 24 BREWING – LAKE HAVASU CITY\, CA
CATEGORIES:Lake Havasu City, CA Events
END:VEVENT
BEGIN:VEVENT
DTSTART;TZID=America/Los_Angeles:20300731T173000
DTEND;TZID=America/Los_Angeles:20300731T193000
DTSTAMP:20260420T105018
CREATED:20251223T204203Z
LAST-MODIFIED:20260220T182628Z
UID:10010982-1911749400-1911756600@hangar24brewing.com
SUMMARY:Bingo Wednesdays!!
DESCRIPTION:
URL:https://hangar24brewing.com/event/bingo-night-2-2/2030-07-31/
LOCATION:HANGAR 24 BREWING – LAKE HAVASU CITY\, CA
CATEGORIES:Lake Havasu City, CA Events
END:VEVENT
BEGIN:VEVENT
DTSTART;TZID=America/Los_Angeles:20300801T180000
DTEND;TZID=America/Los_Angeles:20300801T200000
DTSTAMP:20260420T105018
CREATED:20251223T205854Z
LAST-MODIFIED:20260219T200301Z
UID:10011010-1911837600-1911844800@hangar24brewing.com
SUMMARY:Trivia Thursdays
DESCRIPTION:
URL:https://hangar24brewing.com/event/trivia-night-geeks-who-drink-2-2/2030-08-01/
LOCATION:HANGAR 24 BREWING – LAKE HAVASU CITY\, CA
CATEGORIES:Lake Havasu City, CA Events
END:VEVENT
BEGIN:VEVENT
DTSTART;TZID=America/Los_Angeles:20300807T173000
DTEND;TZID=America/Los_Angeles:20300807T193000
DTSTAMP:20260420T105018
CREATED:20251223T204203Z
LAST-MODIFIED:20260220T182628Z
UID:10010983-1912354200-1912361400@hangar24brewing.com
SUMMARY:Bingo Wednesdays!!
DESCRIPTION:
URL:https://hangar24brewing.com/event/bingo-night-2-2/2030-08-07/
LOCATION:HANGAR 24 BREWING – LAKE HAVASU CITY\, CA
CATEGORIES:Lake Havasu City, CA Events
END:VEVENT
BEGIN:VEVENT
DTSTART;TZID=America/Los_Angeles:20300808T180000
DTEND;TZID=America/Los_Angeles:20300808T200000
DTSTAMP:20260420T105018
CREATED:20251223T205854Z
LAST-MODIFIED:20260219T200301Z
UID:10011011-1912442400-1912449600@hangar24brewing.com
SUMMARY:Trivia Thursdays
DESCRIPTION:
URL:https://hangar24brewing.com/event/trivia-night-geeks-who-drink-2-2/2030-08-08/
LOCATION:HANGAR 24 BREWING – LAKE HAVASU CITY\, CA
CATEGORIES:Lake Havasu City, CA Events
END:VEVENT
BEGIN:VEVENT
DTSTART;TZID=America/Los_Angeles:20300814T173000
DTEND;TZID=America/Los_Angeles:20300814T193000
DTSTAMP:20260420T105018
CREATED:20251223T204203Z
LAST-MODIFIED:20260220T182628Z
UID:10010984-1912959000-1912966200@hangar24brewing.com
SUMMARY:Bingo Wednesdays!!
DESCRIPTION:
URL:https://hangar24brewing.com/event/bingo-night-2-2/2030-08-14/
LOCATION:HANGAR 24 BREWING – LAKE HAVASU CITY\, CA
CATEGORIES:Lake Havasu City, CA Events
END:VEVENT
BEGIN:VEVENT
DTSTART;TZID=America/Los_Angeles:20300815T180000
DTEND;TZID=America/Los_Angeles:20300815T200000
DTSTAMP:20260420T105018
CREATED:20251223T205854Z
LAST-MODIFIED:20260219T200301Z
UID:10011012-1913047200-1913054400@hangar24brewing.com
SUMMARY:Trivia Thursdays
DESCRIPTION:
URL:https://hangar24brewing.com/event/trivia-night-geeks-who-drink-2-2/2030-08-15/
LOCATION:HANGAR 24 BREWING – LAKE HAVASU CITY\, CA
CATEGORIES:Lake Havasu City, CA Events
END:VEVENT
BEGIN:VEVENT
DTSTART;TZID=America/Los_Angeles:20300821T173000
DTEND;TZID=America/Los_Angeles:20300821T193000
DTSTAMP:20260420T105018
CREATED:20251223T204203Z
LAST-MODIFIED:20260220T182628Z
UID:10010985-1913563800-1913571000@hangar24brewing.com
SUMMARY:Bingo Wednesdays!!
DESCRIPTION:
URL:https://hangar24brewing.com/event/bingo-night-2-2/2030-08-21/
LOCATION:HANGAR 24 BREWING – LAKE HAVASU CITY\, CA
CATEGORIES:Lake Havasu City, CA Events
END:VEVENT
BEGIN:VEVENT
DTSTART;TZID=America/Los_Angeles:20300822T180000
DTEND;TZID=America/Los_Angeles:20300822T200000
DTSTAMP:20260420T105018
CREATED:20251223T205854Z
LAST-MODIFIED:20260219T200301Z
UID:10011013-1913652000-1913659200@hangar24brewing.com
SUMMARY:Trivia Thursdays
DESCRIPTION:
URL:https://hangar24brewing.com/event/trivia-night-geeks-who-drink-2-2/2030-08-22/
LOCATION:HANGAR 24 BREWING – LAKE HAVASU CITY\, CA
CATEGORIES:Lake Havasu City, CA Events
END:VEVENT
BEGIN:VEVENT
DTSTART;TZID=America/Los_Angeles:20300828T173000
DTEND;TZID=America/Los_Angeles:20300828T193000
DTSTAMP:20260420T105018
CREATED:20251223T204203Z
LAST-MODIFIED:20260220T182628Z
UID:10010986-1914168600-1914175800@hangar24brewing.com
SUMMARY:Bingo Wednesdays!!
DESCRIPTION:
URL:https://hangar24brewing.com/event/bingo-night-2-2/2030-08-28/
LOCATION:HANGAR 24 BREWING – LAKE HAVASU CITY\, CA
CATEGORIES:Lake Havasu City, CA Events
END:VEVENT
BEGIN:VEVENT
DTSTART;TZID=America/Los_Angeles:20300829T180000
DTEND;TZID=America/Los_Angeles:20300829T200000
DTSTAMP:20260420T105018
CREATED:20251223T205854Z
LAST-MODIFIED:20260219T200301Z
UID:10011014-1914256800-1914264000@hangar24brewing.com
SUMMARY:Trivia Thursdays
DESCRIPTION:
URL:https://hangar24brewing.com/event/trivia-night-geeks-who-drink-2-2/2030-08-29/
LOCATION:HANGAR 24 BREWING – LAKE HAVASU CITY\, CA
CATEGORIES:Lake Havasu City, CA Events
END:VEVENT
BEGIN:VEVENT
DTSTART;TZID=America/Los_Angeles:20300904T173000
DTEND;TZID=America/Los_Angeles:20300904T193000
DTSTAMP:20260420T105018
CREATED:20251223T204203Z
LAST-MODIFIED:20260220T182628Z
UID:10010987-1914773400-1914780600@hangar24brewing.com
SUMMARY:Bingo Wednesdays!!
DESCRIPTION:
URL:https://hangar24brewing.com/event/bingo-night-2-2/2030-09-04/
LOCATION:HANGAR 24 BREWING – LAKE HAVASU CITY\, CA
CATEGORIES:Lake Havasu City, CA Events
END:VEVENT
BEGIN:VEVENT
DTSTART;TZID=America/Los_Angeles:20300905T180000
DTEND;TZID=America/Los_Angeles:20300905T200000
DTSTAMP:20260420T105018
CREATED:20251223T205854Z
LAST-MODIFIED:20260219T200301Z
UID:10011015-1914861600-1914868800@hangar24brewing.com
SUMMARY:Trivia Thursdays
DESCRIPTION:
URL:https://hangar24brewing.com/event/trivia-night-geeks-who-drink-2-2/2030-09-05/
LOCATION:HANGAR 24 BREWING – LAKE HAVASU CITY\, CA
CATEGORIES:Lake Havasu City, CA Events
END:VEVENT
BEGIN:VEVENT
DTSTART;TZID=America/Los_Angeles:20300911T173000
DTEND;TZID=America/Los_Angeles:20300911T193000
DTSTAMP:20260420T105018
CREATED:20251223T204203Z
LAST-MODIFIED:20260220T182628Z
UID:10010988-1915378200-1915385400@hangar24brewing.com
SUMMARY:Bingo Wednesdays!!
DESCRIPTION:
URL:https://hangar24brewing.com/event/bingo-night-2-2/2030-09-11/
LOCATION:HANGAR 24 BREWING – LAKE HAVASU CITY\, CA
CATEGORIES:Lake Havasu City, CA Events
END:VEVENT
BEGIN:VEVENT
DTSTART;TZID=America/Los_Angeles:20300912T180000
DTEND;TZID=America/Los_Angeles:20300912T200000
DTSTAMP:20260420T105018
CREATED:20251223T205854Z
LAST-MODIFIED:20260219T200301Z
UID:10011016-1915466400-1915473600@hangar24brewing.com
SUMMARY:Trivia Thursdays
DESCRIPTION:
URL:https://hangar24brewing.com/event/trivia-night-geeks-who-drink-2-2/2030-09-12/
LOCATION:HANGAR 24 BREWING – LAKE HAVASU CITY\, CA
CATEGORIES:Lake Havasu City, CA Events
END:VEVENT
BEGIN:VEVENT
DTSTART;TZID=America/Los_Angeles:20300918T173000
DTEND;TZID=America/Los_Angeles:20300918T193000
DTSTAMP:20260420T105018
CREATED:20251223T204203Z
LAST-MODIFIED:20260220T182628Z
UID:10010989-1915983000-1915990200@hangar24brewing.com
SUMMARY:Bingo Wednesdays!!
DESCRIPTION:
URL:https://hangar24brewing.com/event/bingo-night-2-2/2030-09-18/
LOCATION:HANGAR 24 BREWING – LAKE HAVASU CITY\, CA
CATEGORIES:Lake Havasu City, CA Events
END:VEVENT
BEGIN:VEVENT
DTSTART;TZID=America/Los_Angeles:20300919T180000
DTEND;TZID=America/Los_Angeles:20300919T200000
DTSTAMP:20260420T105018
CREATED:20251223T205854Z
LAST-MODIFIED:20260219T200301Z
UID:10011017-1916071200-1916078400@hangar24brewing.com
SUMMARY:Trivia Thursdays
DESCRIPTION:
URL:https://hangar24brewing.com/event/trivia-night-geeks-who-drink-2-2/2030-09-19/
LOCATION:HANGAR 24 BREWING – LAKE HAVASU CITY\, CA
CATEGORIES:Lake Havasu City, CA Events
END:VEVENT
BEGIN:VEVENT
DTSTART;TZID=America/Los_Angeles:20300925T173000
DTEND;TZID=America/Los_Angeles:20300925T193000
DTSTAMP:20260420T105018
CREATED:20251223T204203Z
LAST-MODIFIED:20260220T182628Z
UID:10010990-1916587800-1916595000@hangar24brewing.com
SUMMARY:Bingo Wednesdays!!
DESCRIPTION:
URL:https://hangar24brewing.com/event/bingo-night-2-2/2030-09-25/
LOCATION:HANGAR 24 BREWING – LAKE HAVASU CITY\, CA
CATEGORIES:Lake Havasu City, CA Events
END:VEVENT
BEGIN:VEVENT
DTSTART;TZID=America/Los_Angeles:20300926T180000
DTEND;TZID=America/Los_Angeles:20300926T200000
DTSTAMP:20260420T105018
CREATED:20251223T205854Z
LAST-MODIFIED:20260219T200301Z
UID:10011018-1916676000-1916683200@hangar24brewing.com
SUMMARY:Trivia Thursdays
DESCRIPTION:
URL:https://hangar24brewing.com/event/trivia-night-geeks-who-drink-2-2/2030-09-26/
LOCATION:HANGAR 24 BREWING – LAKE HAVASU CITY\, CA
CATEGORIES:Lake Havasu City, CA Events
END:VEVENT
BEGIN:VEVENT
DTSTART;TZID=America/Los_Angeles:20301002T173000
DTEND;TZID=America/Los_Angeles:20301002T193000
DTSTAMP:20260420T105018
CREATED:20251223T204203Z
LAST-MODIFIED:20260220T182628Z
UID:10010991-1917192600-1917199800@hangar24brewing.com
SUMMARY:Bingo Wednesdays!!
DESCRIPTION:
URL:https://hangar24brewing.com/event/bingo-night-2-2/2030-10-02/
LOCATION:HANGAR 24 BREWING – LAKE HAVASU CITY\, CA
CATEGORIES:Lake Havasu City, CA Events
END:VEVENT
BEGIN:VEVENT
DTSTART;TZID=America/Los_Angeles:20301003T180000
DTEND;TZID=America/Los_Angeles:20301003T200000
DTSTAMP:20260420T105018
CREATED:20251223T205854Z
LAST-MODIFIED:20260219T200301Z
UID:10011019-1917280800-1917288000@hangar24brewing.com
SUMMARY:Trivia Thursdays
DESCRIPTION:
URL:https://hangar24brewing.com/event/trivia-night-geeks-who-drink-2-2/2030-10-03/
LOCATION:HANGAR 24 BREWING – LAKE HAVASU CITY\, CA
CATEGORIES:Lake Havasu City, CA Events
END:VEVENT
END:VCALENDAR