BEGIN:VCALENDAR
VERSION:2.0
PRODID:-//Hangar 24 Craft Brewing - ECPv6.15.20//NONSGML v1.0//EN
CALSCALE:GREGORIAN
METHOD:PUBLISH
X-ORIGINAL-URL:https://hangar24brewing.com
X-WR-CALDESC:Events for Hangar 24 Craft Brewing
REFRESH-INTERVAL;VALUE=DURATION:PT1H
X-Robots-Tag:noindex
X-PUBLISHED-TTL:PT1H
BEGIN:VTIMEZONE
TZID:America/Los_Angeles
BEGIN:DAYLIGHT
TZOFFSETFROM:-0800
TZOFFSETTO:-0700
TZNAME:PDT
DTSTART:20240310T100000
END:DAYLIGHT
BEGIN:STANDARD
TZOFFSETFROM:-0700
TZOFFSETTO:-0800
TZNAME:PST
DTSTART:20241103T090000
END:STANDARD
BEGIN:DAYLIGHT
TZOFFSETFROM:-0800
TZOFFSETTO:-0700
TZNAME:PDT
DTSTART:20250309T100000
END:DAYLIGHT
BEGIN:STANDARD
TZOFFSETFROM:-0700
TZOFFSETTO:-0800
TZNAME:PST
DTSTART:20251102T090000
END:STANDARD
BEGIN:DAYLIGHT
TZOFFSETFROM:-0800
TZOFFSETTO:-0700
TZNAME:PDT
DTSTART:20260308T100000
END:DAYLIGHT
BEGIN:STANDARD
TZOFFSETFROM:-0700
TZOFFSETTO:-0800
TZNAME:PST
DTSTART:20261101T090000
END:STANDARD
END:VTIMEZONE
BEGIN:VEVENT
DTSTART;VALUE=DATE:20250901
DTEND;VALUE=DATE:20250902
DTSTAMP:20260421T054426
CREATED:20250814T004039Z
LAST-MODIFIED:20250814T004039Z
UID:10010024-1756684800-1756771199@hangar24brewing.com
SUMMARY:Labor Day!
DESCRIPTION:
URL:https://hangar24brewing.com/event/labor-day-2/
LOCATION:HANGAR 24 BREWING – ORANGE COUNTY\, CA
CATEGORIES:Orange County, CA Events
END:VEVENT
BEGIN:VEVENT
DTSTART;TZID=America/Los_Angeles:20250903T170000
DTEND;TZID=America/Los_Angeles:20250903T200000
DTSTAMP:20260421T054426
CREATED:20250814T002617Z
LAST-MODIFIED:20250822T085312Z
UID:10010012-1756918800-1756929600@hangar24brewing.com
SUMMARY:James Alexander
DESCRIPTION:
URL:https://hangar24brewing.com/event/james-alexander-40/
LOCATION:HANGAR 24 BREWING – ORANGE COUNTY\, CA
CATEGORIES:Orange County, CA Events
END:VEVENT
BEGIN:VEVENT
DTSTART;TZID=America/Los_Angeles:20250904T160000
DTEND;TZID=America/Los_Angeles:20250904T193000
DTSTAMP:20260421T054426
CREATED:20250825T071655Z
LAST-MODIFIED:20250825T071655Z
UID:10010088-1757001600-1757014200@hangar24brewing.com
SUMMARY:Satisfaction (Rolling Stones Tribute)
DESCRIPTION:
URL:https://hangar24brewing.com/event/satisfaction-rolling-stones-tribute/
LOCATION:HANGAR 24 BREWING – ORANGE COUNTY\, CA
CATEGORIES:Orange County, CA Events
END:VEVENT
BEGIN:VEVENT
DTSTART;TZID=America/Los_Angeles:20250905T180000
DTEND;TZID=America/Los_Angeles:20250905T210000
DTSTAMP:20260421T054426
CREATED:20250806T165118Z
LAST-MODIFIED:20250806T165118Z
UID:10009958-1757095200-1757106000@hangar24brewing.com
SUMMARY:Westward Sons
DESCRIPTION:
URL:https://hangar24brewing.com/event/westward-sons-6/
LOCATION:HANGAR 24 BREWING – ORANGE COUNTY\, CA
CATEGORIES:Orange County, CA Events
END:VEVENT
BEGIN:VEVENT
DTSTART;TZID=America/Los_Angeles:20250906T180000
DTEND;TZID=America/Los_Angeles:20250906T210000
DTSTAMP:20260421T054426
CREATED:20250806T165045Z
LAST-MODIFIED:20250806T165045Z
UID:10009957-1757181600-1757192400@hangar24brewing.com
SUMMARY:Flashback Heart Attack (80s cover band)
DESCRIPTION:
URL:https://hangar24brewing.com/event/flashback-heart-attack-80s-cover-band/
LOCATION:HANGAR 24 BREWING – ORANGE COUNTY\, CA
CATEGORIES:Orange County, CA Events
END:VEVENT
BEGIN:VEVENT
DTSTART;TZID=America/Los_Angeles:20250907T120000
DTEND;TZID=America/Los_Angeles:20250907T150000
DTSTAMP:20260421T054426
CREATED:20250814T001803Z
LAST-MODIFIED:20250814T001803Z
UID:10010004-1757246400-1757257200@hangar24brewing.com
SUMMARY:The Real Deal (cover band)
DESCRIPTION:
URL:https://hangar24brewing.com/event/the-real-deal-cover-band-2/
LOCATION:HANGAR 24 BREWING – ORANGE COUNTY\, CA
CATEGORIES:Orange County, CA Events
END:VEVENT
BEGIN:VEVENT
DTSTART;TZID=America/Los_Angeles:20250909T170000
DTEND;TZID=America/Los_Angeles:20250909T210000
DTSTAMP:20260421T054426
CREATED:20250814T001833Z
LAST-MODIFIED:20250814T001833Z
UID:10010005-1757437200-1757451600@hangar24brewing.com
SUMMARY:Swing & Jive Night
DESCRIPTION:
URL:https://hangar24brewing.com/event/swing-jive-night-5/
LOCATION:HANGAR 24 BREWING – ORANGE COUNTY\, CA
CATEGORIES:Orange County, CA Events
END:VEVENT
BEGIN:VEVENT
DTSTART;TZID=America/Los_Angeles:20250910T170000
DTEND;TZID=America/Los_Angeles:20250910T200000
DTSTAMP:20260421T054426
CREATED:20250814T001941Z
LAST-MODIFIED:20250814T001941Z
UID:10010006-1757523600-1757534400@hangar24brewing.com
SUMMARY:Sophia Rollando
DESCRIPTION:
URL:https://hangar24brewing.com/event/sophia-rollando-3/
CATEGORIES:Orange County, CA Events
END:VEVENT
BEGIN:VEVENT
DTSTART;TZID=America/Los_Angeles:20250912T180000
DTEND;TZID=America/Los_Angeles:20250912T210000
DTSTAMP:20260421T054426
CREATED:20250814T002004Z
LAST-MODIFIED:20250814T002004Z
UID:10010007-1757700000-1757710800@hangar24brewing.com
SUMMARY:Cillian's Bridge
DESCRIPTION:
URL:https://hangar24brewing.com/event/cillians-bridge-23/
LOCATION:HANGAR 24 BREWING – ORANGE COUNTY\, CA
CATEGORIES:Orange County, CA Events
END:VEVENT
BEGIN:VEVENT
DTSTART;TZID=America/Los_Angeles:20250913T180000
DTEND;TZID=America/Los_Angeles:20250913T210000
DTSTAMP:20260421T054426
CREATED:20250814T002044Z
LAST-MODIFIED:20250814T002044Z
UID:10010008-1757786400-1757797200@hangar24brewing.com
SUMMARY:Red Hot Tribute (Red Hot Chili Peppers cover band)
DESCRIPTION:
URL:https://hangar24brewing.com/event/red-hot-tribute-red-hot-chili-peppers-cover-band/
LOCATION:HANGAR 24 BREWING – ORANGE COUNTY\, CA
CATEGORIES:Orange County, CA Events
END:VEVENT
BEGIN:VEVENT
DTSTART;TZID=America/Los_Angeles:20250914T120000
DTEND;TZID=America/Los_Angeles:20250914T150000
DTSTAMP:20260421T054426
CREATED:20250814T002136Z
LAST-MODIFIED:20250814T002136Z
UID:10010010-1757851200-1757862000@hangar24brewing.com
SUMMARY:The Broughams
DESCRIPTION:
URL:https://hangar24brewing.com/event/the-broughams-6/
LOCATION:HANGAR 24 BREWING – ORANGE COUNTY\, CA
CATEGORIES:Orange County, CA Events
END:VEVENT
BEGIN:VEVENT
DTSTART;TZID=America/Los_Angeles:20250916T170000
DTEND;TZID=America/Los_Angeles:20250916T200000
DTSTAMP:20260421T054426
CREATED:20250814T002537Z
LAST-MODIFIED:20250814T002537Z
UID:10010011-1758042000-1758052800@hangar24brewing.com
SUMMARY:Country Dance Night
DESCRIPTION:
URL:https://hangar24brewing.com/event/country-dance-night-24/
LOCATION:HANGAR 24 BREWING – ORANGE COUNTY\, CA
CATEGORIES:Orange County, CA Events
END:VEVENT
BEGIN:VEVENT
DTSTART;TZID=America/Los_Angeles:20250917T180000
DTEND;TZID=America/Los_Angeles:20250917T210000
DTSTAMP:20260421T054426
CREATED:20250814T001714Z
LAST-MODIFIED:20250822T085341Z
UID:10010003-1758132000-1758142800@hangar24brewing.com
SUMMARY:Mike Silvestri
DESCRIPTION:
URL:https://hangar24brewing.com/event/mike-silvestri-16/
LOCATION:HANGAR 24 BREWING – ORANGE COUNTY\, CA
CATEGORIES:Orange County, CA Events
END:VEVENT
BEGIN:VEVENT
DTSTART;TZID=America/Los_Angeles:20250918T170000
DTEND;TZID=America/Los_Angeles:20250918T200000
DTSTAMP:20260421T054426
CREATED:20250814T002649Z
LAST-MODIFIED:20250814T002649Z
UID:10010013-1758214800-1758225600@hangar24brewing.com
SUMMARY:Pure Barre Pop-Up
DESCRIPTION:
URL:https://hangar24brewing.com/event/pure-barre-pop-up/
LOCATION:HANGAR 24 BREWING – ORANGE COUNTY\, CA
CATEGORIES:Orange County, CA Events
END:VEVENT
BEGIN:VEVENT
DTSTART;TZID=America/Los_Angeles:20250920T180000
DTEND;TZID=America/Los_Angeles:20250920T210000
DTSTAMP:20260421T054426
CREATED:20250814T002747Z
LAST-MODIFIED:20250814T002747Z
UID:10010015-1758391200-1758402000@hangar24brewing.com
SUMMARY:Tijuana Dogs
DESCRIPTION:
URL:https://hangar24brewing.com/event/tijuana-dogs-8/
LOCATION:HANGAR 24 BREWING – ORANGE COUNTY\, CA
CATEGORIES:Orange County, CA Events
END:VEVENT
BEGIN:VEVENT
DTSTART;TZID=America/Los_Angeles:20250923T170000
DTEND;TZID=America/Los_Angeles:20250923T210000
DTSTAMP:20260421T054426
CREATED:20250814T002844Z
LAST-MODIFIED:20250814T002844Z
UID:10010017-1758646800-1758661200@hangar24brewing.com
SUMMARY:Swing & Jive Night
DESCRIPTION:
URL:https://hangar24brewing.com/event/swing-jive-night-6/
LOCATION:HANGAR 24 BREWING – ORANGE COUNTY\, CA
CATEGORIES:Orange County, CA Events
END:VEVENT
BEGIN:VEVENT
DTSTART;TZID=America/Los_Angeles:20250924T170000
DTEND;TZID=America/Los_Angeles:20250924T200000
DTSTAMP:20260421T054426
CREATED:20250814T002908Z
LAST-MODIFIED:20250814T002908Z
UID:10010018-1758733200-1758744000@hangar24brewing.com
SUMMARY:Jimmy Becker
DESCRIPTION:
URL:https://hangar24brewing.com/event/jimmy-becker-25/
LOCATION:HANGAR 24 BREWING – ORANGE COUNTY\, CA
CATEGORIES:Orange County, CA Events
END:VEVENT
BEGIN:VEVENT
DTSTART;TZID=America/Los_Angeles:20250926T180000
DTEND;TZID=America/Los_Angeles:20250926T210000
DTSTAMP:20260421T054426
CREATED:20250814T003435Z
LAST-MODIFIED:20250814T003435Z
UID:10010019-1758909600-1758920400@hangar24brewing.com
SUMMARY:Mike Staggs & The Soul Band
DESCRIPTION:
URL:https://hangar24brewing.com/event/mike-staggs-the-soul-band-9/
LOCATION:HANGAR 24 BREWING – ORANGE COUNTY\, CA
CATEGORIES:Orange County, CA Events
END:VEVENT
BEGIN:VEVENT
DTSTART;TZID=America/Los_Angeles:20250927T180000
DTEND;TZID=America/Los_Angeles:20250927T210000
DTSTAMP:20260421T054426
CREATED:20250814T003510Z
LAST-MODIFIED:20250814T003510Z
UID:10010020-1758996000-1759006800@hangar24brewing.com
SUMMARY:Sega Genecide
DESCRIPTION:
URL:https://hangar24brewing.com/event/sega-genecide-14/
LOCATION:HANGAR 24 BREWING – ORANGE COUNTY\, CA
CATEGORIES:Orange County, CA Events
END:VEVENT
BEGIN:VEVENT
DTSTART;TZID=America/Los_Angeles:20250928T120000
DTEND;TZID=America/Los_Angeles:20250928T150000
DTSTAMP:20260421T054426
CREATED:20250814T003640Z
LAST-MODIFIED:20250814T003640Z
UID:10010021-1759060800-1759071600@hangar24brewing.com
SUMMARY:Groove Session
DESCRIPTION:
URL:https://hangar24brewing.com/event/groove-session/
LOCATION:HANGAR 24 BREWING – ORANGE COUNTY\, CA
CATEGORIES:Orange County, CA Events
END:VEVENT
BEGIN:VEVENT
DTSTART;TZID=America/Los_Angeles:20250930T170000
DTEND;TZID=America/Los_Angeles:20250930T210000
DTSTAMP:20260421T054426
CREATED:20250814T003704Z
LAST-MODIFIED:20250814T003704Z
UID:10010022-1759251600-1759266000@hangar24brewing.com
SUMMARY:Swing & Jive Night
DESCRIPTION:
URL:https://hangar24brewing.com/event/swing-jive-night-7/
LOCATION:HANGAR 24 BREWING – ORANGE COUNTY\, CA
CATEGORIES:Orange County, CA Events
END:VEVENT
END:VCALENDAR