BEGIN:VCALENDAR
VERSION:2.0
PRODID:-//Hangar 24 Craft Brewing - ECPv6.15.20//NONSGML v1.0//EN
CALSCALE:GREGORIAN
METHOD:PUBLISH
X-WR-CALNAME:Hangar 24 Craft Brewing
X-ORIGINAL-URL:https://hangar24brewing.com
X-WR-CALDESC:Events for Hangar 24 Craft Brewing
REFRESH-INTERVAL;VALUE=DURATION:PT1H
X-Robots-Tag:noindex
X-PUBLISHED-TTL:PT1H
BEGIN:VTIMEZONE
TZID:America/Los_Angeles
BEGIN:DAYLIGHT
TZOFFSETFROM:-0800
TZOFFSETTO:-0700
TZNAME:PDT
DTSTART:20250309T100000
END:DAYLIGHT
BEGIN:STANDARD
TZOFFSETFROM:-0700
TZOFFSETTO:-0800
TZNAME:PST
DTSTART:20251102T090000
END:STANDARD
BEGIN:DAYLIGHT
TZOFFSETFROM:-0800
TZOFFSETTO:-0700
TZNAME:PDT
DTSTART:20260308T100000
END:DAYLIGHT
BEGIN:STANDARD
TZOFFSETFROM:-0700
TZOFFSETTO:-0800
TZNAME:PST
DTSTART:20261101T090000
END:STANDARD
BEGIN:DAYLIGHT
TZOFFSETFROM:-0800
TZOFFSETTO:-0700
TZNAME:PDT
DTSTART:20270314T100000
END:DAYLIGHT
BEGIN:STANDARD
TZOFFSETFROM:-0700
TZOFFSETTO:-0800
TZNAME:PST
DTSTART:20271107T090000
END:STANDARD
END:VTIMEZONE
BEGIN:VEVENT
DTSTART;TZID=America/Los_Angeles:20260301T120000
DTEND;TZID=America/Los_Angeles:20260301T150000
DTSTAMP:20260421T015719
CREATED:20260211T040231Z
LAST-MODIFIED:20260211T103404Z
UID:10012653-1772366400-1772377200@hangar24brewing.com
SUMMARY:Babylon Rockers
DESCRIPTION:
URL:https://hangar24brewing.com/event/babylon-rockers-21/2026-03-01/
LOCATION:HANGAR 24 BREWING – ORANGE COUNTY\, CA
CATEGORIES:Orange County, CA Events
END:VEVENT
BEGIN:VEVENT
DTSTART;TZID=America/Los_Angeles:20260302T180000
DTEND;TZID=America/Los_Angeles:20260302T200000
DTSTAMP:20260421T015719
CREATED:20260207T153334Z
LAST-MODIFIED:20260211T105548Z
UID:10012241-1772474400-1772481600@hangar24brewing.com
SUMMARY:"Sing Your Heart Out" Karaoke Singles Night
DESCRIPTION:
URL:https://hangar24brewing.com/event/sing-your-heart-out-karaoke-singles-night-3/2026-03-02/
LOCATION:HANGAR 24 BREWING – ORANGE COUNTY\, CA
CATEGORIES:Orange County, CA Events
END:VEVENT
BEGIN:VEVENT
DTSTART;TZID=America/Los_Angeles:20260303T173000
DTEND;TZID=America/Los_Angeles:20260303T203000
DTSTAMP:20260421T015719
CREATED:20260109T051809Z
LAST-MODIFIED:20260211T102001Z
UID:10012657-1772559000-1772569800@hangar24brewing.com
SUMMARY:Country Night
DESCRIPTION:
URL:https://hangar24brewing.com/event/country-night-27/2026-03-03/
LOCATION:HANGAR 24 BREWING – ORANGE COUNTY\, CA
CATEGORIES:Orange County, CA Events
END:VEVENT
BEGIN:VEVENT
DTSTART;TZID=America/Los_Angeles:20260305T190000
DTEND;TZID=America/Los_Angeles:20260305T210000
DTSTAMP:20260421T015719
CREATED:20260207T154408Z
LAST-MODIFIED:20260211T110003Z
UID:10010501-1772737200-1772744400@hangar24brewing.com
SUMMARY:Trivia Night: Epic Pub Quiz
DESCRIPTION:
URL:https://hangar24brewing.com/event/trivia-night-epic-pub-quiz-2/2026-03-05/
LOCATION:HANGAR 24 BREWING – ORANGE COUNTY\, CA
CATEGORIES:Orange County, CA Events
END:VEVENT
BEGIN:VEVENT
DTSTART;TZID=America/Los_Angeles:20260306T180000
DTEND;TZID=America/Los_Angeles:20260306T210000
DTSTAMP:20260421T015719
CREATED:20260211T042108Z
LAST-MODIFIED:20260224T232412Z
UID:10012660-1772820000-1772830800@hangar24brewing.com
SUMMARY:Chris Anderson Group
DESCRIPTION:
URL:https://hangar24brewing.com/event/chris-andersen/
LOCATION:HANGAR 24 BREWING – ORANGE COUNTY\, CA
CATEGORIES:Orange County, CA Events
END:VEVENT
BEGIN:VEVENT
DTSTART;TZID=America/Los_Angeles:20260307T103000
DTEND;TZID=America/Los_Angeles:20260307T160000
DTSTAMP:20260421T015719
CREATED:20260211T042404Z
LAST-MODIFIED:20260211T042404Z
UID:10012661-1772879400-1772899200@hangar24brewing.com
SUMMARY:Fit 4 Mom Grand Reopening
DESCRIPTION:
URL:https://hangar24brewing.com/event/fit-4-mom-grand-reopening/
LOCATION:HANGAR 24 BREWING – ORANGE COUNTY\, CA
CATEGORIES:Orange County, CA Events
END:VEVENT
BEGIN:VEVENT
DTSTART;TZID=America/Los_Angeles:20260307T180000
DTEND;TZID=America/Los_Angeles:20260307T210000
DTSTAMP:20260421T015719
CREATED:20260224T232458Z
LAST-MODIFIED:20260224T232458Z
UID:10012960-1772906400-1772917200@hangar24brewing.com
SUMMARY:Love For Covers
DESCRIPTION:
URL:https://hangar24brewing.com/event/love-for-covers/
LOCATION:HANGAR 24 BREWING – ORANGE COUNTY\, CA
CATEGORIES:Orange County, CA Events
END:VEVENT
BEGIN:VEVENT
DTSTART;TZID=America/Los_Angeles:20260308T120000
DTEND;TZID=America/Los_Angeles:20260308T170000
DTSTAMP:20260421T015719
CREATED:20260211T042553Z
LAST-MODIFIED:20260329T190134Z
UID:10012662-1772971200-1772989200@hangar24brewing.com
SUMMARY:Self Control - Reggae
DESCRIPTION:
URL:https://hangar24brewing.com/event/self-control-4/2026-03-08/
LOCATION:HANGAR 24 BREWING – ORANGE COUNTY\, CA
CATEGORIES:Orange County, CA Events
END:VEVENT
BEGIN:VEVENT
DTSTART;TZID=America/Los_Angeles:20260309T180000
DTEND;TZID=America/Los_Angeles:20260309T200000
DTSTAMP:20260421T015719
CREATED:20260207T153334Z
LAST-MODIFIED:20260211T105548Z
UID:10012242-1773079200-1773086400@hangar24brewing.com
SUMMARY:"Sing Your Heart Out" Karaoke Singles Night
DESCRIPTION:
URL:https://hangar24brewing.com/event/sing-your-heart-out-karaoke-singles-night-3/2026-03-09/
LOCATION:HANGAR 24 BREWING – ORANGE COUNTY\, CA
CATEGORIES:Orange County, CA Events
END:VEVENT
BEGIN:VEVENT
DTSTART;TZID=America/Los_Angeles:20260310T173000
DTEND;TZID=America/Los_Angeles:20260310T203000
DTSTAMP:20260421T015719
CREATED:20260109T052204Z
LAST-MODIFIED:20260329T190519Z
UID:10012654-1773163800-1773174600@hangar24brewing.com
SUMMARY:Swing Night
DESCRIPTION:
URL:https://hangar24brewing.com/event/swing-night-22/2026-03-10/
LOCATION:HANGAR 24 BREWING – ORANGE COUNTY\, CA
CATEGORIES:Orange County, CA Events
END:VEVENT
BEGIN:VEVENT
DTSTART;TZID=America/Los_Angeles:20260311T170000
DTEND;TZID=America/Los_Angeles:20260311T200000
DTSTAMP:20260421T015719
CREATED:20260109T051106Z
LAST-MODIFIED:20260211T100403Z
UID:10011173-1773248400-1773259200@hangar24brewing.com
SUMMARY:Courtney Nunez
DESCRIPTION:
URL:https://hangar24brewing.com/event/courtney-nunez/2026-03-11/
LOCATION:HANGAR 24 BREWING – ORANGE COUNTY\, CA
CATEGORIES:Orange County, CA Events
END:VEVENT
BEGIN:VEVENT
DTSTART;TZID=America/Los_Angeles:20260312T190000
DTEND;TZID=America/Los_Angeles:20260312T210000
DTSTAMP:20260421T015719
CREATED:20260207T154408Z
LAST-MODIFIED:20260211T110003Z
UID:10010502-1773342000-1773349200@hangar24brewing.com
SUMMARY:Trivia Night: Epic Pub Quiz
DESCRIPTION:
URL:https://hangar24brewing.com/event/trivia-night-epic-pub-quiz-2/2026-03-12/
LOCATION:HANGAR 24 BREWING – ORANGE COUNTY\, CA
CATEGORIES:Orange County, CA Events
END:VEVENT
BEGIN:VEVENT
DTSTART;TZID=America/Los_Angeles:20260313T180000
DTEND;TZID=America/Los_Angeles:20260313T210000
DTSTAMP:20260421T015719
CREATED:20260211T043051Z
LAST-MODIFIED:20260211T043051Z
UID:10012663-1773424800-1773435600@hangar24brewing.com
SUMMARY:Tori Green Band
DESCRIPTION:
URL:https://hangar24brewing.com/event/tori-green-band-2/
LOCATION:HANGAR 24 BREWING – ORANGE COUNTY\, CA
CATEGORIES:Orange County, CA Events
END:VEVENT
BEGIN:VEVENT
DTSTART;VALUE=DATE:20260314
DTEND;VALUE=DATE:20260315
DTSTAMP:20260421T015719
CREATED:20260211T043201Z
LAST-MODIFIED:20260224T231932Z
UID:10012664-1773446400-1773532799@hangar24brewing.com
SUMMARY:ST. PADDY'S DAY CELEBRATION
DESCRIPTION:
URL:https://hangar24brewing.com/event/st-pattys-day-celebration/
CATEGORIES:Orange County, CA Events
END:VEVENT
BEGIN:VEVENT
DTSTART;TZID=America/Los_Angeles:20260314T130000
DTEND;TZID=America/Los_Angeles:20260314T150000
DTSTAMP:20260421T015719
CREATED:20260211T043433Z
LAST-MODIFIED:20260211T043433Z
UID:10012665-1773493200-1773500400@hangar24brewing.com
SUMMARY:DJ
DESCRIPTION:
URL:https://hangar24brewing.com/event/dj/
LOCATION:HANGAR 24 BREWING – ORANGE COUNTY\, CA
CATEGORIES:Orange County, CA Events
END:VEVENT
BEGIN:VEVENT
DTSTART;TZID=America/Los_Angeles:20260314T150000
DTEND;TZID=America/Los_Angeles:20260314T170000
DTSTAMP:20260421T015719
CREATED:20260211T043524Z
LAST-MODIFIED:20260211T043524Z
UID:10012666-1773500400-1773507600@hangar24brewing.com
SUMMARY:The SENT
DESCRIPTION:
URL:https://hangar24brewing.com/event/the-sent/
LOCATION:HANGAR 24 BREWING – ORANGE COUNTY\, CA
CATEGORIES:Orange County, CA Events
END:VEVENT
BEGIN:VEVENT
DTSTART;TZID=America/Los_Angeles:20260314T180000
DTEND;TZID=America/Los_Angeles:20260314T210000
DTSTAMP:20260421T015719
CREATED:20260211T043622Z
LAST-MODIFIED:20260211T043622Z
UID:10012667-1773511200-1773522000@hangar24brewing.com
SUMMARY:Cillian's Bridge
DESCRIPTION:
URL:https://hangar24brewing.com/event/cillians-bridge-25/
LOCATION:HANGAR 24 BREWING – ORANGE COUNTY\, CA
CATEGORIES:Orange County, CA Events
END:VEVENT
BEGIN:VEVENT
DTSTART;TZID=America/Los_Angeles:20260315T120000
DTEND;TZID=America/Los_Angeles:20260315T150000
DTSTAMP:20260421T015719
CREATED:20260211T043759Z
LAST-MODIFIED:20260329T191116Z
UID:10012668-1773576000-1773586800@hangar24brewing.com
SUMMARY:The Tones - Raggae
DESCRIPTION:
URL:https://hangar24brewing.com/event/the-tones-10/2026-03-15/
LOCATION:HANGAR 24 BREWING – ORANGE COUNTY\, CA
CATEGORIES:Orange County, CA Events
END:VEVENT
BEGIN:VEVENT
DTSTART;TZID=America/Los_Angeles:20260316T180000
DTEND;TZID=America/Los_Angeles:20260316T200000
DTSTAMP:20260421T015719
CREATED:20260207T153334Z
LAST-MODIFIED:20260211T105548Z
UID:10012243-1773684000-1773691200@hangar24brewing.com
SUMMARY:"Sing Your Heart Out" Karaoke Singles Night
DESCRIPTION:
URL:https://hangar24brewing.com/event/sing-your-heart-out-karaoke-singles-night-3/2026-03-16/
LOCATION:HANGAR 24 BREWING – ORANGE COUNTY\, CA
CATEGORIES:Orange County, CA Events
END:VEVENT
BEGIN:VEVENT
DTSTART;TZID=America/Los_Angeles:20260317T173000
DTEND;TZID=America/Los_Angeles:20260317T203000
DTSTAMP:20260421T015719
CREATED:20260109T051809Z
LAST-MODIFIED:20260211T102001Z
UID:10012658-1773768600-1773779400@hangar24brewing.com
SUMMARY:Country Night
DESCRIPTION:
URL:https://hangar24brewing.com/event/country-night-27/2026-03-17/
LOCATION:HANGAR 24 BREWING – ORANGE COUNTY\, CA
CATEGORIES:Orange County, CA Events
END:VEVENT
BEGIN:VEVENT
DTSTART;TZID=America/Los_Angeles:20260318T170000
DTEND;TZID=America/Los_Angeles:20260318T200000
DTSTAMP:20260421T015719
CREATED:20260211T043916Z
LAST-MODIFIED:20260211T043916Z
UID:10012669-1773853200-1773864000@hangar24brewing.com
SUMMARY:James Alexander
DESCRIPTION:
URL:https://hangar24brewing.com/event/james-alexander-44/
LOCATION:HANGAR 24 BREWING – ORANGE COUNTY\, CA
CATEGORIES:Orange County, CA Events
END:VEVENT
BEGIN:VEVENT
DTSTART;TZID=America/Los_Angeles:20260319T190000
DTEND;TZID=America/Los_Angeles:20260319T210000
DTSTAMP:20260421T015719
CREATED:20260207T154408Z
LAST-MODIFIED:20260211T110003Z
UID:10010503-1773946800-1773954000@hangar24brewing.com
SUMMARY:Trivia Night: Epic Pub Quiz
DESCRIPTION:
URL:https://hangar24brewing.com/event/trivia-night-epic-pub-quiz-2/2026-03-19/
LOCATION:HANGAR 24 BREWING – ORANGE COUNTY\, CA
CATEGORIES:Orange County, CA Events
END:VEVENT
BEGIN:VEVENT
DTSTART;TZID=America/Los_Angeles:20260320T180000
DTEND;TZID=America/Los_Angeles:20260320T210000
DTSTAMP:20260421T015719
CREATED:20260211T044013Z
LAST-MODIFIED:20260211T044013Z
UID:10012670-1774029600-1774040400@hangar24brewing.com
SUMMARY:JBK Band
DESCRIPTION:
URL:https://hangar24brewing.com/event/jbk-band/
LOCATION:HANGAR 24 BREWING – ORANGE COUNTY\, CA
CATEGORIES:Orange County, CA Events
END:VEVENT
BEGIN:VEVENT
DTSTART;TZID=America/Los_Angeles:20260321T180000
DTEND;TZID=America/Los_Angeles:20260321T210000
DTSTAMP:20260421T015719
CREATED:20260211T044111Z
LAST-MODIFIED:20260211T100511Z
UID:10012671-1774116000-1774126800@hangar24brewing.com
SUMMARY:Sega Genecide
DESCRIPTION:
URL:https://hangar24brewing.com/event/sega-genecide-18/2026-03-21/
LOCATION:HANGAR 24 BREWING – REDLANDS\, CA
CATEGORIES:Orange County, CA Events
END:VEVENT
BEGIN:VEVENT
DTSTART;TZID=America/Los_Angeles:20260323T180000
DTEND;TZID=America/Los_Angeles:20260323T200000
DTSTAMP:20260421T015719
CREATED:20260207T153334Z
LAST-MODIFIED:20260211T105548Z
UID:10012244-1774288800-1774296000@hangar24brewing.com
SUMMARY:"Sing Your Heart Out" Karaoke Singles Night
DESCRIPTION:
URL:https://hangar24brewing.com/event/sing-your-heart-out-karaoke-singles-night-3/2026-03-23/
LOCATION:HANGAR 24 BREWING – ORANGE COUNTY\, CA
CATEGORIES:Orange County, CA Events
END:VEVENT
BEGIN:VEVENT
DTSTART;TZID=America/Los_Angeles:20260324T173000
DTEND;TZID=America/Los_Angeles:20260324T203000
DTSTAMP:20260421T015719
CREATED:20260109T052204Z
LAST-MODIFIED:20260329T190519Z
UID:10012656-1774373400-1774384200@hangar24brewing.com
SUMMARY:Swing Night
DESCRIPTION:
URL:https://hangar24brewing.com/event/swing-night-22/2026-03-24/
LOCATION:HANGAR 24 BREWING – ORANGE COUNTY\, CA
CATEGORIES:Orange County, CA Events
END:VEVENT
BEGIN:VEVENT
DTSTART;TZID=America/Los_Angeles:20260325T170000
DTEND;TZID=America/Los_Angeles:20260325T200000
DTSTAMP:20260421T015719
CREATED:20260211T044249Z
LAST-MODIFIED:20260211T044249Z
UID:10012672-1774458000-1774468800@hangar24brewing.com
SUMMARY:Jimmy Becker
DESCRIPTION:
URL:https://hangar24brewing.com/event/jimmy-becker-28/
LOCATION:HANGAR 24 BREWING – ORANGE COUNTY\, CA
CATEGORIES:Orange County, CA Events
END:VEVENT
BEGIN:VEVENT
DTSTART;TZID=America/Los_Angeles:20260326T190000
DTEND;TZID=America/Los_Angeles:20260326T210000
DTSTAMP:20260421T015719
CREATED:20260207T154408Z
LAST-MODIFIED:20260211T110003Z
UID:10010504-1774551600-1774558800@hangar24brewing.com
SUMMARY:Trivia Night: Epic Pub Quiz
DESCRIPTION:
URL:https://hangar24brewing.com/event/trivia-night-epic-pub-quiz-2/2026-03-26/
LOCATION:HANGAR 24 BREWING – ORANGE COUNTY\, CA
CATEGORIES:Orange County, CA Events
END:VEVENT
BEGIN:VEVENT
DTSTART;TZID=America/Los_Angeles:20260327T180000
DTEND;TZID=America/Los_Angeles:20260327T210000
DTSTAMP:20260421T015719
CREATED:20260211T044349Z
LAST-MODIFIED:20260224T232610Z
UID:10012673-1774634400-1774645200@hangar24brewing.com
SUMMARY:The Highway Kings
DESCRIPTION:
URL:https://hangar24brewing.com/event/king-camino-10/
LOCATION:HANGAR 24 BREWING – ORANGE COUNTY\, CA
CATEGORIES:Orange County, CA Events
END:VEVENT
BEGIN:VEVENT
DTSTART;TZID=America/Los_Angeles:20260328T180000
DTEND;TZID=America/Los_Angeles:20260328T210000
DTSTAMP:20260421T015719
CREATED:20260224T232650Z
LAST-MODIFIED:20260224T232823Z
UID:10012961-1774720800-1774731600@hangar24brewing.com
SUMMARY:Pulp Vixen
DESCRIPTION:
URL:https://hangar24brewing.com/event/pulp-vixen-4/
LOCATION:HANGAR 24 BREWING – ORANGE COUNTY\, CA
CATEGORIES:Orange County, CA Events
END:VEVENT
END:VCALENDAR