BEGIN:VCALENDAR
VERSION:2.0
PRODID:-//Hangar 24 Craft Brewing - ECPv6.15.20//NONSGML v1.0//EN
CALSCALE:GREGORIAN
METHOD:PUBLISH
X-WR-CALNAME:Hangar 24 Craft Brewing
X-ORIGINAL-URL:https://hangar24brewing.com
X-WR-CALDESC:Events for Hangar 24 Craft Brewing
REFRESH-INTERVAL;VALUE=DURATION:PT1H
X-Robots-Tag:noindex
X-PUBLISHED-TTL:PT1H
BEGIN:VTIMEZONE
TZID:America/Los_Angeles
BEGIN:DAYLIGHT
TZOFFSETFROM:-0800
TZOFFSETTO:-0700
TZNAME:PDT
DTSTART:20290311T100000
END:DAYLIGHT
BEGIN:STANDARD
TZOFFSETFROM:-0700
TZOFFSETTO:-0800
TZNAME:PST
DTSTART:20291104T090000
END:STANDARD
BEGIN:DAYLIGHT
TZOFFSETFROM:-0800
TZOFFSETTO:-0700
TZNAME:PDT
DTSTART:20300310T100000
END:DAYLIGHT
BEGIN:STANDARD
TZOFFSETFROM:-0700
TZOFFSETTO:-0800
TZNAME:PST
DTSTART:20301103T090000
END:STANDARD
BEGIN:DAYLIGHT
TZOFFSETFROM:-0800
TZOFFSETTO:-0700
TZNAME:PDT
DTSTART:20310309T100000
END:DAYLIGHT
BEGIN:STANDARD
TZOFFSETFROM:-0700
TZOFFSETTO:-0800
TZNAME:PST
DTSTART:20311102T090000
END:STANDARD
END:VTIMEZONE
BEGIN:VEVENT
DTSTART;TZID=America/Los_Angeles:20300103T190000
DTEND;TZID=America/Los_Angeles:20300103T210000
DTSTAMP:20260422T192839
CREATED:20260207T154408Z
LAST-MODIFIED:20260211T110003Z
UID:10010701-1893697200-1893704400@hangar24brewing.com
SUMMARY:Trivia Night: Epic Pub Quiz
DESCRIPTION:
URL:https://hangar24brewing.com/event/trivia-night-epic-pub-quiz-2/2030-01-03/
LOCATION:HANGAR 24 BREWING – ORANGE COUNTY\, CA
CATEGORIES:Orange County, CA Events
END:VEVENT
BEGIN:VEVENT
DTSTART;TZID=America/Los_Angeles:20300107T180000
DTEND;TZID=America/Los_Angeles:20300107T200000
DTSTAMP:20260422T192839
CREATED:20260207T153334Z
LAST-MODIFIED:20260211T105548Z
UID:10012442-1894039200-1894046400@hangar24brewing.com
SUMMARY:"Sing Your Heart Out" Karaoke Singles Night
DESCRIPTION:
URL:https://hangar24brewing.com/event/sing-your-heart-out-karaoke-singles-night-3/2030-01-07/
LOCATION:HANGAR 24 BREWING – ORANGE COUNTY\, CA
CATEGORIES:Orange County, CA Events
END:VEVENT
BEGIN:VEVENT
DTSTART;TZID=America/Los_Angeles:20300110T190000
DTEND;TZID=America/Los_Angeles:20300110T210000
DTSTAMP:20260422T192839
CREATED:20260207T154408Z
LAST-MODIFIED:20260211T110003Z
UID:10010702-1894302000-1894309200@hangar24brewing.com
SUMMARY:Trivia Night: Epic Pub Quiz
DESCRIPTION:
URL:https://hangar24brewing.com/event/trivia-night-epic-pub-quiz-2/2030-01-10/
LOCATION:HANGAR 24 BREWING – ORANGE COUNTY\, CA
CATEGORIES:Orange County, CA Events
END:VEVENT
BEGIN:VEVENT
DTSTART;TZID=America/Los_Angeles:20300114T180000
DTEND;TZID=America/Los_Angeles:20300114T200000
DTSTAMP:20260422T192839
CREATED:20260207T153334Z
LAST-MODIFIED:20260211T105548Z
UID:10012443-1894644000-1894651200@hangar24brewing.com
SUMMARY:"Sing Your Heart Out" Karaoke Singles Night
DESCRIPTION:
URL:https://hangar24brewing.com/event/sing-your-heart-out-karaoke-singles-night-3/2030-01-14/
LOCATION:HANGAR 24 BREWING – ORANGE COUNTY\, CA
CATEGORIES:Orange County, CA Events
END:VEVENT
BEGIN:VEVENT
DTSTART;TZID=America/Los_Angeles:20300117T190000
DTEND;TZID=America/Los_Angeles:20300117T210000
DTSTAMP:20260422T192839
CREATED:20260207T154408Z
LAST-MODIFIED:20260211T110003Z
UID:10010703-1894906800-1894914000@hangar24brewing.com
SUMMARY:Trivia Night: Epic Pub Quiz
DESCRIPTION:
URL:https://hangar24brewing.com/event/trivia-night-epic-pub-quiz-2/2030-01-17/
LOCATION:HANGAR 24 BREWING – ORANGE COUNTY\, CA
CATEGORIES:Orange County, CA Events
END:VEVENT
BEGIN:VEVENT
DTSTART;TZID=America/Los_Angeles:20300121T180000
DTEND;TZID=America/Los_Angeles:20300121T200000
DTSTAMP:20260422T192839
CREATED:20260207T153334Z
LAST-MODIFIED:20260211T105548Z
UID:10012444-1895248800-1895256000@hangar24brewing.com
SUMMARY:"Sing Your Heart Out" Karaoke Singles Night
DESCRIPTION:
URL:https://hangar24brewing.com/event/sing-your-heart-out-karaoke-singles-night-3/2030-01-21/
LOCATION:HANGAR 24 BREWING – ORANGE COUNTY\, CA
CATEGORIES:Orange County, CA Events
END:VEVENT
BEGIN:VEVENT
DTSTART;TZID=America/Los_Angeles:20300124T190000
DTEND;TZID=America/Los_Angeles:20300124T210000
DTSTAMP:20260422T192839
CREATED:20260207T154408Z
LAST-MODIFIED:20260211T110003Z
UID:10010704-1895511600-1895518800@hangar24brewing.com
SUMMARY:Trivia Night: Epic Pub Quiz
DESCRIPTION:
URL:https://hangar24brewing.com/event/trivia-night-epic-pub-quiz-2/2030-01-24/
LOCATION:HANGAR 24 BREWING – ORANGE COUNTY\, CA
CATEGORIES:Orange County, CA Events
END:VEVENT
BEGIN:VEVENT
DTSTART;TZID=America/Los_Angeles:20300128T180000
DTEND;TZID=America/Los_Angeles:20300128T200000
DTSTAMP:20260422T192839
CREATED:20260207T153334Z
LAST-MODIFIED:20260211T105548Z
UID:10012445-1895853600-1895860800@hangar24brewing.com
SUMMARY:"Sing Your Heart Out" Karaoke Singles Night
DESCRIPTION:
URL:https://hangar24brewing.com/event/sing-your-heart-out-karaoke-singles-night-3/2030-01-28/
LOCATION:HANGAR 24 BREWING – ORANGE COUNTY\, CA
CATEGORIES:Orange County, CA Events
END:VEVENT
BEGIN:VEVENT
DTSTART;TZID=America/Los_Angeles:20300131T190000
DTEND;TZID=America/Los_Angeles:20300131T210000
DTSTAMP:20260422T192839
CREATED:20260207T154408Z
LAST-MODIFIED:20260211T110003Z
UID:10010705-1896116400-1896123600@hangar24brewing.com
SUMMARY:Trivia Night: Epic Pub Quiz
DESCRIPTION:
URL:https://hangar24brewing.com/event/trivia-night-epic-pub-quiz-2/2030-01-31/
LOCATION:HANGAR 24 BREWING – ORANGE COUNTY\, CA
CATEGORIES:Orange County, CA Events
END:VEVENT
END:VCALENDAR