BEGIN:VCALENDAR
VERSION:2.0
PRODID:-//Hangar 24 Craft Brewing - ECPv6.15.20//NONSGML v1.0//EN
CALSCALE:GREGORIAN
METHOD:PUBLISH
X-WR-CALNAME:Hangar 24 Craft Brewing
X-ORIGINAL-URL:https://hangar24brewing.com
X-WR-CALDESC:Events for Hangar 24 Craft Brewing
REFRESH-INTERVAL;VALUE=DURATION:PT1H
X-Robots-Tag:noindex
X-PUBLISHED-TTL:PT1H
BEGIN:VTIMEZONE
TZID:America/Los_Angeles
BEGIN:DAYLIGHT
TZOFFSETFROM:-0800
TZOFFSETTO:-0700
TZNAME:PDT
DTSTART:20280312T100000
END:DAYLIGHT
BEGIN:STANDARD
TZOFFSETFROM:-0700
TZOFFSETTO:-0800
TZNAME:PST
DTSTART:20281105T090000
END:STANDARD
BEGIN:DAYLIGHT
TZOFFSETFROM:-0800
TZOFFSETTO:-0700
TZNAME:PDT
DTSTART:20290311T100000
END:DAYLIGHT
BEGIN:STANDARD
TZOFFSETFROM:-0700
TZOFFSETTO:-0800
TZNAME:PST
DTSTART:20291104T090000
END:STANDARD
BEGIN:DAYLIGHT
TZOFFSETFROM:-0800
TZOFFSETTO:-0700
TZNAME:PDT
DTSTART:20300310T100000
END:DAYLIGHT
BEGIN:STANDARD
TZOFFSETFROM:-0700
TZOFFSETTO:-0800
TZNAME:PST
DTSTART:20301103T090000
END:STANDARD
BEGIN:DAYLIGHT
TZOFFSETFROM:-0800
TZOFFSETTO:-0700
TZNAME:PDT
DTSTART:20310309T100000
END:DAYLIGHT
BEGIN:STANDARD
TZOFFSETFROM:-0700
TZOFFSETTO:-0800
TZNAME:PST
DTSTART:20311102T090000
END:STANDARD
END:VTIMEZONE
BEGIN:VEVENT
DTSTART;TZID=America/Los_Angeles:20291227T190000
DTEND;TZID=America/Los_Angeles:20291227T210000
DTSTAMP:20260420T062120
CREATED:20260207T154408Z
LAST-MODIFIED:20260211T110003Z
UID:10010700-1893092400-1893099600@hangar24brewing.com
SUMMARY:Trivia Night: Epic Pub Quiz
DESCRIPTION:
URL:https://hangar24brewing.com/event/trivia-night-epic-pub-quiz-2/2029-12-27/
LOCATION:HANGAR 24 BREWING – ORANGE COUNTY\, CA
CATEGORIES:Orange County, CA Events
END:VEVENT
BEGIN:VEVENT
DTSTART;TZID=America/Los_Angeles:20291231T180000
DTEND;TZID=America/Los_Angeles:20291231T200000
DTSTAMP:20260420T062120
CREATED:20260207T153334Z
LAST-MODIFIED:20260211T105548Z
UID:10012441-1893434400-1893441600@hangar24brewing.com
SUMMARY:"Sing Your Heart Out" Karaoke Singles Night
DESCRIPTION:
URL:https://hangar24brewing.com/event/sing-your-heart-out-karaoke-singles-night-3/2029-12-31/
LOCATION:HANGAR 24 BREWING – ORANGE COUNTY\, CA
CATEGORIES:Orange County, CA Events
END:VEVENT
BEGIN:VEVENT
DTSTART;TZID=America/Los_Angeles:20300103T190000
DTEND;TZID=America/Los_Angeles:20300103T210000
DTSTAMP:20260420T062120
CREATED:20260207T154408Z
LAST-MODIFIED:20260211T110003Z
UID:10010701-1893697200-1893704400@hangar24brewing.com
SUMMARY:Trivia Night: Epic Pub Quiz
DESCRIPTION:
URL:https://hangar24brewing.com/event/trivia-night-epic-pub-quiz-2/2030-01-03/
LOCATION:HANGAR 24 BREWING – ORANGE COUNTY\, CA
CATEGORIES:Orange County, CA Events
END:VEVENT
BEGIN:VEVENT
DTSTART;TZID=America/Los_Angeles:20300107T180000
DTEND;TZID=America/Los_Angeles:20300107T200000
DTSTAMP:20260420T062120
CREATED:20260207T153334Z
LAST-MODIFIED:20260211T105548Z
UID:10012442-1894039200-1894046400@hangar24brewing.com
SUMMARY:"Sing Your Heart Out" Karaoke Singles Night
DESCRIPTION:
URL:https://hangar24brewing.com/event/sing-your-heart-out-karaoke-singles-night-3/2030-01-07/
LOCATION:HANGAR 24 BREWING – ORANGE COUNTY\, CA
CATEGORIES:Orange County, CA Events
END:VEVENT
BEGIN:VEVENT
DTSTART;TZID=America/Los_Angeles:20300110T190000
DTEND;TZID=America/Los_Angeles:20300110T210000
DTSTAMP:20260420T062120
CREATED:20260207T154408Z
LAST-MODIFIED:20260211T110003Z
UID:10010702-1894302000-1894309200@hangar24brewing.com
SUMMARY:Trivia Night: Epic Pub Quiz
DESCRIPTION:
URL:https://hangar24brewing.com/event/trivia-night-epic-pub-quiz-2/2030-01-10/
LOCATION:HANGAR 24 BREWING – ORANGE COUNTY\, CA
CATEGORIES:Orange County, CA Events
END:VEVENT
BEGIN:VEVENT
DTSTART;TZID=America/Los_Angeles:20300114T180000
DTEND;TZID=America/Los_Angeles:20300114T200000
DTSTAMP:20260420T062120
CREATED:20260207T153334Z
LAST-MODIFIED:20260211T105548Z
UID:10012443-1894644000-1894651200@hangar24brewing.com
SUMMARY:"Sing Your Heart Out" Karaoke Singles Night
DESCRIPTION:
URL:https://hangar24brewing.com/event/sing-your-heart-out-karaoke-singles-night-3/2030-01-14/
LOCATION:HANGAR 24 BREWING – ORANGE COUNTY\, CA
CATEGORIES:Orange County, CA Events
END:VEVENT
BEGIN:VEVENT
DTSTART;TZID=America/Los_Angeles:20300117T190000
DTEND;TZID=America/Los_Angeles:20300117T210000
DTSTAMP:20260420T062120
CREATED:20260207T154408Z
LAST-MODIFIED:20260211T110003Z
UID:10010703-1894906800-1894914000@hangar24brewing.com
SUMMARY:Trivia Night: Epic Pub Quiz
DESCRIPTION:
URL:https://hangar24brewing.com/event/trivia-night-epic-pub-quiz-2/2030-01-17/
LOCATION:HANGAR 24 BREWING – ORANGE COUNTY\, CA
CATEGORIES:Orange County, CA Events
END:VEVENT
BEGIN:VEVENT
DTSTART;TZID=America/Los_Angeles:20300121T180000
DTEND;TZID=America/Los_Angeles:20300121T200000
DTSTAMP:20260420T062120
CREATED:20260207T153334Z
LAST-MODIFIED:20260211T105548Z
UID:10012444-1895248800-1895256000@hangar24brewing.com
SUMMARY:"Sing Your Heart Out" Karaoke Singles Night
DESCRIPTION:
URL:https://hangar24brewing.com/event/sing-your-heart-out-karaoke-singles-night-3/2030-01-21/
LOCATION:HANGAR 24 BREWING – ORANGE COUNTY\, CA
CATEGORIES:Orange County, CA Events
END:VEVENT
BEGIN:VEVENT
DTSTART;TZID=America/Los_Angeles:20300124T190000
DTEND;TZID=America/Los_Angeles:20300124T210000
DTSTAMP:20260420T062120
CREATED:20260207T154408Z
LAST-MODIFIED:20260211T110003Z
UID:10010704-1895511600-1895518800@hangar24brewing.com
SUMMARY:Trivia Night: Epic Pub Quiz
DESCRIPTION:
URL:https://hangar24brewing.com/event/trivia-night-epic-pub-quiz-2/2030-01-24/
LOCATION:HANGAR 24 BREWING – ORANGE COUNTY\, CA
CATEGORIES:Orange County, CA Events
END:VEVENT
BEGIN:VEVENT
DTSTART;TZID=America/Los_Angeles:20300128T180000
DTEND;TZID=America/Los_Angeles:20300128T200000
DTSTAMP:20260420T062120
CREATED:20260207T153334Z
LAST-MODIFIED:20260211T105548Z
UID:10012445-1895853600-1895860800@hangar24brewing.com
SUMMARY:"Sing Your Heart Out" Karaoke Singles Night
DESCRIPTION:
URL:https://hangar24brewing.com/event/sing-your-heart-out-karaoke-singles-night-3/2030-01-28/
LOCATION:HANGAR 24 BREWING – ORANGE COUNTY\, CA
CATEGORIES:Orange County, CA Events
END:VEVENT
BEGIN:VEVENT
DTSTART;TZID=America/Los_Angeles:20300131T190000
DTEND;TZID=America/Los_Angeles:20300131T210000
DTSTAMP:20260420T062120
CREATED:20260207T154408Z
LAST-MODIFIED:20260211T110003Z
UID:10010705-1896116400-1896123600@hangar24brewing.com
SUMMARY:Trivia Night: Epic Pub Quiz
DESCRIPTION:
URL:https://hangar24brewing.com/event/trivia-night-epic-pub-quiz-2/2030-01-31/
LOCATION:HANGAR 24 BREWING – ORANGE COUNTY\, CA
CATEGORIES:Orange County, CA Events
END:VEVENT
BEGIN:VEVENT
DTSTART;TZID=America/Los_Angeles:20300204T180000
DTEND;TZID=America/Los_Angeles:20300204T200000
DTSTAMP:20260420T062120
CREATED:20260207T153334Z
LAST-MODIFIED:20260211T105548Z
UID:10012446-1896458400-1896465600@hangar24brewing.com
SUMMARY:"Sing Your Heart Out" Karaoke Singles Night
DESCRIPTION:
URL:https://hangar24brewing.com/event/sing-your-heart-out-karaoke-singles-night-3/2030-02-04/
LOCATION:HANGAR 24 BREWING – ORANGE COUNTY\, CA
CATEGORIES:Orange County, CA Events
END:VEVENT
BEGIN:VEVENT
DTSTART;TZID=America/Los_Angeles:20300207T190000
DTEND;TZID=America/Los_Angeles:20300207T210000
DTSTAMP:20260420T062120
CREATED:20260207T154408Z
LAST-MODIFIED:20260211T110003Z
UID:10010706-1896721200-1896728400@hangar24brewing.com
SUMMARY:Trivia Night: Epic Pub Quiz
DESCRIPTION:
URL:https://hangar24brewing.com/event/trivia-night-epic-pub-quiz-2/2030-02-07/
LOCATION:HANGAR 24 BREWING – ORANGE COUNTY\, CA
CATEGORIES:Orange County, CA Events
END:VEVENT
BEGIN:VEVENT
DTSTART;TZID=America/Los_Angeles:20300211T180000
DTEND;TZID=America/Los_Angeles:20300211T200000
DTSTAMP:20260420T062120
CREATED:20260207T153334Z
LAST-MODIFIED:20260211T105548Z
UID:10012447-1897063200-1897070400@hangar24brewing.com
SUMMARY:"Sing Your Heart Out" Karaoke Singles Night
DESCRIPTION:
URL:https://hangar24brewing.com/event/sing-your-heart-out-karaoke-singles-night-3/2030-02-11/
LOCATION:HANGAR 24 BREWING – ORANGE COUNTY\, CA
CATEGORIES:Orange County, CA Events
END:VEVENT
BEGIN:VEVENT
DTSTART;TZID=America/Los_Angeles:20300214T190000
DTEND;TZID=America/Los_Angeles:20300214T210000
DTSTAMP:20260420T062120
CREATED:20260207T154408Z
LAST-MODIFIED:20260211T110003Z
UID:10010707-1897326000-1897333200@hangar24brewing.com
SUMMARY:Trivia Night: Epic Pub Quiz
DESCRIPTION:
URL:https://hangar24brewing.com/event/trivia-night-epic-pub-quiz-2/2030-02-14/
LOCATION:HANGAR 24 BREWING – ORANGE COUNTY\, CA
CATEGORIES:Orange County, CA Events
END:VEVENT
BEGIN:VEVENT
DTSTART;TZID=America/Los_Angeles:20300218T180000
DTEND;TZID=America/Los_Angeles:20300218T200000
DTSTAMP:20260420T062120
CREATED:20260207T153334Z
LAST-MODIFIED:20260211T105548Z
UID:10012448-1897668000-1897675200@hangar24brewing.com
SUMMARY:"Sing Your Heart Out" Karaoke Singles Night
DESCRIPTION:
URL:https://hangar24brewing.com/event/sing-your-heart-out-karaoke-singles-night-3/2030-02-18/
LOCATION:HANGAR 24 BREWING – ORANGE COUNTY\, CA
CATEGORIES:Orange County, CA Events
END:VEVENT
BEGIN:VEVENT
DTSTART;TZID=America/Los_Angeles:20300221T190000
DTEND;TZID=America/Los_Angeles:20300221T210000
DTSTAMP:20260420T062120
CREATED:20260207T154408Z
LAST-MODIFIED:20260211T110003Z
UID:10010708-1897930800-1897938000@hangar24brewing.com
SUMMARY:Trivia Night: Epic Pub Quiz
DESCRIPTION:
URL:https://hangar24brewing.com/event/trivia-night-epic-pub-quiz-2/2030-02-21/
LOCATION:HANGAR 24 BREWING – ORANGE COUNTY\, CA
CATEGORIES:Orange County, CA Events
END:VEVENT
BEGIN:VEVENT
DTSTART;TZID=America/Los_Angeles:20300225T180000
DTEND;TZID=America/Los_Angeles:20300225T200000
DTSTAMP:20260420T062120
CREATED:20260207T153334Z
LAST-MODIFIED:20260211T105548Z
UID:10012449-1898272800-1898280000@hangar24brewing.com
SUMMARY:"Sing Your Heart Out" Karaoke Singles Night
DESCRIPTION:
URL:https://hangar24brewing.com/event/sing-your-heart-out-karaoke-singles-night-3/2030-02-25/
LOCATION:HANGAR 24 BREWING – ORANGE COUNTY\, CA
CATEGORIES:Orange County, CA Events
END:VEVENT
BEGIN:VEVENT
DTSTART;TZID=America/Los_Angeles:20300228T190000
DTEND;TZID=America/Los_Angeles:20300228T210000
DTSTAMP:20260420T062120
CREATED:20260207T154408Z
LAST-MODIFIED:20260211T110003Z
UID:10010709-1898535600-1898542800@hangar24brewing.com
SUMMARY:Trivia Night: Epic Pub Quiz
DESCRIPTION:
URL:https://hangar24brewing.com/event/trivia-night-epic-pub-quiz-2/2030-02-28/
LOCATION:HANGAR 24 BREWING – ORANGE COUNTY\, CA
CATEGORIES:Orange County, CA Events
END:VEVENT
BEGIN:VEVENT
DTSTART;TZID=America/Los_Angeles:20300304T180000
DTEND;TZID=America/Los_Angeles:20300304T200000
DTSTAMP:20260420T062120
CREATED:20260207T153334Z
LAST-MODIFIED:20260211T105548Z
UID:10012450-1898877600-1898884800@hangar24brewing.com
SUMMARY:"Sing Your Heart Out" Karaoke Singles Night
DESCRIPTION:
URL:https://hangar24brewing.com/event/sing-your-heart-out-karaoke-singles-night-3/2030-03-04/
LOCATION:HANGAR 24 BREWING – ORANGE COUNTY\, CA
CATEGORIES:Orange County, CA Events
END:VEVENT
BEGIN:VEVENT
DTSTART;TZID=America/Los_Angeles:20300307T190000
DTEND;TZID=America/Los_Angeles:20300307T210000
DTSTAMP:20260420T062120
CREATED:20260207T154408Z
LAST-MODIFIED:20260211T110003Z
UID:10010710-1899140400-1899147600@hangar24brewing.com
SUMMARY:Trivia Night: Epic Pub Quiz
DESCRIPTION:
URL:https://hangar24brewing.com/event/trivia-night-epic-pub-quiz-2/2030-03-07/
LOCATION:HANGAR 24 BREWING – ORANGE COUNTY\, CA
CATEGORIES:Orange County, CA Events
END:VEVENT
BEGIN:VEVENT
DTSTART;TZID=America/Los_Angeles:20300311T180000
DTEND;TZID=America/Los_Angeles:20300311T200000
DTSTAMP:20260420T062120
CREATED:20260207T153334Z
LAST-MODIFIED:20260211T105548Z
UID:10012451-1899482400-1899489600@hangar24brewing.com
SUMMARY:"Sing Your Heart Out" Karaoke Singles Night
DESCRIPTION:
URL:https://hangar24brewing.com/event/sing-your-heart-out-karaoke-singles-night-3/2030-03-11/
LOCATION:HANGAR 24 BREWING – ORANGE COUNTY\, CA
CATEGORIES:Orange County, CA Events
END:VEVENT
BEGIN:VEVENT
DTSTART;TZID=America/Los_Angeles:20300314T190000
DTEND;TZID=America/Los_Angeles:20300314T210000
DTSTAMP:20260420T062120
CREATED:20260207T154408Z
LAST-MODIFIED:20260211T110003Z
UID:10010711-1899745200-1899752400@hangar24brewing.com
SUMMARY:Trivia Night: Epic Pub Quiz
DESCRIPTION:
URL:https://hangar24brewing.com/event/trivia-night-epic-pub-quiz-2/2030-03-14/
LOCATION:HANGAR 24 BREWING – ORANGE COUNTY\, CA
CATEGORIES:Orange County, CA Events
END:VEVENT
BEGIN:VEVENT
DTSTART;TZID=America/Los_Angeles:20300318T180000
DTEND;TZID=America/Los_Angeles:20300318T200000
DTSTAMP:20260420T062120
CREATED:20260207T153334Z
LAST-MODIFIED:20260211T105548Z
UID:10012452-1900087200-1900094400@hangar24brewing.com
SUMMARY:"Sing Your Heart Out" Karaoke Singles Night
DESCRIPTION:
URL:https://hangar24brewing.com/event/sing-your-heart-out-karaoke-singles-night-3/2030-03-18/
LOCATION:HANGAR 24 BREWING – ORANGE COUNTY\, CA
CATEGORIES:Orange County, CA Events
END:VEVENT
BEGIN:VEVENT
DTSTART;TZID=America/Los_Angeles:20300321T190000
DTEND;TZID=America/Los_Angeles:20300321T210000
DTSTAMP:20260420T062120
CREATED:20260207T154408Z
LAST-MODIFIED:20260211T110003Z
UID:10010712-1900350000-1900357200@hangar24brewing.com
SUMMARY:Trivia Night: Epic Pub Quiz
DESCRIPTION:
URL:https://hangar24brewing.com/event/trivia-night-epic-pub-quiz-2/2030-03-21/
LOCATION:HANGAR 24 BREWING – ORANGE COUNTY\, CA
CATEGORIES:Orange County, CA Events
END:VEVENT
BEGIN:VEVENT
DTSTART;TZID=America/Los_Angeles:20300325T180000
DTEND;TZID=America/Los_Angeles:20300325T200000
DTSTAMP:20260420T062120
CREATED:20260207T153334Z
LAST-MODIFIED:20260211T105548Z
UID:10012453-1900692000-1900699200@hangar24brewing.com
SUMMARY:"Sing Your Heart Out" Karaoke Singles Night
DESCRIPTION:
URL:https://hangar24brewing.com/event/sing-your-heart-out-karaoke-singles-night-3/2030-03-25/
LOCATION:HANGAR 24 BREWING – ORANGE COUNTY\, CA
CATEGORIES:Orange County, CA Events
END:VEVENT
BEGIN:VEVENT
DTSTART;TZID=America/Los_Angeles:20300328T190000
DTEND;TZID=America/Los_Angeles:20300328T210000
DTSTAMP:20260420T062120
CREATED:20260207T154408Z
LAST-MODIFIED:20260211T110003Z
UID:10010713-1900954800-1900962000@hangar24brewing.com
SUMMARY:Trivia Night: Epic Pub Quiz
DESCRIPTION:
URL:https://hangar24brewing.com/event/trivia-night-epic-pub-quiz-2/2030-03-28/
LOCATION:HANGAR 24 BREWING – ORANGE COUNTY\, CA
CATEGORIES:Orange County, CA Events
END:VEVENT
BEGIN:VEVENT
DTSTART;TZID=America/Los_Angeles:20300401T180000
DTEND;TZID=America/Los_Angeles:20300401T200000
DTSTAMP:20260420T062120
CREATED:20260207T153334Z
LAST-MODIFIED:20260211T105548Z
UID:10012454-1901296800-1901304000@hangar24brewing.com
SUMMARY:"Sing Your Heart Out" Karaoke Singles Night
DESCRIPTION:
URL:https://hangar24brewing.com/event/sing-your-heart-out-karaoke-singles-night-3/2030-04-01/
LOCATION:HANGAR 24 BREWING – ORANGE COUNTY\, CA
CATEGORIES:Orange County, CA Events
END:VEVENT
BEGIN:VEVENT
DTSTART;TZID=America/Los_Angeles:20300404T190000
DTEND;TZID=America/Los_Angeles:20300404T210000
DTSTAMP:20260420T062120
CREATED:20260207T154408Z
LAST-MODIFIED:20260211T110003Z
UID:10010714-1901559600-1901566800@hangar24brewing.com
SUMMARY:Trivia Night: Epic Pub Quiz
DESCRIPTION:
URL:https://hangar24brewing.com/event/trivia-night-epic-pub-quiz-2/2030-04-04/
LOCATION:HANGAR 24 BREWING – ORANGE COUNTY\, CA
CATEGORIES:Orange County, CA Events
END:VEVENT
BEGIN:VEVENT
DTSTART;TZID=America/Los_Angeles:20300408T180000
DTEND;TZID=America/Los_Angeles:20300408T200000
DTSTAMP:20260420T062120
CREATED:20260207T153334Z
LAST-MODIFIED:20260211T105548Z
UID:10012455-1901901600-1901908800@hangar24brewing.com
SUMMARY:"Sing Your Heart Out" Karaoke Singles Night
DESCRIPTION:
URL:https://hangar24brewing.com/event/sing-your-heart-out-karaoke-singles-night-3/2030-04-08/
LOCATION:HANGAR 24 BREWING – ORANGE COUNTY\, CA
CATEGORIES:Orange County, CA Events
END:VEVENT
END:VCALENDAR