BEGIN:VCALENDAR
VERSION:2.0
PRODID:-//Hangar 24 Craft Brewing - ECPv6.15.20//NONSGML v1.0//EN
CALSCALE:GREGORIAN
METHOD:PUBLISH
X-ORIGINAL-URL:https://hangar24brewing.com
X-WR-CALDESC:Events for Hangar 24 Craft Brewing
REFRESH-INTERVAL;VALUE=DURATION:PT1H
X-Robots-Tag:noindex
X-PUBLISHED-TTL:PT1H
BEGIN:VTIMEZONE
TZID:America/Los_Angeles
BEGIN:DAYLIGHT
TZOFFSETFROM:-0800
TZOFFSETTO:-0700
TZNAME:PDT
DTSTART:20290311T100000
END:DAYLIGHT
BEGIN:STANDARD
TZOFFSETFROM:-0700
TZOFFSETTO:-0800
TZNAME:PST
DTSTART:20291104T090000
END:STANDARD
BEGIN:DAYLIGHT
TZOFFSETFROM:-0800
TZOFFSETTO:-0700
TZNAME:PDT
DTSTART:20300310T100000
END:DAYLIGHT
BEGIN:STANDARD
TZOFFSETFROM:-0700
TZOFFSETTO:-0800
TZNAME:PST
DTSTART:20301103T090000
END:STANDARD
BEGIN:DAYLIGHT
TZOFFSETFROM:-0800
TZOFFSETTO:-0700
TZNAME:PDT
DTSTART:20310309T100000
END:DAYLIGHT
BEGIN:STANDARD
TZOFFSETFROM:-0700
TZOFFSETTO:-0800
TZNAME:PST
DTSTART:20311102T090000
END:STANDARD
BEGIN:DAYLIGHT
TZOFFSETFROM:-0800
TZOFFSETTO:-0700
TZNAME:PDT
DTSTART:20320314T100000
END:DAYLIGHT
BEGIN:STANDARD
TZOFFSETFROM:-0700
TZOFFSETTO:-0800
TZNAME:PST
DTSTART:20321107T090000
END:STANDARD
END:VTIMEZONE
BEGIN:VEVENT
DTSTART;TZID=America/Los_Angeles:20301003T190000
DTEND;TZID=America/Los_Angeles:20301003T210000
DTSTAMP:20260420T134726
CREATED:20260207T154408Z
LAST-MODIFIED:20260211T110003Z
UID:10010908-1917284400-1917291600@hangar24brewing.com
SUMMARY:Trivia Night: Epic Pub Quiz
DESCRIPTION:
URL:https://hangar24brewing.com/event/trivia-night-epic-pub-quiz-2/2030-10-03/
LOCATION:HANGAR 24 BREWING – ORANGE COUNTY\, CA
CATEGORIES:Orange County, CA Events
END:VEVENT
BEGIN:VEVENT
DTSTART;TZID=America/Los_Angeles:20301007T180000
DTEND;TZID=America/Los_Angeles:20301007T200000
DTSTAMP:20260420T134726
CREATED:20260207T153334Z
LAST-MODIFIED:20260211T105548Z
UID:10012481-1917626400-1917633600@hangar24brewing.com
SUMMARY:"Sing Your Heart Out" Karaoke Singles Night
DESCRIPTION:
URL:https://hangar24brewing.com/event/sing-your-heart-out-karaoke-singles-night-3/2030-10-07/
LOCATION:HANGAR 24 BREWING – ORANGE COUNTY\, CA
CATEGORIES:Orange County, CA Events
END:VEVENT
BEGIN:VEVENT
DTSTART;TZID=America/Los_Angeles:20301010T190000
DTEND;TZID=America/Los_Angeles:20301010T210000
DTSTAMP:20260420T134726
CREATED:20260207T154408Z
LAST-MODIFIED:20260211T110003Z
UID:10010909-1917889200-1917896400@hangar24brewing.com
SUMMARY:Trivia Night: Epic Pub Quiz
DESCRIPTION:
URL:https://hangar24brewing.com/event/trivia-night-epic-pub-quiz-2/2030-10-10/
LOCATION:HANGAR 24 BREWING – ORANGE COUNTY\, CA
CATEGORIES:Orange County, CA Events
END:VEVENT
BEGIN:VEVENT
DTSTART;TZID=America/Los_Angeles:20301014T180000
DTEND;TZID=America/Los_Angeles:20301014T200000
DTSTAMP:20260420T134726
CREATED:20260207T153334Z
LAST-MODIFIED:20260211T105548Z
UID:10012482-1918231200-1918238400@hangar24brewing.com
SUMMARY:"Sing Your Heart Out" Karaoke Singles Night
DESCRIPTION:
URL:https://hangar24brewing.com/event/sing-your-heart-out-karaoke-singles-night-3/2030-10-14/
LOCATION:HANGAR 24 BREWING – ORANGE COUNTY\, CA
CATEGORIES:Orange County, CA Events
END:VEVENT
BEGIN:VEVENT
DTSTART;TZID=America/Los_Angeles:20301017T190000
DTEND;TZID=America/Los_Angeles:20301017T210000
DTSTAMP:20260420T134726
CREATED:20260207T154408Z
LAST-MODIFIED:20260211T110003Z
UID:10010910-1918494000-1918501200@hangar24brewing.com
SUMMARY:Trivia Night: Epic Pub Quiz
DESCRIPTION:
URL:https://hangar24brewing.com/event/trivia-night-epic-pub-quiz-2/2030-10-17/
LOCATION:HANGAR 24 BREWING – ORANGE COUNTY\, CA
CATEGORIES:Orange County, CA Events
END:VEVENT
BEGIN:VEVENT
DTSTART;TZID=America/Los_Angeles:20301021T180000
DTEND;TZID=America/Los_Angeles:20301021T200000
DTSTAMP:20260420T134726
CREATED:20260207T153334Z
LAST-MODIFIED:20260211T105548Z
UID:10012483-1918836000-1918843200@hangar24brewing.com
SUMMARY:"Sing Your Heart Out" Karaoke Singles Night
DESCRIPTION:
URL:https://hangar24brewing.com/event/sing-your-heart-out-karaoke-singles-night-3/2030-10-21/
LOCATION:HANGAR 24 BREWING – ORANGE COUNTY\, CA
CATEGORIES:Orange County, CA Events
END:VEVENT
BEGIN:VEVENT
DTSTART;TZID=America/Los_Angeles:20301024T190000
DTEND;TZID=America/Los_Angeles:20301024T210000
DTSTAMP:20260420T134726
CREATED:20260207T154408Z
LAST-MODIFIED:20260211T110003Z
UID:10010911-1919098800-1919106000@hangar24brewing.com
SUMMARY:Trivia Night: Epic Pub Quiz
DESCRIPTION:
URL:https://hangar24brewing.com/event/trivia-night-epic-pub-quiz-2/2030-10-24/
LOCATION:HANGAR 24 BREWING – ORANGE COUNTY\, CA
CATEGORIES:Orange County, CA Events
END:VEVENT
BEGIN:VEVENT
DTSTART;TZID=America/Los_Angeles:20301028T180000
DTEND;TZID=America/Los_Angeles:20301028T200000
DTSTAMP:20260420T134726
CREATED:20260207T153334Z
LAST-MODIFIED:20260211T105548Z
UID:10012484-1919440800-1919448000@hangar24brewing.com
SUMMARY:"Sing Your Heart Out" Karaoke Singles Night
DESCRIPTION:
URL:https://hangar24brewing.com/event/sing-your-heart-out-karaoke-singles-night-3/2030-10-28/
LOCATION:HANGAR 24 BREWING – ORANGE COUNTY\, CA
CATEGORIES:Orange County, CA Events
END:VEVENT
BEGIN:VEVENT
DTSTART;TZID=America/Los_Angeles:20301031T190000
DTEND;TZID=America/Los_Angeles:20301031T210000
DTSTAMP:20260420T134726
CREATED:20260207T154408Z
LAST-MODIFIED:20260211T110003Z
UID:10010912-1919703600-1919710800@hangar24brewing.com
SUMMARY:Trivia Night: Epic Pub Quiz
DESCRIPTION:
URL:https://hangar24brewing.com/event/trivia-night-epic-pub-quiz-2/2030-10-31/
LOCATION:HANGAR 24 BREWING – ORANGE COUNTY\, CA
CATEGORIES:Orange County, CA Events
END:VEVENT
BEGIN:VEVENT
DTSTART;TZID=America/Los_Angeles:20301104T180000
DTEND;TZID=America/Los_Angeles:20301104T200000
DTSTAMP:20260420T134726
CREATED:20260207T153334Z
LAST-MODIFIED:20260211T105548Z
UID:10012485-1920045600-1920052800@hangar24brewing.com
SUMMARY:"Sing Your Heart Out" Karaoke Singles Night
DESCRIPTION:
URL:https://hangar24brewing.com/event/sing-your-heart-out-karaoke-singles-night-3/2030-11-04/
LOCATION:HANGAR 24 BREWING – ORANGE COUNTY\, CA
CATEGORIES:Orange County, CA Events
END:VEVENT
BEGIN:VEVENT
DTSTART;TZID=America/Los_Angeles:20301107T190000
DTEND;TZID=America/Los_Angeles:20301107T210000
DTSTAMP:20260420T134726
CREATED:20260207T154408Z
LAST-MODIFIED:20260211T110003Z
UID:10010913-1920308400-1920315600@hangar24brewing.com
SUMMARY:Trivia Night: Epic Pub Quiz
DESCRIPTION:
URL:https://hangar24brewing.com/event/trivia-night-epic-pub-quiz-2/2030-11-07/
LOCATION:HANGAR 24 BREWING – ORANGE COUNTY\, CA
CATEGORIES:Orange County, CA Events
END:VEVENT
BEGIN:VEVENT
DTSTART;TZID=America/Los_Angeles:20301111T180000
DTEND;TZID=America/Los_Angeles:20301111T200000
DTSTAMP:20260420T134726
CREATED:20260207T153334Z
LAST-MODIFIED:20260211T105548Z
UID:10012486-1920650400-1920657600@hangar24brewing.com
SUMMARY:"Sing Your Heart Out" Karaoke Singles Night
DESCRIPTION:
URL:https://hangar24brewing.com/event/sing-your-heart-out-karaoke-singles-night-3/2030-11-11/
LOCATION:HANGAR 24 BREWING – ORANGE COUNTY\, CA
CATEGORIES:Orange County, CA Events
END:VEVENT
BEGIN:VEVENT
DTSTART;TZID=America/Los_Angeles:20301114T190000
DTEND;TZID=America/Los_Angeles:20301114T210000
DTSTAMP:20260420T134726
CREATED:20260207T154408Z
LAST-MODIFIED:20260211T110003Z
UID:10010914-1920913200-1920920400@hangar24brewing.com
SUMMARY:Trivia Night: Epic Pub Quiz
DESCRIPTION:
URL:https://hangar24brewing.com/event/trivia-night-epic-pub-quiz-2/2030-11-14/
LOCATION:HANGAR 24 BREWING – ORANGE COUNTY\, CA
CATEGORIES:Orange County, CA Events
END:VEVENT
BEGIN:VEVENT
DTSTART;TZID=America/Los_Angeles:20301118T180000
DTEND;TZID=America/Los_Angeles:20301118T200000
DTSTAMP:20260420T134726
CREATED:20260207T153334Z
LAST-MODIFIED:20260211T105548Z
UID:10012487-1921255200-1921262400@hangar24brewing.com
SUMMARY:"Sing Your Heart Out" Karaoke Singles Night
DESCRIPTION:
URL:https://hangar24brewing.com/event/sing-your-heart-out-karaoke-singles-night-3/2030-11-18/
LOCATION:HANGAR 24 BREWING – ORANGE COUNTY\, CA
CATEGORIES:Orange County, CA Events
END:VEVENT
BEGIN:VEVENT
DTSTART;TZID=America/Los_Angeles:20301121T190000
DTEND;TZID=America/Los_Angeles:20301121T210000
DTSTAMP:20260420T134726
CREATED:20260207T154408Z
LAST-MODIFIED:20260211T110003Z
UID:10010915-1921518000-1921525200@hangar24brewing.com
SUMMARY:Trivia Night: Epic Pub Quiz
DESCRIPTION:
URL:https://hangar24brewing.com/event/trivia-night-epic-pub-quiz-2/2030-11-21/
LOCATION:HANGAR 24 BREWING – ORANGE COUNTY\, CA
CATEGORIES:Orange County, CA Events
END:VEVENT
BEGIN:VEVENT
DTSTART;TZID=America/Los_Angeles:20301125T180000
DTEND;TZID=America/Los_Angeles:20301125T200000
DTSTAMP:20260420T134726
CREATED:20260207T153334Z
LAST-MODIFIED:20260211T105548Z
UID:10012488-1921860000-1921867200@hangar24brewing.com
SUMMARY:"Sing Your Heart Out" Karaoke Singles Night
DESCRIPTION:
URL:https://hangar24brewing.com/event/sing-your-heart-out-karaoke-singles-night-3/2030-11-25/
LOCATION:HANGAR 24 BREWING – ORANGE COUNTY\, CA
CATEGORIES:Orange County, CA Events
END:VEVENT
BEGIN:VEVENT
DTSTART;TZID=America/Los_Angeles:20301128T190000
DTEND;TZID=America/Los_Angeles:20301128T210000
DTSTAMP:20260420T134726
CREATED:20260207T154408Z
LAST-MODIFIED:20260211T110003Z
UID:10010916-1922122800-1922130000@hangar24brewing.com
SUMMARY:Trivia Night: Epic Pub Quiz
DESCRIPTION:
URL:https://hangar24brewing.com/event/trivia-night-epic-pub-quiz-2/2030-11-28/
LOCATION:HANGAR 24 BREWING – ORANGE COUNTY\, CA
CATEGORIES:Orange County, CA Events
END:VEVENT
BEGIN:VEVENT
DTSTART;TZID=America/Los_Angeles:20301202T180000
DTEND;TZID=America/Los_Angeles:20301202T200000
DTSTAMP:20260420T134726
CREATED:20260207T153334Z
LAST-MODIFIED:20260211T105548Z
UID:10012489-1922464800-1922472000@hangar24brewing.com
SUMMARY:"Sing Your Heart Out" Karaoke Singles Night
DESCRIPTION:
URL:https://hangar24brewing.com/event/sing-your-heart-out-karaoke-singles-night-3/2030-12-02/
LOCATION:HANGAR 24 BREWING – ORANGE COUNTY\, CA
CATEGORIES:Orange County, CA Events
END:VEVENT
BEGIN:VEVENT
DTSTART;TZID=America/Los_Angeles:20301205T190000
DTEND;TZID=America/Los_Angeles:20301205T210000
DTSTAMP:20260420T134726
CREATED:20260207T154408Z
LAST-MODIFIED:20260211T110003Z
UID:10010917-1922727600-1922734800@hangar24brewing.com
SUMMARY:Trivia Night: Epic Pub Quiz
DESCRIPTION:
URL:https://hangar24brewing.com/event/trivia-night-epic-pub-quiz-2/2030-12-05/
LOCATION:HANGAR 24 BREWING – ORANGE COUNTY\, CA
CATEGORIES:Orange County, CA Events
END:VEVENT
BEGIN:VEVENT
DTSTART;TZID=America/Los_Angeles:20301209T180000
DTEND;TZID=America/Los_Angeles:20301209T200000
DTSTAMP:20260420T134726
CREATED:20260207T153334Z
LAST-MODIFIED:20260211T105548Z
UID:10012490-1923069600-1923076800@hangar24brewing.com
SUMMARY:"Sing Your Heart Out" Karaoke Singles Night
DESCRIPTION:
URL:https://hangar24brewing.com/event/sing-your-heart-out-karaoke-singles-night-3/2030-12-09/
LOCATION:HANGAR 24 BREWING – ORANGE COUNTY\, CA
CATEGORIES:Orange County, CA Events
END:VEVENT
BEGIN:VEVENT
DTSTART;TZID=America/Los_Angeles:20301212T190000
DTEND;TZID=America/Los_Angeles:20301212T210000
DTSTAMP:20260420T134726
CREATED:20260207T154408Z
LAST-MODIFIED:20260211T110003Z
UID:10010918-1923332400-1923339600@hangar24brewing.com
SUMMARY:Trivia Night: Epic Pub Quiz
DESCRIPTION:
URL:https://hangar24brewing.com/event/trivia-night-epic-pub-quiz-2/2030-12-12/
LOCATION:HANGAR 24 BREWING – ORANGE COUNTY\, CA
CATEGORIES:Orange County, CA Events
END:VEVENT
BEGIN:VEVENT
DTSTART;TZID=America/Los_Angeles:20301216T180000
DTEND;TZID=America/Los_Angeles:20301216T200000
DTSTAMP:20260420T134726
CREATED:20260207T153334Z
LAST-MODIFIED:20260211T105548Z
UID:10012491-1923674400-1923681600@hangar24brewing.com
SUMMARY:"Sing Your Heart Out" Karaoke Singles Night
DESCRIPTION:
URL:https://hangar24brewing.com/event/sing-your-heart-out-karaoke-singles-night-3/2030-12-16/
LOCATION:HANGAR 24 BREWING – ORANGE COUNTY\, CA
CATEGORIES:Orange County, CA Events
END:VEVENT
BEGIN:VEVENT
DTSTART;TZID=America/Los_Angeles:20301219T190000
DTEND;TZID=America/Los_Angeles:20301219T210000
DTSTAMP:20260420T134726
CREATED:20260207T154408Z
LAST-MODIFIED:20260211T110003Z
UID:10012502-1923937200-1923944400@hangar24brewing.com
SUMMARY:Trivia Night: Epic Pub Quiz
DESCRIPTION:
URL:https://hangar24brewing.com/event/trivia-night-epic-pub-quiz-2/2030-12-19/
LOCATION:HANGAR 24 BREWING – ORANGE COUNTY\, CA
CATEGORIES:Orange County, CA Events
END:VEVENT
BEGIN:VEVENT
DTSTART;TZID=America/Los_Angeles:20301223T180000
DTEND;TZID=America/Los_Angeles:20301223T200000
DTSTAMP:20260420T134726
CREATED:20260207T153334Z
LAST-MODIFIED:20260211T105548Z
UID:10012492-1924279200-1924286400@hangar24brewing.com
SUMMARY:"Sing Your Heart Out" Karaoke Singles Night
DESCRIPTION:
URL:https://hangar24brewing.com/event/sing-your-heart-out-karaoke-singles-night-3/2030-12-23/
LOCATION:HANGAR 24 BREWING – ORANGE COUNTY\, CA
CATEGORIES:Orange County, CA Events
END:VEVENT
BEGIN:VEVENT
DTSTART;TZID=America/Los_Angeles:20301226T190000
DTEND;TZID=America/Los_Angeles:20301226T210000
DTSTAMP:20260420T134726
CREATED:20260207T154408Z
LAST-MODIFIED:20260211T110003Z
UID:10012503-1924542000-1924549200@hangar24brewing.com
SUMMARY:Trivia Night: Epic Pub Quiz
DESCRIPTION:
URL:https://hangar24brewing.com/event/trivia-night-epic-pub-quiz-2/2030-12-26/
LOCATION:HANGAR 24 BREWING – ORANGE COUNTY\, CA
CATEGORIES:Orange County, CA Events
END:VEVENT
BEGIN:VEVENT
DTSTART;TZID=America/Los_Angeles:20301230T180000
DTEND;TZID=America/Los_Angeles:20301230T200000
DTSTAMP:20260420T134726
CREATED:20260207T153334Z
LAST-MODIFIED:20260211T105548Z
UID:10012493-1924884000-1924891200@hangar24brewing.com
SUMMARY:"Sing Your Heart Out" Karaoke Singles Night
DESCRIPTION:
URL:https://hangar24brewing.com/event/sing-your-heart-out-karaoke-singles-night-3/2030-12-30/
LOCATION:HANGAR 24 BREWING – ORANGE COUNTY\, CA
CATEGORIES:Orange County, CA Events
END:VEVENT
BEGIN:VEVENT
DTSTART;TZID=America/Los_Angeles:20310102T190000
DTEND;TZID=America/Los_Angeles:20310102T210000
DTSTAMP:20260420T134726
CREATED:20260207T154408Z
LAST-MODIFIED:20260211T110003Z
UID:10012504-1925146800-1925154000@hangar24brewing.com
SUMMARY:Trivia Night: Epic Pub Quiz
DESCRIPTION:
URL:https://hangar24brewing.com/event/trivia-night-epic-pub-quiz-2/2031-01-02/
LOCATION:HANGAR 24 BREWING – ORANGE COUNTY\, CA
CATEGORIES:Orange County, CA Events
END:VEVENT
BEGIN:VEVENT
DTSTART;TZID=America/Los_Angeles:20310106T180000
DTEND;TZID=America/Los_Angeles:20310106T200000
DTSTAMP:20260420T134726
CREATED:20260207T153334Z
LAST-MODIFIED:20260211T105548Z
UID:10012494-1925488800-1925496000@hangar24brewing.com
SUMMARY:"Sing Your Heart Out" Karaoke Singles Night
DESCRIPTION:
URL:https://hangar24brewing.com/event/sing-your-heart-out-karaoke-singles-night-3/2031-01-06/
LOCATION:HANGAR 24 BREWING – ORANGE COUNTY\, CA
CATEGORIES:Orange County, CA Events
END:VEVENT
BEGIN:VEVENT
DTSTART;TZID=America/Los_Angeles:20310109T190000
DTEND;TZID=America/Los_Angeles:20310109T210000
DTSTAMP:20260420T134726
CREATED:20260207T154408Z
LAST-MODIFIED:20260211T110003Z
UID:10012505-1925751600-1925758800@hangar24brewing.com
SUMMARY:Trivia Night: Epic Pub Quiz
DESCRIPTION:
URL:https://hangar24brewing.com/event/trivia-night-epic-pub-quiz-2/2031-01-09/
LOCATION:HANGAR 24 BREWING – ORANGE COUNTY\, CA
CATEGORIES:Orange County, CA Events
END:VEVENT
BEGIN:VEVENT
DTSTART;TZID=America/Los_Angeles:20310113T180000
DTEND;TZID=America/Los_Angeles:20310113T200000
DTSTAMP:20260420T134726
CREATED:20260207T153334Z
LAST-MODIFIED:20260211T105548Z
UID:10012495-1926093600-1926100800@hangar24brewing.com
SUMMARY:"Sing Your Heart Out" Karaoke Singles Night
DESCRIPTION:
URL:https://hangar24brewing.com/event/sing-your-heart-out-karaoke-singles-night-3/2031-01-13/
LOCATION:HANGAR 24 BREWING – ORANGE COUNTY\, CA
CATEGORIES:Orange County, CA Events
END:VEVENT
END:VCALENDAR