BEGIN:VCALENDAR
VERSION:2.0
PRODID:-//Hangar 24 Craft Brewing - ECPv6.15.20//NONSGML v1.0//EN
CALSCALE:GREGORIAN
METHOD:PUBLISH
X-WR-CALNAME:Hangar 24 Craft Brewing
X-ORIGINAL-URL:https://hangar24brewing.com
X-WR-CALDESC:Events for Hangar 24 Craft Brewing
REFRESH-INTERVAL;VALUE=DURATION:PT1H
X-Robots-Tag:noindex
X-PUBLISHED-TTL:PT1H
BEGIN:VTIMEZONE
TZID:America/Los_Angeles
BEGIN:DAYLIGHT
TZOFFSETFROM:-0800
TZOFFSETTO:-0700
TZNAME:PDT
DTSTART:20230312T100000
END:DAYLIGHT
BEGIN:STANDARD
TZOFFSETFROM:-0700
TZOFFSETTO:-0800
TZNAME:PST
DTSTART:20231105T090000
END:STANDARD
BEGIN:DAYLIGHT
TZOFFSETFROM:-0800
TZOFFSETTO:-0700
TZNAME:PDT
DTSTART:20240310T100000
END:DAYLIGHT
BEGIN:STANDARD
TZOFFSETFROM:-0700
TZOFFSETTO:-0800
TZNAME:PST
DTSTART:20241103T090000
END:STANDARD
BEGIN:DAYLIGHT
TZOFFSETFROM:-0800
TZOFFSETTO:-0700
TZNAME:PDT
DTSTART:20250309T100000
END:DAYLIGHT
BEGIN:STANDARD
TZOFFSETFROM:-0700
TZOFFSETTO:-0800
TZNAME:PST
DTSTART:20251102T090000
END:STANDARD
END:VTIMEZONE
BEGIN:VEVENT
DTSTART;TZID=America/Los_Angeles:20240201T190000
DTEND;TZID=America/Los_Angeles:20240201T210000
DTSTAMP:20260421T033544
CREATED:20230928T020155Z
LAST-MODIFIED:20230928T020155Z
UID:10004090-1706814000-1706821200@hangar24brewing.com
SUMMARY:Trivia Night
DESCRIPTION:
URL:https://hangar24brewing.com/event/trivia-night-7/2024-02-01/
LOCATION:HANGAR 24 BREWING – REDLANDS\, CA
CATEGORIES:Redlands, CA Events
END:VEVENT
BEGIN:VEVENT
DTSTART;VALUE=DATE:20240202
DTEND;VALUE=DATE:20240203
DTSTAMP:20260421T033544
CREATED:20240114T164552Z
LAST-MODIFIED:20240114T171015Z
UID:10005346-1706832000-1706918399@hangar24brewing.com
SUMMARY:Food: Back To The Burger
DESCRIPTION:
URL:https://hangar24brewing.com/event/back-to-the-burger/
LOCATION:HANGAR 24 BREWING – REDLANDS\, CA
CATEGORIES:Redlands, CA Events
END:VEVENT
BEGIN:VEVENT
DTSTART;TZID=America/Los_Angeles:20240203T180000
DTEND;TZID=America/Los_Angeles:20240203T210000
DTSTAMP:20260421T033544
CREATED:20240114T164732Z
LAST-MODIFIED:20240114T164818Z
UID:10005347-1706983200-1706994000@hangar24brewing.com
SUMMARY:Food: Killer Dogs Music: James Alexander
DESCRIPTION:
URL:https://hangar24brewing.com/event/food-killer-dogs-music-james-alexander/
LOCATION:HANGAR 24 BREWING – REDLANDS\, CA
CATEGORIES:Redlands, CA Events
END:VEVENT
BEGIN:VEVENT
DTSTART;VALUE=DATE:20240204
DTEND;VALUE=DATE:20240205
DTSTAMP:20260421T033544
CREATED:20240114T165038Z
LAST-MODIFIED:20240114T165038Z
UID:10005348-1707004800-1707091199@hangar24brewing.com
SUMMARY:Food: Hollywood BBQ
DESCRIPTION:
URL:https://hangar24brewing.com/event/food-hollywood-bbq-3/2024-02-04/
LOCATION:HANGAR 24 BREWING – REDLANDS\, CA
CATEGORIES:Redlands, CA Events
END:VEVENT
BEGIN:VEVENT
DTSTART;VALUE=DATE:20240205
DTEND;VALUE=DATE:20240206
DTSTAMP:20260421T033544
CREATED:20240114T165402Z
LAST-MODIFIED:20240114T165402Z
UID:10005350-1707091200-1707177599@hangar24brewing.com
SUMMARY:Food: The Green Pig
DESCRIPTION:
URL:https://hangar24brewing.com/event/food-the-green-pig-10/2024-02-05/
LOCATION:HANGAR 24 BREWING – REDLANDS\, CA
CATEGORIES:Redlands, CA Events
END:VEVENT
BEGIN:VEVENT
DTSTART;VALUE=DATE:20240206
DTEND;VALUE=DATE:20240207
DTSTAMP:20260421T033544
CREATED:20240114T165402Z
LAST-MODIFIED:20240114T165402Z
UID:10005351-1707209646-1707209646@hangar24brewing.com
SUMMARY:Food: The Green Pig
DESCRIPTION:
URL:https://hangar24brewing.com/event/food-the-green-pig-10/2024-02-06/
LOCATION:HANGAR 24 BREWING – REDLANDS\, CA
CATEGORIES:Redlands, CA Events
END:VEVENT
BEGIN:VEVENT
DTSTART;VALUE=DATE:20240207
DTEND;VALUE=DATE:20240208
DTSTAMP:20260421T033544
CREATED:20240114T165606Z
LAST-MODIFIED:20240114T165606Z
UID:10005355-1707264000-1707350399@hangar24brewing.com
SUMMARY:Food: Hoppy Tacos
DESCRIPTION:
URL:https://hangar24brewing.com/event/food-hoppy-tacos-3/2024-02-07/
LOCATION:HANGAR 24 BREWING – REDLANDS\, CA
CATEGORIES:Redlands, CA Events
END:VEVENT
BEGIN:VEVENT
DTSTART;TZID=America/Los_Angeles:20240207T173000
DTEND;TZID=America/Los_Angeles:20240207T203000
DTSTAMP:20260421T033544
CREATED:20240114T171151Z
LAST-MODIFIED:20240114T171151Z
UID:10005377-1707327000-1707337800@hangar24brewing.com
SUMMARY:Matt Coleman
DESCRIPTION:
URL:https://hangar24brewing.com/event/matt-coleman-7/
LOCATION:HANGAR 24 BREWING – REDLANDS\, CA
CATEGORIES:Redlands, CA Events
END:VEVENT
BEGIN:VEVENT
DTSTART;VALUE=DATE:20240208
DTEND;VALUE=DATE:20240209
DTSTAMP:20260421T033544
CREATED:20240114T165725Z
LAST-MODIFIED:20240114T170938Z
UID:10005357-1707350400-1707436799@hangar24brewing.com
SUMMARY:Food: No Mambres
DESCRIPTION:
URL:https://hangar24brewing.com/event/no-mambres/2024-02-08/
LOCATION:HANGAR 24 BREWING – REDLANDS\, CA
CATEGORIES:Redlands, CA Events
END:VEVENT
BEGIN:VEVENT
DTSTART;TZID=America/Los_Angeles:20240208T190000
DTEND;TZID=America/Los_Angeles:20240208T210000
DTSTAMP:20260421T033544
CREATED:20230928T020155Z
LAST-MODIFIED:20230928T020155Z
UID:10004091-1707418800-1707426000@hangar24brewing.com
SUMMARY:Trivia Night
DESCRIPTION:
URL:https://hangar24brewing.com/event/trivia-night-7/2024-02-08/
LOCATION:HANGAR 24 BREWING – REDLANDS\, CA
CATEGORIES:Redlands, CA Events
END:VEVENT
BEGIN:VEVENT
DTSTART;VALUE=DATE:20240209
DTEND;VALUE=DATE:20240210
DTSTAMP:20260421T033544
CREATED:20240114T165913Z
LAST-MODIFIED:20240114T170857Z
UID:10005359-1707436800-1707523199@hangar24brewing.com
SUMMARY:Food: Back To The Burger
DESCRIPTION:
URL:https://hangar24brewing.com/event/back-to-the-burger-2/2024-02-09/
LOCATION:HANGAR 24 BREWING – REDLANDS\, CA
CATEGORIES:Redlands, CA Events
END:VEVENT
BEGIN:VEVENT
DTSTART;TZID=America/Los_Angeles:20240209T180000
DTEND;TZID=America/Los_Angeles:20240209T210000
DTSTAMP:20260421T033544
CREATED:20240114T171513Z
LAST-MODIFIED:20240114T171514Z
UID:10005378-1707501600-1707512400@hangar24brewing.com
SUMMARY:Lenka Soul
DESCRIPTION:Bob Marley B-Day Celebration!!!
URL:https://hangar24brewing.com/event/lenka-soul/
LOCATION:HANGAR 24 BREWING – REDLANDS\, CA
CATEGORIES:Redlands, CA Events
END:VEVENT
BEGIN:VEVENT
DTSTART;VALUE=DATE:20240210
DTEND;VALUE=DATE:20240211
DTSTAMP:20260421T033544
CREATED:20240114T165038Z
LAST-MODIFIED:20240114T165038Z
UID:10005349-1707555042-1707555042@hangar24brewing.com
SUMMARY:Food: Hollywood BBQ
DESCRIPTION:
URL:https://hangar24brewing.com/event/food-hollywood-bbq-3/2024-02-10/
LOCATION:HANGAR 24 BREWING – REDLANDS\, CA
CATEGORIES:Redlands, CA Events
END:VEVENT
BEGIN:VEVENT
DTSTART;TZID=America/Los_Angeles:20240210T180000
DTEND;TZID=America/Los_Angeles:20240210T210000
DTSTAMP:20260421T033544
CREATED:20240114T171625Z
LAST-MODIFIED:20240114T171625Z
UID:10005379-1707588000-1707598800@hangar24brewing.com
SUMMARY:Coleslaw
DESCRIPTION:
URL:https://hangar24brewing.com/event/coleslaw-4/
LOCATION:HANGAR 24 BREWING – REDLANDS\, CA
CATEGORIES:Redlands, CA Events
END:VEVENT
BEGIN:VEVENT
DTSTART;VALUE=DATE:20240211
DTEND;VALUE=DATE:20240212
DTSTAMP:20260421T033544
CREATED:20240114T170115Z
LAST-MODIFIED:20240114T170115Z
UID:10005362-1707609600-1707695999@hangar24brewing.com
SUMMARY:Food: 4Tinos
DESCRIPTION:
URL:https://hangar24brewing.com/event/food-4tinos/2024-02-11/
LOCATION:HANGAR 24 BREWING – REDLANDS\, CA
CATEGORIES:Redlands, CA Events
END:VEVENT
BEGIN:VEVENT
DTSTART;VALUE=DATE:20240212
DTEND;VALUE=DATE:20240213
DTSTAMP:20260421T033544
CREATED:20240114T170252Z
LAST-MODIFIED:20240114T170826Z
UID:10005364-1707696000-1707782399@hangar24brewing.com
SUMMARY:Food: Peanuts Fried Rice
DESCRIPTION:
URL:https://hangar24brewing.com/event/peanuts-fried-rice/2024-02-12/
LOCATION:HANGAR 24 BREWING – REDLANDS\, CA
CATEGORIES:Redlands, CA Events
END:VEVENT
BEGIN:VEVENT
DTSTART;VALUE=DATE:20240213
DTEND;VALUE=DATE:20240214
DTSTAMP:20260421T033544
CREATED:20240114T165402Z
LAST-MODIFIED:20240114T165402Z
UID:10005352-1707814446-1707814446@hangar24brewing.com
SUMMARY:Food: The Green Pig
DESCRIPTION:
URL:https://hangar24brewing.com/event/food-the-green-pig-10/2024-02-13/
LOCATION:HANGAR 24 BREWING – REDLANDS\, CA
CATEGORIES:Redlands, CA Events
END:VEVENT
BEGIN:VEVENT
DTSTART;VALUE=DATE:20240214
DTEND;VALUE=DATE:20240215
DTSTAMP:20260421T033544
CREATED:20240114T165402Z
LAST-MODIFIED:20240114T165402Z
UID:10005353-1707900846-1707900846@hangar24brewing.com
SUMMARY:Food: The Green Pig
DESCRIPTION:
URL:https://hangar24brewing.com/event/food-the-green-pig-10/2024-02-14/
LOCATION:HANGAR 24 BREWING – REDLANDS\, CA
CATEGORIES:Redlands, CA Events
END:VEVENT
BEGIN:VEVENT
DTSTART;VALUE=DATE:20240215
DTEND;VALUE=DATE:20240216
DTSTAMP:20260421T033544
CREATED:20240114T170503Z
LAST-MODIFIED:20240114T170503Z
UID:10005367-1707955200-1708041599@hangar24brewing.com
SUMMARY:Food: Las Ploras
DESCRIPTION:
URL:https://hangar24brewing.com/event/food-las-ploras-8/2024-02-15/
LOCATION:HANGAR 24 BREWING – REDLANDS\, CA
CATEGORIES:Redlands, CA Events
END:VEVENT
BEGIN:VEVENT
DTSTART;TZID=America/Los_Angeles:20240215T190000
DTEND;TZID=America/Los_Angeles:20240215T210000
DTSTAMP:20260421T033544
CREATED:20230928T020155Z
LAST-MODIFIED:20230928T020155Z
UID:10004092-1708023600-1708030800@hangar24brewing.com
SUMMARY:Trivia Night
DESCRIPTION:
URL:https://hangar24brewing.com/event/trivia-night-7/2024-02-15/
LOCATION:HANGAR 24 BREWING – REDLANDS\, CA
CATEGORIES:Redlands, CA Events
END:VEVENT
BEGIN:VEVENT
DTSTART;VALUE=DATE:20240216
DTEND;VALUE=DATE:20240217
DTSTAMP:20260421T033544
CREATED:20240114T165913Z
LAST-MODIFIED:20240114T170857Z
UID:10005374-1708070400-1708102800@hangar24brewing.com
SUMMARY:Food: Back To The Burger
DESCRIPTION:
URL:https://hangar24brewing.com/event/back-to-the-burger-2/2024-02-16/
LOCATION:HANGAR 24 BREWING – REDLANDS\, CA
CATEGORIES:Redlands, CA Events
END:VEVENT
BEGIN:VEVENT
DTSTART;VALUE=DATE:20240217
DTEND;VALUE=DATE:20240218
DTSTAMP:20260421T033544
CREATED:20240114T170503Z
LAST-MODIFIED:20240114T170503Z
UID:10005368-1708160706-1708160706@hangar24brewing.com
SUMMARY:Food: Las Ploras
DESCRIPTION:
URL:https://hangar24brewing.com/event/food-las-ploras-8/2024-02-17/
LOCATION:HANGAR 24 BREWING – REDLANDS\, CA
CATEGORIES:Redlands, CA Events
END:VEVENT
BEGIN:VEVENT
DTSTART;TZID=America/Los_Angeles:20240217T180000
DTEND;TZID=America/Los_Angeles:20240217T210000
DTSTAMP:20260421T033544
CREATED:20240114T171731Z
LAST-MODIFIED:20240114T171731Z
UID:10005380-1708192800-1708203600@hangar24brewing.com
SUMMARY:Mike Staggs Soul Band
DESCRIPTION:
URL:https://hangar24brewing.com/event/mike-staggs-soul-band-5/
LOCATION:HANGAR 24 BREWING – REDLANDS\, CA
CATEGORIES:Redlands, CA Events
END:VEVENT
BEGIN:VEVENT
DTSTART;VALUE=DATE:20240218
DTEND;VALUE=DATE:20240219
DTSTAMP:20260421T033544
CREATED:20240114T170623Z
LAST-MODIFIED:20240114T170623Z
UID:10005369-1708214400-1708300799@hangar24brewing.com
SUMMARY:Food: Wicked Sausage
DESCRIPTION:
URL:https://hangar24brewing.com/event/food-wicked-sausage/2024-02-18/
LOCATION:HANGAR 24 BREWING – REDLANDS\, CA
CATEGORIES:Redlands, CA Events
END:VEVENT
BEGIN:VEVENT
DTSTART;VALUE=DATE:20240219
DTEND;VALUE=DATE:20240220
DTSTAMP:20260421T033544
CREATED:20240114T170252Z
LAST-MODIFIED:20240114T170826Z
UID:10005372-1708329600-1708362000@hangar24brewing.com
SUMMARY:Food: Peanuts Fried Rice
DESCRIPTION:
URL:https://hangar24brewing.com/event/peanuts-fried-rice/2024-02-19/
LOCATION:HANGAR 24 BREWING – REDLANDS\, CA
CATEGORIES:Redlands, CA Events
END:VEVENT
BEGIN:VEVENT
DTSTART;VALUE=DATE:20240220
DTEND;VALUE=DATE:20240221
DTSTAMP:20260421T033544
CREATED:20240114T170732Z
LAST-MODIFIED:20240114T170732Z
UID:10005371-1708387200-1708473599@hangar24brewing.com
SUMMARY:Food: Grilled On A Stick & Noodles
DESCRIPTION:
URL:https://hangar24brewing.com/event/food-grilled-on-a-stick-noodles/
LOCATION:HANGAR 24 BREWING – REDLANDS\, CA
CATEGORIES:Redlands, CA Events
END:VEVENT
BEGIN:VEVENT
DTSTART;VALUE=DATE:20240221
DTEND;VALUE=DATE:20240222
DTSTAMP:20260421T033544
CREATED:20240114T165606Z
LAST-MODIFIED:20240114T165606Z
UID:10005356-1708505769-1708505769@hangar24brewing.com
SUMMARY:Food: Hoppy Tacos
DESCRIPTION:
URL:https://hangar24brewing.com/event/food-hoppy-tacos-3/2024-02-21/
LOCATION:HANGAR 24 BREWING – REDLANDS\, CA
CATEGORIES:Redlands, CA Events
END:VEVENT
BEGIN:VEVENT
DTSTART;TZID=America/Los_Angeles:20240221T173000
DTEND;TZID=America/Los_Angeles:20240221T203000
DTSTAMP:20260421T033544
CREATED:20240114T171829Z
LAST-MODIFIED:20240114T171829Z
UID:10005381-1708536600-1708547400@hangar24brewing.com
SUMMARY:John Major: Open Mic Night
DESCRIPTION:
URL:https://hangar24brewing.com/event/john-major-open-mic-night-3/
LOCATION:HANGAR 24 BREWING – REDLANDS\, CA
CATEGORIES:Redlands, CA Events
END:VEVENT
BEGIN:VEVENT
DTSTART;TZID=America/Los_Angeles:20240222T190000
DTEND;TZID=America/Los_Angeles:20240222T210000
DTSTAMP:20260421T033544
CREATED:20230928T020155Z
LAST-MODIFIED:20230928T020155Z
UID:10004093-1708628400-1708635600@hangar24brewing.com
SUMMARY:Trivia Night
DESCRIPTION:
URL:https://hangar24brewing.com/event/trivia-night-7/2024-02-22/
LOCATION:HANGAR 24 BREWING – REDLANDS\, CA
CATEGORIES:Redlands, CA Events
END:VEVENT
BEGIN:VEVENT
DTSTART;VALUE=DATE:20240223
DTEND;VALUE=DATE:20240224
DTSTAMP:20260421T033544
CREATED:20240114T165913Z
LAST-MODIFIED:20240114T170857Z
UID:10005375-1708675200-1708707600@hangar24brewing.com
SUMMARY:Food: Back To The Burger
DESCRIPTION:
URL:https://hangar24brewing.com/event/back-to-the-burger-2/2024-02-23/
LOCATION:HANGAR 24 BREWING – REDLANDS\, CA
CATEGORIES:Redlands, CA Events
END:VEVENT
END:VCALENDAR