BEGIN:VCALENDAR
VERSION:2.0
PRODID:-//Hangar 24 Craft Brewing - ECPv6.15.20//NONSGML v1.0//EN
CALSCALE:GREGORIAN
METHOD:PUBLISH
X-WR-CALNAME:Hangar 24 Craft Brewing
X-ORIGINAL-URL:https://hangar24brewing.com
X-WR-CALDESC:Events for Hangar 24 Craft Brewing
REFRESH-INTERVAL;VALUE=DURATION:PT1H
X-Robots-Tag:noindex
X-PUBLISHED-TTL:PT1H
BEGIN:VTIMEZONE
TZID:America/Los_Angeles
BEGIN:DAYLIGHT
TZOFFSETFROM:-0800
TZOFFSETTO:-0700
TZNAME:PDT
DTSTART:20240310T100000
END:DAYLIGHT
BEGIN:STANDARD
TZOFFSETFROM:-0700
TZOFFSETTO:-0800
TZNAME:PST
DTSTART:20241103T090000
END:STANDARD
BEGIN:DAYLIGHT
TZOFFSETFROM:-0800
TZOFFSETTO:-0700
TZNAME:PDT
DTSTART:20250309T100000
END:DAYLIGHT
BEGIN:STANDARD
TZOFFSETFROM:-0700
TZOFFSETTO:-0800
TZNAME:PST
DTSTART:20251102T090000
END:STANDARD
BEGIN:DAYLIGHT
TZOFFSETFROM:-0800
TZOFFSETTO:-0700
TZNAME:PDT
DTSTART:20260308T100000
END:DAYLIGHT
BEGIN:STANDARD
TZOFFSETFROM:-0700
TZOFFSETTO:-0800
TZNAME:PST
DTSTART:20261101T090000
END:STANDARD
END:VTIMEZONE
BEGIN:VEVENT
DTSTART;TZID=America/Los_Angeles:20250703T190000
DTEND;TZID=America/Los_Angeles:20250703T210000
DTSTAMP:20260421T015657
CREATED:20230928T020155Z
LAST-MODIFIED:20230928T020155Z
UID:10004164-1751569200-1751576400@hangar24brewing.com
SUMMARY:Trivia Night
DESCRIPTION:
URL:https://hangar24brewing.com/event/trivia-night-7/2025-07-03/
LOCATION:HANGAR 24 BREWING – REDLANDS\, CA
CATEGORIES:Redlands, CA Events
END:VEVENT
BEGIN:VEVENT
DTSTART;TZID=America/Los_Angeles:20250710T190000
DTEND;TZID=America/Los_Angeles:20250710T210000
DTSTAMP:20260421T015657
CREATED:20230928T020155Z
LAST-MODIFIED:20230928T020155Z
UID:10004165-1752174000-1752181200@hangar24brewing.com
SUMMARY:Trivia Night
DESCRIPTION:
URL:https://hangar24brewing.com/event/trivia-night-7/2025-07-10/
LOCATION:HANGAR 24 BREWING – REDLANDS\, CA
CATEGORIES:Redlands, CA Events
END:VEVENT
BEGIN:VEVENT
DTSTART;TZID=America/Los_Angeles:20250717T190000
DTEND;TZID=America/Los_Angeles:20250717T210000
DTSTAMP:20260421T015657
CREATED:20230928T020155Z
LAST-MODIFIED:20230928T020155Z
UID:10004166-1752778800-1752786000@hangar24brewing.com
SUMMARY:Trivia Night
DESCRIPTION:
URL:https://hangar24brewing.com/event/trivia-night-7/2025-07-17/
LOCATION:HANGAR 24 BREWING – REDLANDS\, CA
CATEGORIES:Redlands, CA Events
END:VEVENT
BEGIN:VEVENT
DTSTART;TZID=America/Los_Angeles:20250724T190000
DTEND;TZID=America/Los_Angeles:20250724T210000
DTSTAMP:20260421T015657
CREATED:20230928T020155Z
LAST-MODIFIED:20230928T020155Z
UID:10004167-1753383600-1753390800@hangar24brewing.com
SUMMARY:Trivia Night
DESCRIPTION:
URL:https://hangar24brewing.com/event/trivia-night-7/2025-07-24/
LOCATION:HANGAR 24 BREWING – REDLANDS\, CA
CATEGORIES:Redlands, CA Events
END:VEVENT
BEGIN:VEVENT
DTSTART;TZID=America/Los_Angeles:20250731T190000
DTEND;TZID=America/Los_Angeles:20250731T210000
DTSTAMP:20260421T015657
CREATED:20230928T020155Z
LAST-MODIFIED:20230928T020155Z
UID:10004168-1753988400-1753995600@hangar24brewing.com
SUMMARY:Trivia Night
DESCRIPTION:
URL:https://hangar24brewing.com/event/trivia-night-7/2025-07-31/
LOCATION:HANGAR 24 BREWING – REDLANDS\, CA
CATEGORIES:Redlands, CA Events
END:VEVENT
END:VCALENDAR