BEGIN:VCALENDAR
VERSION:2.0
PRODID:-//Hangar 24 Craft Brewing - ECPv6.15.20//NONSGML v1.0//EN
CALSCALE:GREGORIAN
METHOD:PUBLISH
X-WR-CALNAME:Hangar 24 Craft Brewing
X-ORIGINAL-URL:https://hangar24brewing.com
X-WR-CALDESC:Events for Hangar 24 Craft Brewing
REFRESH-INTERVAL;VALUE=DURATION:PT1H
X-Robots-Tag:noindex
X-PUBLISHED-TTL:PT1H
BEGIN:VTIMEZONE
TZID:America/Los_Angeles
BEGIN:DAYLIGHT
TZOFFSETFROM:-0800
TZOFFSETTO:-0700
TZNAME:PDT
DTSTART:20240310T100000
END:DAYLIGHT
BEGIN:STANDARD
TZOFFSETFROM:-0700
TZOFFSETTO:-0800
TZNAME:PST
DTSTART:20241103T090000
END:STANDARD
BEGIN:DAYLIGHT
TZOFFSETFROM:-0800
TZOFFSETTO:-0700
TZNAME:PDT
DTSTART:20250309T100000
END:DAYLIGHT
BEGIN:STANDARD
TZOFFSETFROM:-0700
TZOFFSETTO:-0800
TZNAME:PST
DTSTART:20251102T090000
END:STANDARD
BEGIN:DAYLIGHT
TZOFFSETFROM:-0800
TZOFFSETTO:-0700
TZNAME:PDT
DTSTART:20260308T100000
END:DAYLIGHT
BEGIN:STANDARD
TZOFFSETFROM:-0700
TZOFFSETTO:-0800
TZNAME:PST
DTSTART:20261101T090000
END:STANDARD
END:VTIMEZONE
BEGIN:VEVENT
DTSTART;VALUE=DATE:20250601
DTEND;VALUE=DATE:20250602
DTSTAMP:20260421T050717
CREATED:20230411T055013Z
LAST-MODIFIED:20260207T151639Z
UID:10002477-1748736000-1748822399@hangar24brewing.com
SUMMARY:DJ Commodore
DESCRIPTION:
URL:https://hangar24brewing.com/event/brunch-sunday-football-2/2025-06-01/
LOCATION:HANGAR 24 BREWING – REDLANDS\, CA
END:VEVENT
BEGIN:VEVENT
DTSTART;TZID=America/Los_Angeles:20250601T110000
DTEND;TZID=America/Los_Angeles:20250601T200000
DTSTAMP:20260421T050717
CREATED:20241017T210438Z
LAST-MODIFIED:20260219T200355Z
UID:10008222-1748775600-1748808000@hangar24brewing.com
SUMMARY:Happy Hour - ALL DAY
DESCRIPTION:
URL:https://hangar24brewing.com/event/happy-hour-all-day/2025-06-01/
END:VEVENT
BEGIN:VEVENT
DTSTART;TZID=America/Los_Angeles:20250601T120000
DTEND;TZID=America/Los_Angeles:20250601T150000
DTSTAMP:20260421T050717
CREATED:20250401T054846Z
LAST-MODIFIED:20250401T054846Z
UID:10009563-1748779200-1748790000@hangar24brewing.com
SUMMARY:Reggae Sunday - The Tones
DESCRIPTION:
URL:https://hangar24brewing.com/event/reggae-sunday-the-tones-4/
LOCATION:HANGAR 24 BREWING – RIVERSIDE\, CA
CATEGORIES:Riverside, CA Events
END:VEVENT
BEGIN:VEVENT
DTSTART;TZID=America/Los_Angeles:20250601T120000
DTEND;TZID=America/Los_Angeles:20250601T150000
DTSTAMP:20260421T050717
CREATED:20250401T055950Z
LAST-MODIFIED:20250401T055950Z
UID:10009580-1748779200-1748790000@hangar24brewing.com
SUMMARY:Zachary Michael Band
DESCRIPTION:
URL:https://hangar24brewing.com/event/zachary-michael-band/
LOCATION:HANGAR 24 BREWING – ORANGE COUNTY\, CA
CATEGORIES:Orange County, CA Events
END:VEVENT
BEGIN:VEVENT
DTSTART;TZID=America/Los_Angeles:20250602T183000
DTEND;TZID=America/Los_Angeles:20250602T203000
DTSTAMP:20260421T050717
CREATED:20240219T213147Z
LAST-MODIFIED:20260219T194407Z
UID:10005473-1748889000-1748896200@hangar24brewing.com
SUMMARY:"Sing Your Heart Out" Karaoke Singles Night
DESCRIPTION:
URL:https://hangar24brewing.com/event/sing-your-heart-out-karaoke-singles-night/2025-06-02/
END:VEVENT
BEGIN:VEVENT
DTSTART;VALUE=DATE:20250603
DTEND;VALUE=DATE:20250604
DTSTAMP:20260421T050717
CREATED:20230411T060633Z
LAST-MODIFIED:20260207T151741Z
UID:10002088-1748908800-1748995199@hangar24brewing.com
SUMMARY:TEACHER TUESDAY (25% OFF)
DESCRIPTION:Mug Club Day & Teacher Tuesday (25% OFF!)
URL:https://hangar24brewing.com/event/mug-club-day-2/2025-06-03/
LOCATION:HANGAR 24 BREWING – REDLANDS\, CA
END:VEVENT
BEGIN:VEVENT
DTSTART;TZID=America/Los_Angeles:20250603T170000
DTEND;TZID=America/Los_Angeles:20250603T200000
DTSTAMP:20260421T050717
CREATED:20250401T060021Z
LAST-MODIFIED:20250401T060021Z
UID:10009581-1748970000-1748980800@hangar24brewing.com
SUMMARY:Country Dance Night
DESCRIPTION:
URL:https://hangar24brewing.com/event/country-dance-night-18/
LOCATION:HANGAR 24 BREWING – ORANGE COUNTY\, CA
CATEGORIES:Orange County, CA Events
END:VEVENT
BEGIN:VEVENT
DTSTART;TZID=America/Los_Angeles:20250603T190000
DTEND;TZID=America/Los_Angeles:20250603T220000
DTSTAMP:20260421T050717
CREATED:20250108T063359Z
LAST-MODIFIED:20260219T194135Z
UID:10007414-1748977200-1748988000@hangar24brewing.com
SUMMARY:Trivia Tuesdays (Pour House Trivia!)
DESCRIPTION:
URL:https://hangar24brewing.com/event/trivia-tuesdays-geeks-who-drink-3/2025-06-03/
END:VEVENT
BEGIN:VEVENT
DTSTART;TZID=America/Los_Angeles:20250604T170000
DTEND;TZID=America/Los_Angeles:20250604T200000
DTSTAMP:20260421T050717
CREATED:20250401T060047Z
LAST-MODIFIED:20250401T060047Z
UID:10009582-1749056400-1749067200@hangar24brewing.com
SUMMARY:Travis Miller
DESCRIPTION:
URL:https://hangar24brewing.com/event/travis-miller-9/
LOCATION:HANGAR 24 BREWING – ORANGE COUNTY\, CA
CATEGORIES:Orange County, CA Events
END:VEVENT
BEGIN:VEVENT
DTSTART;TZID=America/Los_Angeles:20250604T173000
DTEND;TZID=America/Los_Angeles:20250604T203000
DTSTAMP:20260421T050717
CREATED:20241017T210045Z
LAST-MODIFIED:20241104T072547Z
UID:10007959-1749058200-1749069000@hangar24brewing.com
SUMMARY:Bingo Night
DESCRIPTION:
URL:https://hangar24brewing.com/event/bingo-night-2/2025-06-04/
LOCATION:HANGAR 24 BREWING – LAKE HAVASU CITY\, CA
CATEGORIES:Lake Havasu City, CA Events
END:VEVENT
BEGIN:VEVENT
DTSTART;TZID=America/Los_Angeles:20250604T180000
DTEND;TZID=America/Los_Angeles:20250604T210000
DTSTAMP:20260421T050717
CREATED:20250401T054921Z
LAST-MODIFIED:20250401T054921Z
UID:10009564-1749060000-1749070800@hangar24brewing.com
SUMMARY:Mike Silvestri
DESCRIPTION:
URL:https://hangar24brewing.com/event/mike-silvestri-15/
LOCATION:HANGAR 24 BREWING – RIVERSIDE\, CA
CATEGORIES:Riverside, CA Events
END:VEVENT
BEGIN:VEVENT
DTSTART;TZID=America/Los_Angeles:20250605T173000
DTEND;TZID=America/Los_Angeles:20250605T203000
DTSTAMP:20260421T050717
CREATED:20251223T205412Z
LAST-MODIFIED:20251223T205556Z
UID:10007699-1749144600-1749155400@hangar24brewing.com
SUMMARY:Trivia Night (Geeks Who Drink)!
DESCRIPTION:
URL:https://hangar24brewing.com/event/trivia-night-geeks-who-drink-3/
LOCATION:HANGAR 24 BREWING – LAKE HAVASU CITY\, CA
CATEGORIES:Lake Havasu City, CA Events
END:VEVENT
BEGIN:VEVENT
DTSTART;TZID=America/Los_Angeles:20250605T180000
DTEND;TZID=America/Los_Angeles:20250605T230000
DTSTAMP:20260421T050717
CREATED:20241001T091714Z
LAST-MODIFIED:20251124T222446Z
UID:10007147-1749146400-1749164400@hangar24brewing.com
SUMMARY:College Night (live DJ & games)
DESCRIPTION:
URL:https://hangar24brewing.com/event/college-night-live-dj-games/2025-06-05/
LOCATION:HANGAR 24 BREWING – RIVERSIDE\, CA
CATEGORIES:Riverside, CA Events
END:VEVENT
BEGIN:VEVENT
DTSTART;TZID=America/Los_Angeles:20250605T190000
DTEND;TZID=America/Los_Angeles:20250605T210000
DTSTAMP:20260421T050717
CREATED:20230928T020155Z
LAST-MODIFIED:20230928T020155Z
UID:10004160-1749150000-1749157200@hangar24brewing.com
SUMMARY:Trivia Night
DESCRIPTION:
URL:https://hangar24brewing.com/event/trivia-night-7/2025-06-05/
LOCATION:HANGAR 24 BREWING – REDLANDS\, CA
CATEGORIES:Redlands, CA Events
END:VEVENT
BEGIN:VEVENT
DTSTART;TZID=America/Los_Angeles:20250605T190000
DTEND;TZID=America/Los_Angeles:20250605T210000
DTSTAMP:20260421T050717
CREATED:20240227T214405Z
LAST-MODIFIED:20241104T095034Z
UID:10006530-1749150000-1749157200@hangar24brewing.com
SUMMARY:Pour House Trivia
DESCRIPTION:It’s Trivia Night hosted by “Pour House Trivia”! – Hangar 24 Brewing – Orange County.
URL:https://hangar24brewing.com/event/pour-house-trivia-2/2025-06-05/
LOCATION:HANGAR 24 BREWING – ORANGE COUNTY\, CA
CATEGORIES:Orange County, CA Events
END:VEVENT
BEGIN:VEVENT
DTSTART;TZID=America/Los_Angeles:20250606T180000
DTEND;TZID=America/Los_Angeles:20250606T210000
DTSTAMP:20260421T050717
CREATED:20250401T060110Z
LAST-MODIFIED:20250401T060110Z
UID:10009583-1749232800-1749243600@hangar24brewing.com
SUMMARY:Pop Jones
DESCRIPTION:
URL:https://hangar24brewing.com/event/pop-jones-3/
LOCATION:HANGAR 24 BREWING – ORANGE COUNTY\, CA
CATEGORIES:Orange County, CA Events
END:VEVENT
BEGIN:VEVENT
DTSTART;TZID=America/Los_Angeles:20250606T200000
DTEND;TZID=America/Los_Angeles:20250606T230000
DTSTAMP:20260421T050717
CREATED:20250401T054949Z
LAST-MODIFIED:20250401T054949Z
UID:10009565-1749240000-1749250800@hangar24brewing.com
SUMMARY:Faux Fighters
DESCRIPTION:
URL:https://hangar24brewing.com/event/faux-fighters-2/
LOCATION:HANGAR 24 BREWING – RIVERSIDE\, CA
CATEGORIES:Riverside, CA Events
END:VEVENT
BEGIN:VEVENT
DTSTART;TZID=America/Los_Angeles:20250607T190000
DTEND;TZID=America/Los_Angeles:20250607T220000
DTSTAMP:20260421T050717
CREATED:20250401T060138Z
LAST-MODIFIED:20250401T060138Z
UID:10009584-1749322800-1749333600@hangar24brewing.com
SUMMARY:Redneck Rodeo
DESCRIPTION:
URL:https://hangar24brewing.com/event/redneck-rodeo-12/
LOCATION:HANGAR 24 BREWING – ORANGE COUNTY\, CA
CATEGORIES:Orange County, CA Events
END:VEVENT
BEGIN:VEVENT
DTSTART;TZID=America/Los_Angeles:20250607T200000
DTEND;TZID=America/Los_Angeles:20250607T230000
DTSTAMP:20260421T050717
CREATED:20250401T055024Z
LAST-MODIFIED:20250401T055024Z
UID:10009566-1749326400-1749337200@hangar24brewing.com
SUMMARY:Devotional (Depeche Mode Tribute)
DESCRIPTION:
URL:https://hangar24brewing.com/event/devotional-depeche-mode-tribute/
LOCATION:HANGAR 24 BREWING – RIVERSIDE\, CA
CATEGORIES:Riverside, CA Events
END:VEVENT
BEGIN:VEVENT
DTSTART;VALUE=DATE:20250608
DTEND;VALUE=DATE:20250609
DTSTAMP:20260421T050717
CREATED:20230411T055013Z
LAST-MODIFIED:20260207T151639Z
UID:10002478-1749340800-1749427199@hangar24brewing.com
SUMMARY:DJ Commodore
DESCRIPTION:
URL:https://hangar24brewing.com/event/brunch-sunday-football-2/2025-06-08/
LOCATION:HANGAR 24 BREWING – REDLANDS\, CA
END:VEVENT
BEGIN:VEVENT
DTSTART;VALUE=DATE:20250608
DTEND;VALUE=DATE:20250609
DTSTAMP:20260421T050717
CREATED:20250401T184320Z
LAST-MODIFIED:20250401T184320Z
UID:10009587-1749340800-1749427199@hangar24brewing.com
SUMMARY:Youth Entrepreneur Fair
DESCRIPTION:
URL:https://hangar24brewing.com/event/youth-entrepreneur-fair/
LOCATION:HANGAR 24 BREWING – ORANGE COUNTY\, CA
CATEGORIES:Orange County, CA Events
END:VEVENT
BEGIN:VEVENT
DTSTART;TZID=America/Los_Angeles:20250608T110000
DTEND;TZID=America/Los_Angeles:20250608T200000
DTSTAMP:20260421T050717
CREATED:20241017T210438Z
LAST-MODIFIED:20260219T200355Z
UID:10008223-1749380400-1749412800@hangar24brewing.com
SUMMARY:Happy Hour - ALL DAY
DESCRIPTION:
URL:https://hangar24brewing.com/event/happy-hour-all-day/2025-06-08/
END:VEVENT
BEGIN:VEVENT
DTSTART;TZID=America/Los_Angeles:20250608T120000
DTEND;TZID=America/Los_Angeles:20250608T150000
DTSTAMP:20260421T050718
CREATED:20250401T055057Z
LAST-MODIFIED:20250401T055057Z
UID:10009567-1749384000-1749394800@hangar24brewing.com
SUMMARY:Reggae Sunday - Skunkdub
DESCRIPTION:
URL:https://hangar24brewing.com/event/reggae-sunday-skunkdub-3/
LOCATION:HANGAR 24 BREWING – RIVERSIDE\, CA
CATEGORIES:Riverside, CA Events
END:VEVENT
BEGIN:VEVENT
DTSTART;TZID=America/Los_Angeles:20250609T183000
DTEND;TZID=America/Los_Angeles:20250609T203000
DTSTAMP:20260421T050718
CREATED:20240219T213147Z
LAST-MODIFIED:20260219T194407Z
UID:10005474-1749493800-1749501000@hangar24brewing.com
SUMMARY:"Sing Your Heart Out" Karaoke Singles Night
DESCRIPTION:
URL:https://hangar24brewing.com/event/sing-your-heart-out-karaoke-singles-night/2025-06-09/
END:VEVENT
BEGIN:VEVENT
DTSTART;VALUE=DATE:20250610
DTEND;VALUE=DATE:20250611
DTSTAMP:20260421T050718
CREATED:20230411T060633Z
LAST-MODIFIED:20260207T151741Z
UID:10002089-1749513600-1749599999@hangar24brewing.com
SUMMARY:TEACHER TUESDAY (25% OFF)
DESCRIPTION:Mug Club Day & Teacher Tuesday (25% OFF!)
URL:https://hangar24brewing.com/event/mug-club-day-2/2025-06-10/
LOCATION:HANGAR 24 BREWING – REDLANDS\, CA
END:VEVENT
BEGIN:VEVENT
DTSTART;TZID=America/Los_Angeles:20250610T170000
DTEND;TZID=America/Los_Angeles:20250610T210000
DTSTAMP:20260421T050718
CREATED:20250401T184543Z
LAST-MODIFIED:20250410T235636Z
UID:10009588-1749574800-1749589200@hangar24brewing.com
SUMMARY:Swing & Jive Dance Night
DESCRIPTION:
URL:https://hangar24brewing.com/event/swing-dance-night-28/
LOCATION:HANGAR 24 BREWING – ORANGE COUNTY\, CA
CATEGORIES:Orange County, CA Events
END:VEVENT
BEGIN:VEVENT
DTSTART;TZID=America/Los_Angeles:20250610T190000
DTEND;TZID=America/Los_Angeles:20250610T220000
DTSTAMP:20260421T050718
CREATED:20250108T063359Z
LAST-MODIFIED:20260219T194135Z
UID:10007415-1749582000-1749592800@hangar24brewing.com
SUMMARY:Trivia Tuesdays (Pour House Trivia!)
DESCRIPTION:
URL:https://hangar24brewing.com/event/trivia-tuesdays-geeks-who-drink-3/2025-06-10/
END:VEVENT
BEGIN:VEVENT
DTSTART;TZID=America/Los_Angeles:20250611T170000
DTEND;TZID=America/Los_Angeles:20250611T200000
DTSTAMP:20260421T050718
CREATED:20250401T055124Z
LAST-MODIFIED:20250401T055124Z
UID:10009568-1749661200-1749672000@hangar24brewing.com
SUMMARY:Jimmy Becker
DESCRIPTION:
URL:https://hangar24brewing.com/event/jimmy-becker-23/
LOCATION:HANGAR 24 BREWING – RIVERSIDE\, CA
CATEGORIES:Riverside, CA Events
END:VEVENT
BEGIN:VEVENT
DTSTART;TZID=America/Los_Angeles:20250611T170000
DTEND;TZID=America/Los_Angeles:20250611T200000
DTSTAMP:20260421T050718
CREATED:20250401T184609Z
LAST-MODIFIED:20250401T185355Z
UID:10009589-1749661200-1749672000@hangar24brewing.com
SUMMARY:Mouhammed Bassaj
DESCRIPTION:
URL:https://hangar24brewing.com/event/mouhammed-bassaj-19/
LOCATION:HANGAR 24 BREWING – ORANGE COUNTY\, CA
CATEGORIES:Orange County, CA Events
END:VEVENT
BEGIN:VEVENT
DTSTART;TZID=America/Los_Angeles:20250611T173000
DTEND;TZID=America/Los_Angeles:20250611T203000
DTSTAMP:20260421T050718
CREATED:20241017T210045Z
LAST-MODIFIED:20241104T072547Z
UID:10007960-1749663000-1749673800@hangar24brewing.com
SUMMARY:Bingo Night
DESCRIPTION:
URL:https://hangar24brewing.com/event/bingo-night-2/2025-06-11/
LOCATION:HANGAR 24 BREWING – LAKE HAVASU CITY\, CA
CATEGORIES:Lake Havasu City, CA Events
END:VEVENT
END:VCALENDAR