BEGIN:VCALENDAR
VERSION:2.0
PRODID:-//Hangar 24 Craft Brewing - ECPv6.15.20//NONSGML v1.0//EN
CALSCALE:GREGORIAN
METHOD:PUBLISH
X-ORIGINAL-URL:https://hangar24brewing.com
X-WR-CALDESC:Events for Hangar 24 Craft Brewing
REFRESH-INTERVAL;VALUE=DURATION:PT1H
X-Robots-Tag:noindex
X-PUBLISHED-TTL:PT1H
BEGIN:VTIMEZONE
TZID:America/Los_Angeles
BEGIN:DAYLIGHT
TZOFFSETFROM:-0800
TZOFFSETTO:-0700
TZNAME:PDT
DTSTART:19690427T100000
END:DAYLIGHT
BEGIN:STANDARD
TZOFFSETFROM:-0700
TZOFFSETTO:-0800
TZNAME:PST
DTSTART:19691026T090000
END:STANDARD
BEGIN:DAYLIGHT
TZOFFSETFROM:-0800
TZOFFSETTO:-0700
TZNAME:PDT
DTSTART:19700426T100000
END:DAYLIGHT
BEGIN:STANDARD
TZOFFSETFROM:-0700
TZOFFSETTO:-0800
TZNAME:PST
DTSTART:19701025T090000
END:STANDARD
BEGIN:DAYLIGHT
TZOFFSETFROM:-0800
TZOFFSETTO:-0700
TZNAME:PDT
DTSTART:19710425T100000
END:DAYLIGHT
BEGIN:STANDARD
TZOFFSETFROM:-0700
TZOFFSETTO:-0800
TZNAME:PST
DTSTART:19711031T090000
END:STANDARD
BEGIN:DAYLIGHT
TZOFFSETFROM:-0800
TZOFFSETTO:-0700
TZNAME:PDT
DTSTART:19720430T100000
END:DAYLIGHT
BEGIN:STANDARD
TZOFFSETFROM:-0700
TZOFFSETTO:-0800
TZNAME:PST
DTSTART:19721029T090000
END:STANDARD
BEGIN:DAYLIGHT
TZOFFSETFROM:-0800
TZOFFSETTO:-0700
TZNAME:PDT
DTSTART:19730429T100000
END:DAYLIGHT
BEGIN:STANDARD
TZOFFSETFROM:-0700
TZOFFSETTO:-0800
TZNAME:PST
DTSTART:19731028T090000
END:STANDARD
BEGIN:DAYLIGHT
TZOFFSETFROM:-0800
TZOFFSETTO:-0700
TZNAME:PDT
DTSTART:19740106T100000
END:DAYLIGHT
BEGIN:STANDARD
TZOFFSETFROM:-0700
TZOFFSETTO:-0800
TZNAME:PST
DTSTART:19741027T090000
END:STANDARD
BEGIN:DAYLIGHT
TZOFFSETFROM:-0800
TZOFFSETTO:-0700
TZNAME:PDT
DTSTART:19750223T100000
END:DAYLIGHT
BEGIN:STANDARD
TZOFFSETFROM:-0700
TZOFFSETTO:-0800
TZNAME:PST
DTSTART:19751026T090000
END:STANDARD
BEGIN:DAYLIGHT
TZOFFSETFROM:-0800
TZOFFSETTO:-0700
TZNAME:PDT
DTSTART:19760425T100000
END:DAYLIGHT
BEGIN:STANDARD
TZOFFSETFROM:-0700
TZOFFSETTO:-0800
TZNAME:PST
DTSTART:19761031T090000
END:STANDARD
BEGIN:DAYLIGHT
TZOFFSETFROM:-0800
TZOFFSETTO:-0700
TZNAME:PDT
DTSTART:19770424T100000
END:DAYLIGHT
BEGIN:STANDARD
TZOFFSETFROM:-0700
TZOFFSETTO:-0800
TZNAME:PST
DTSTART:19771030T090000
END:STANDARD
BEGIN:DAYLIGHT
TZOFFSETFROM:-0800
TZOFFSETTO:-0700
TZNAME:PDT
DTSTART:19780430T100000
END:DAYLIGHT
BEGIN:STANDARD
TZOFFSETFROM:-0700
TZOFFSETTO:-0800
TZNAME:PST
DTSTART:19781029T090000
END:STANDARD
BEGIN:DAYLIGHT
TZOFFSETFROM:-0800
TZOFFSETTO:-0700
TZNAME:PDT
DTSTART:19790429T100000
END:DAYLIGHT
BEGIN:STANDARD
TZOFFSETFROM:-0700
TZOFFSETTO:-0800
TZNAME:PST
DTSTART:19791028T090000
END:STANDARD
BEGIN:DAYLIGHT
TZOFFSETFROM:-0800
TZOFFSETTO:-0700
TZNAME:PDT
DTSTART:19800427T100000
END:DAYLIGHT
BEGIN:STANDARD
TZOFFSETFROM:-0700
TZOFFSETTO:-0800
TZNAME:PST
DTSTART:19801026T090000
END:STANDARD
BEGIN:DAYLIGHT
TZOFFSETFROM:-0800
TZOFFSETTO:-0700
TZNAME:PDT
DTSTART:19810426T100000
END:DAYLIGHT
BEGIN:STANDARD
TZOFFSETFROM:-0700
TZOFFSETTO:-0800
TZNAME:PST
DTSTART:19811025T090000
END:STANDARD
BEGIN:DAYLIGHT
TZOFFSETFROM:-0800
TZOFFSETTO:-0700
TZNAME:PDT
DTSTART:19820425T100000
END:DAYLIGHT
BEGIN:STANDARD
TZOFFSETFROM:-0700
TZOFFSETTO:-0800
TZNAME:PST
DTSTART:19821031T090000
END:STANDARD
BEGIN:DAYLIGHT
TZOFFSETFROM:-0800
TZOFFSETTO:-0700
TZNAME:PDT
DTSTART:19830424T100000
END:DAYLIGHT
BEGIN:STANDARD
TZOFFSETFROM:-0700
TZOFFSETTO:-0800
TZNAME:PST
DTSTART:19831030T090000
END:STANDARD
BEGIN:DAYLIGHT
TZOFFSETFROM:-0800
TZOFFSETTO:-0700
TZNAME:PDT
DTSTART:19840429T100000
END:DAYLIGHT
BEGIN:STANDARD
TZOFFSETFROM:-0700
TZOFFSETTO:-0800
TZNAME:PST
DTSTART:19841028T090000
END:STANDARD
BEGIN:DAYLIGHT
TZOFFSETFROM:-0800
TZOFFSETTO:-0700
TZNAME:PDT
DTSTART:19850428T100000
END:DAYLIGHT
BEGIN:STANDARD
TZOFFSETFROM:-0700
TZOFFSETTO:-0800
TZNAME:PST
DTSTART:19851027T090000
END:STANDARD
BEGIN:DAYLIGHT
TZOFFSETFROM:-0800
TZOFFSETTO:-0700
TZNAME:PDT
DTSTART:19860427T100000
END:DAYLIGHT
BEGIN:STANDARD
TZOFFSETFROM:-0700
TZOFFSETTO:-0800
TZNAME:PST
DTSTART:19861026T090000
END:STANDARD
BEGIN:DAYLIGHT
TZOFFSETFROM:-0800
TZOFFSETTO:-0700
TZNAME:PDT
DTSTART:19870405T100000
END:DAYLIGHT
BEGIN:STANDARD
TZOFFSETFROM:-0700
TZOFFSETTO:-0800
TZNAME:PST
DTSTART:19871025T090000
END:STANDARD
BEGIN:DAYLIGHT
TZOFFSETFROM:-0800
TZOFFSETTO:-0700
TZNAME:PDT
DTSTART:19880403T100000
END:DAYLIGHT
BEGIN:STANDARD
TZOFFSETFROM:-0700
TZOFFSETTO:-0800
TZNAME:PST
DTSTART:19881030T090000
END:STANDARD
BEGIN:DAYLIGHT
TZOFFSETFROM:-0800
TZOFFSETTO:-0700
TZNAME:PDT
DTSTART:19890402T100000
END:DAYLIGHT
BEGIN:STANDARD
TZOFFSETFROM:-0700
TZOFFSETTO:-0800
TZNAME:PST
DTSTART:19891029T090000
END:STANDARD
BEGIN:DAYLIGHT
TZOFFSETFROM:-0800
TZOFFSETTO:-0700
TZNAME:PDT
DTSTART:19900401T100000
END:DAYLIGHT
BEGIN:STANDARD
TZOFFSETFROM:-0700
TZOFFSETTO:-0800
TZNAME:PST
DTSTART:19901028T090000
END:STANDARD
BEGIN:DAYLIGHT
TZOFFSETFROM:-0800
TZOFFSETTO:-0700
TZNAME:PDT
DTSTART:19910407T100000
END:DAYLIGHT
BEGIN:STANDARD
TZOFFSETFROM:-0700
TZOFFSETTO:-0800
TZNAME:PST
DTSTART:19911027T090000
END:STANDARD
BEGIN:DAYLIGHT
TZOFFSETFROM:-0800
TZOFFSETTO:-0700
TZNAME:PDT
DTSTART:19920405T100000
END:DAYLIGHT
BEGIN:STANDARD
TZOFFSETFROM:-0700
TZOFFSETTO:-0800
TZNAME:PST
DTSTART:19921025T090000
END:STANDARD
BEGIN:DAYLIGHT
TZOFFSETFROM:-0800
TZOFFSETTO:-0700
TZNAME:PDT
DTSTART:19930404T100000
END:DAYLIGHT
BEGIN:STANDARD
TZOFFSETFROM:-0700
TZOFFSETTO:-0800
TZNAME:PST
DTSTART:19931031T090000
END:STANDARD
BEGIN:DAYLIGHT
TZOFFSETFROM:-0800
TZOFFSETTO:-0700
TZNAME:PDT
DTSTART:19940403T100000
END:DAYLIGHT
BEGIN:STANDARD
TZOFFSETFROM:-0700
TZOFFSETTO:-0800
TZNAME:PST
DTSTART:19941030T090000
END:STANDARD
BEGIN:DAYLIGHT
TZOFFSETFROM:-0800
TZOFFSETTO:-0700
TZNAME:PDT
DTSTART:19950402T100000
END:DAYLIGHT
BEGIN:STANDARD
TZOFFSETFROM:-0700
TZOFFSETTO:-0800
TZNAME:PST
DTSTART:19951029T090000
END:STANDARD
BEGIN:DAYLIGHT
TZOFFSETFROM:-0800
TZOFFSETTO:-0700
TZNAME:PDT
DTSTART:19960407T100000
END:DAYLIGHT
BEGIN:STANDARD
TZOFFSETFROM:-0700
TZOFFSETTO:-0800
TZNAME:PST
DTSTART:19961027T090000
END:STANDARD
BEGIN:DAYLIGHT
TZOFFSETFROM:-0800
TZOFFSETTO:-0700
TZNAME:PDT
DTSTART:19970406T100000
END:DAYLIGHT
BEGIN:STANDARD
TZOFFSETFROM:-0700
TZOFFSETTO:-0800
TZNAME:PST
DTSTART:19971026T090000
END:STANDARD
BEGIN:DAYLIGHT
TZOFFSETFROM:-0800
TZOFFSETTO:-0700
TZNAME:PDT
DTSTART:19980405T100000
END:DAYLIGHT
BEGIN:STANDARD
TZOFFSETFROM:-0700
TZOFFSETTO:-0800
TZNAME:PST
DTSTART:19981025T090000
END:STANDARD
BEGIN:DAYLIGHT
TZOFFSETFROM:-0800
TZOFFSETTO:-0700
TZNAME:PDT
DTSTART:19990404T100000
END:DAYLIGHT
BEGIN:STANDARD
TZOFFSETFROM:-0700
TZOFFSETTO:-0800
TZNAME:PST
DTSTART:19991031T090000
END:STANDARD
BEGIN:DAYLIGHT
TZOFFSETFROM:-0800
TZOFFSETTO:-0700
TZNAME:PDT
DTSTART:20000402T100000
END:DAYLIGHT
BEGIN:STANDARD
TZOFFSETFROM:-0700
TZOFFSETTO:-0800
TZNAME:PST
DTSTART:20001029T090000
END:STANDARD
BEGIN:DAYLIGHT
TZOFFSETFROM:-0800
TZOFFSETTO:-0700
TZNAME:PDT
DTSTART:20010401T100000
END:DAYLIGHT
BEGIN:STANDARD
TZOFFSETFROM:-0700
TZOFFSETTO:-0800
TZNAME:PST
DTSTART:20011028T090000
END:STANDARD
BEGIN:DAYLIGHT
TZOFFSETFROM:-0800
TZOFFSETTO:-0700
TZNAME:PDT
DTSTART:20020407T100000
END:DAYLIGHT
BEGIN:STANDARD
TZOFFSETFROM:-0700
TZOFFSETTO:-0800
TZNAME:PST
DTSTART:20021027T090000
END:STANDARD
BEGIN:DAYLIGHT
TZOFFSETFROM:-0800
TZOFFSETTO:-0700
TZNAME:PDT
DTSTART:20030406T100000
END:DAYLIGHT
BEGIN:STANDARD
TZOFFSETFROM:-0700
TZOFFSETTO:-0800
TZNAME:PST
DTSTART:20031026T090000
END:STANDARD
BEGIN:DAYLIGHT
TZOFFSETFROM:-0800
TZOFFSETTO:-0700
TZNAME:PDT
DTSTART:20040404T100000
END:DAYLIGHT
BEGIN:STANDARD
TZOFFSETFROM:-0700
TZOFFSETTO:-0800
TZNAME:PST
DTSTART:20041031T090000
END:STANDARD
BEGIN:DAYLIGHT
TZOFFSETFROM:-0800
TZOFFSETTO:-0700
TZNAME:PDT
DTSTART:20050403T100000
END:DAYLIGHT
BEGIN:STANDARD
TZOFFSETFROM:-0700
TZOFFSETTO:-0800
TZNAME:PST
DTSTART:20051030T090000
END:STANDARD
BEGIN:DAYLIGHT
TZOFFSETFROM:-0800
TZOFFSETTO:-0700
TZNAME:PDT
DTSTART:20060402T100000
END:DAYLIGHT
BEGIN:STANDARD
TZOFFSETFROM:-0700
TZOFFSETTO:-0800
TZNAME:PST
DTSTART:20061029T090000
END:STANDARD
BEGIN:DAYLIGHT
TZOFFSETFROM:-0800
TZOFFSETTO:-0700
TZNAME:PDT
DTSTART:20070311T100000
END:DAYLIGHT
BEGIN:STANDARD
TZOFFSETFROM:-0700
TZOFFSETTO:-0800
TZNAME:PST
DTSTART:20071104T090000
END:STANDARD
BEGIN:DAYLIGHT
TZOFFSETFROM:-0800
TZOFFSETTO:-0700
TZNAME:PDT
DTSTART:20080309T100000
END:DAYLIGHT
BEGIN:STANDARD
TZOFFSETFROM:-0700
TZOFFSETTO:-0800
TZNAME:PST
DTSTART:20081102T090000
END:STANDARD
BEGIN:DAYLIGHT
TZOFFSETFROM:-0800
TZOFFSETTO:-0700
TZNAME:PDT
DTSTART:20090308T100000
END:DAYLIGHT
BEGIN:STANDARD
TZOFFSETFROM:-0700
TZOFFSETTO:-0800
TZNAME:PST
DTSTART:20091101T090000
END:STANDARD
BEGIN:DAYLIGHT
TZOFFSETFROM:-0800
TZOFFSETTO:-0700
TZNAME:PDT
DTSTART:20100314T100000
END:DAYLIGHT
BEGIN:STANDARD
TZOFFSETFROM:-0700
TZOFFSETTO:-0800
TZNAME:PST
DTSTART:20101107T090000
END:STANDARD
BEGIN:DAYLIGHT
TZOFFSETFROM:-0800
TZOFFSETTO:-0700
TZNAME:PDT
DTSTART:20110313T100000
END:DAYLIGHT
BEGIN:STANDARD
TZOFFSETFROM:-0700
TZOFFSETTO:-0800
TZNAME:PST
DTSTART:20111106T090000
END:STANDARD
BEGIN:DAYLIGHT
TZOFFSETFROM:-0800
TZOFFSETTO:-0700
TZNAME:PDT
DTSTART:20120311T100000
END:DAYLIGHT
BEGIN:STANDARD
TZOFFSETFROM:-0700
TZOFFSETTO:-0800
TZNAME:PST
DTSTART:20121104T090000
END:STANDARD
BEGIN:DAYLIGHT
TZOFFSETFROM:-0800
TZOFFSETTO:-0700
TZNAME:PDT
DTSTART:20130310T100000
END:DAYLIGHT
BEGIN:STANDARD
TZOFFSETFROM:-0700
TZOFFSETTO:-0800
TZNAME:PST
DTSTART:20131103T090000
END:STANDARD
BEGIN:DAYLIGHT
TZOFFSETFROM:-0800
TZOFFSETTO:-0700
TZNAME:PDT
DTSTART:20140309T100000
END:DAYLIGHT
BEGIN:STANDARD
TZOFFSETFROM:-0700
TZOFFSETTO:-0800
TZNAME:PST
DTSTART:20141102T090000
END:STANDARD
BEGIN:DAYLIGHT
TZOFFSETFROM:-0800
TZOFFSETTO:-0700
TZNAME:PDT
DTSTART:20150308T100000
END:DAYLIGHT
BEGIN:STANDARD
TZOFFSETFROM:-0700
TZOFFSETTO:-0800
TZNAME:PST
DTSTART:20151101T090000
END:STANDARD
BEGIN:DAYLIGHT
TZOFFSETFROM:-0800
TZOFFSETTO:-0700
TZNAME:PDT
DTSTART:20160313T100000
END:DAYLIGHT
BEGIN:STANDARD
TZOFFSETFROM:-0700
TZOFFSETTO:-0800
TZNAME:PST
DTSTART:20161106T090000
END:STANDARD
BEGIN:DAYLIGHT
TZOFFSETFROM:-0800
TZOFFSETTO:-0700
TZNAME:PDT
DTSTART:20170312T100000
END:DAYLIGHT
BEGIN:STANDARD
TZOFFSETFROM:-0700
TZOFFSETTO:-0800
TZNAME:PST
DTSTART:20171105T090000
END:STANDARD
BEGIN:DAYLIGHT
TZOFFSETFROM:-0800
TZOFFSETTO:-0700
TZNAME:PDT
DTSTART:20180311T100000
END:DAYLIGHT
BEGIN:STANDARD
TZOFFSETFROM:-0700
TZOFFSETTO:-0800
TZNAME:PST
DTSTART:20181104T090000
END:STANDARD
BEGIN:DAYLIGHT
TZOFFSETFROM:-0800
TZOFFSETTO:-0700
TZNAME:PDT
DTSTART:20190310T100000
END:DAYLIGHT
BEGIN:STANDARD
TZOFFSETFROM:-0700
TZOFFSETTO:-0800
TZNAME:PST
DTSTART:20191103T090000
END:STANDARD
BEGIN:DAYLIGHT
TZOFFSETFROM:-0800
TZOFFSETTO:-0700
TZNAME:PDT
DTSTART:20200308T100000
END:DAYLIGHT
BEGIN:STANDARD
TZOFFSETFROM:-0700
TZOFFSETTO:-0800
TZNAME:PST
DTSTART:20201101T090000
END:STANDARD
BEGIN:DAYLIGHT
TZOFFSETFROM:-0800
TZOFFSETTO:-0700
TZNAME:PDT
DTSTART:20210314T100000
END:DAYLIGHT
BEGIN:STANDARD
TZOFFSETFROM:-0700
TZOFFSETTO:-0800
TZNAME:PST
DTSTART:20211107T090000
END:STANDARD
BEGIN:DAYLIGHT
TZOFFSETFROM:-0800
TZOFFSETTO:-0700
TZNAME:PDT
DTSTART:20220313T100000
END:DAYLIGHT
BEGIN:STANDARD
TZOFFSETFROM:-0700
TZOFFSETTO:-0800
TZNAME:PST
DTSTART:20221106T090000
END:STANDARD
BEGIN:DAYLIGHT
TZOFFSETFROM:-0800
TZOFFSETTO:-0700
TZNAME:PDT
DTSTART:20230312T100000
END:DAYLIGHT
BEGIN:STANDARD
TZOFFSETFROM:-0700
TZOFFSETTO:-0800
TZNAME:PST
DTSTART:20231105T090000
END:STANDARD
BEGIN:DAYLIGHT
TZOFFSETFROM:-0800
TZOFFSETTO:-0700
TZNAME:PDT
DTSTART:20240310T100000
END:DAYLIGHT
BEGIN:STANDARD
TZOFFSETFROM:-0700
TZOFFSETTO:-0800
TZNAME:PST
DTSTART:20241103T090000
END:STANDARD
BEGIN:DAYLIGHT
TZOFFSETFROM:-0800
TZOFFSETTO:-0700
TZNAME:PDT
DTSTART:20250309T100000
END:DAYLIGHT
BEGIN:STANDARD
TZOFFSETFROM:-0700
TZOFFSETTO:-0800
TZNAME:PST
DTSTART:20251102T090000
END:STANDARD
BEGIN:DAYLIGHT
TZOFFSETFROM:-0800
TZOFFSETTO:-0700
TZNAME:PDT
DTSTART:20260308T100000
END:DAYLIGHT
BEGIN:STANDARD
TZOFFSETFROM:-0700
TZOFFSETTO:-0800
TZNAME:PST
DTSTART:20261101T090000
END:STANDARD
END:VTIMEZONE
BEGIN:VEVENT
DTSTART;TZID=America/Los_Angeles:20260419T101022
DTEND;TZID=America/Los_Angeles:20250202T150000
DTSTAMP:20260419T101022
CREATED:20250108T190529Z
LAST-MODIFIED:20250108T190630Z
UID:10009095-0-1738508400@hangar24brewing.com
SUMMARY:Reggae Sunday: The Tones
DESCRIPTION:
URL:https://hangar24brewing.com/event/reggae-sunday-teh-tones/
LOCATION:HANGAR 24 BREWING – RIVERSIDE\, CA
CATEGORIES:Riverside, CA Events
END:VEVENT
BEGIN:VEVENT
DTSTART;VALUE=DATE:20230911
DTEND;VALUE=DATE:20230912
DTSTAMP:20260419T101022
CREATED:20221224T052805Z
LAST-MODIFIED:20221224T052805Z
UID:10002975-1694390400-1694476799@hangar24brewing.com
SUMMARY:First Responder Appreciation 40% OFF
DESCRIPTION:First Responder Appreciation 40% OFF
URL:https://hangar24brewing.com/event/first-responder-appreciation-40-off-6/2023-09-11/
LOCATION:HANGAR 24 BREWING – ORANGE COUNTY\, CA
CATEGORIES:Orange County, CA Events
END:VEVENT
BEGIN:VEVENT
DTSTART;VALUE=DATE:20230911
DTEND;VALUE=DATE:20230912
DTSTAMP:20260419T101022
CREATED:20230411T055711Z
LAST-MODIFIED:20230411T055712Z
UID:10001934-1694390400-1694476799@hangar24brewing.com
SUMMARY:40% OFF  for First Responders!
DESCRIPTION:40% OFF for First Responders!
URL:https://hangar24brewing.com/event/40-off-for-first-responders/2023-09-11/
LOCATION:HANGAR 24 BREWING – REDLANDS\, CA
CATEGORIES:Redlands, CA Events
END:VEVENT
BEGIN:VEVENT
DTSTART;VALUE=DATE:20230912
DTEND;VALUE=DATE:20230913
DTSTAMP:20260419T101022
CREATED:20230411T060633Z
LAST-MODIFIED:20260207T151741Z
UID:10001998-1694476800-1694563199@hangar24brewing.com
SUMMARY:TEACHER TUESDAY (25% OFF)
DESCRIPTION:Mug Club Day & Teacher Tuesday (25% OFF!)
URL:https://hangar24brewing.com/event/mug-club-day-2/2023-09-12/
LOCATION:HANGAR 24 BREWING – REDLANDS\, CA
END:VEVENT
BEGIN:VEVENT
DTSTART;TZID=America/Los_Angeles:20230912T170000
DTEND;TZID=America/Los_Angeles:20230912T210000
DTSTAMP:20260419T101022
CREATED:20230824T172749Z
LAST-MODIFIED:20230824T172749Z
UID:10004003-1694538000-1694552400@hangar24brewing.com
SUMMARY:Swing Dancing Night
DESCRIPTION:
URL:https://hangar24brewing.com/event/swing-dancing-night-4/
LOCATION:HANGAR 24 BREWING – ORANGE COUNTY\, CA
CATEGORIES:Orange County, CA Events
END:VEVENT
BEGIN:VEVENT
DTSTART;TZID=America/Los_Angeles:20230912T173000
DTEND;TZID=America/Los_Angeles:20230912T203000
DTSTAMP:20260419T101022
CREATED:20230821T223654Z
LAST-MODIFIED:20230821T223654Z
UID:10003985-1694539800-1694550600@hangar24brewing.com
SUMMARY:Matt Coleman
DESCRIPTION:Food: 4Tinos
URL:https://hangar24brewing.com/event/matt-coleman-2/
LOCATION:HANGAR 24 BREWING – REDLANDS\, CA
CATEGORIES:Redlands, CA Events
END:VEVENT
BEGIN:VEVENT
DTSTART;TZID=America/Los_Angeles:20230913T170000
DTEND;TZID=America/Los_Angeles:20230913T200000
DTSTAMP:20260419T101022
CREATED:20230821T211719Z
LAST-MODIFIED:20230821T211719Z
UID:10003963-1694624400-1694635200@hangar24brewing.com
SUMMARY:Jimmy Becker
DESCRIPTION:
URL:https://hangar24brewing.com/event/jimmy-becker-9/
LOCATION:HANGAR 24 BREWING – ORANGE COUNTY\, CA
CATEGORIES:Orange County, CA Events
END:VEVENT
BEGIN:VEVENT
DTSTART;TZID=America/Los_Angeles:20230913T170000
DTEND;TZID=America/Los_Angeles:20230913T200000
DTSTAMP:20260419T101022
CREATED:20230821T223905Z
LAST-MODIFIED:20230821T223905Z
UID:10003986-1694624400-1694635200@hangar24brewing.com
SUMMARY:Mike Landers
DESCRIPTION:Food: Puercos Negros
URL:https://hangar24brewing.com/event/mike-landers-2/
LOCATION:HANGAR 24 BREWING – REDLANDS\, CA
CATEGORIES:Redlands, CA Events
END:VEVENT
BEGIN:VEVENT
DTSTART;TZID=America/Los_Angeles:20230914T173000
DTEND;TZID=America/Los_Angeles:20230914T203000
DTSTAMP:20260419T101022
CREATED:20220929T180323Z
LAST-MODIFIED:20220929T180323Z
UID:10001854-1694712600-1694723400@hangar24brewing.com
SUMMARY:Geeks Who Drink Trivia
DESCRIPTION:Geeks Who Drink Trivia – Every Thursday!
URL:https://hangar24brewing.com/event/geeks-who-drink-trivia/2023-09-14/
LOCATION:HANGAR 24 BREWING – LAKE HAVASU CITY\, CA
CATEGORIES:Lake Havasu City, CA Events
ATTACH;FMTTYPE=image/jpeg:https://hangar24brewing.com/wp-content/uploads/2022/09/GEEKS_WHO_DRINK_TRIVIA_events_square.jpg
END:VEVENT
BEGIN:VEVENT
DTSTART;TZID=America/Los_Angeles:20230914T190000
DTEND;TZID=America/Los_Angeles:20230914T210000
DTSTAMP:20260419T101022
CREATED:20230821T224104Z
LAST-MODIFIED:20230821T224104Z
UID:10003987-1694718000-1694725200@hangar24brewing.com
SUMMARY:Trivia
DESCRIPTION:Food: Cousins Maine Lobster
URL:https://hangar24brewing.com/event/trivia-2/
LOCATION:HANGAR 24 BREWING – REDLANDS\, CA
CATEGORIES:Redlands, CA Events
END:VEVENT
BEGIN:VEVENT
DTSTART;TZID=America/Los_Angeles:20230915T180000
DTEND;TZID=America/Los_Angeles:20230915T210000
DTSTAMP:20260419T101022
CREATED:20230821T213233Z
LAST-MODIFIED:20230821T213233Z
UID:10003964-1694800800-1694811600@hangar24brewing.com
SUMMARY:Cillian's Bridge
DESCRIPTION:
URL:https://hangar24brewing.com/event/cillians-bridge-7/
LOCATION:HANGAR 24 BREWING – ORANGE COUNTY\, CA
CATEGORIES:Orange County, CA Events
END:VEVENT
BEGIN:VEVENT
DTSTART;TZID=America/Los_Angeles:20230915T180000
DTEND;TZID=America/Los_Angeles:20230915T210000
DTSTAMP:20260419T101022
CREATED:20230821T224306Z
LAST-MODIFIED:20230821T224306Z
UID:10003988-1694800800-1694811600@hangar24brewing.com
SUMMARY:Dj Sami G
DESCRIPTION:Food: No Mambres
URL:https://hangar24brewing.com/event/dj-sami-g/
LOCATION:HANGAR 24 BREWING – REDLANDS\, CA
CATEGORIES:Redlands, CA Events
END:VEVENT
BEGIN:VEVENT
DTSTART;TZID=America/Los_Angeles:20230915T180000
DTEND;TZID=America/Los_Angeles:20230915T230000
DTSTAMP:20260419T101022
CREATED:20230906T012445Z
LAST-MODIFIED:20230906T012445Z
UID:10004036-1694800800-1694818800@hangar24brewing.com
SUMMARY:Hangar 24 Night at March field Air Museum
DESCRIPTION:Hangar 24 will be hosting a night of Beer\, Food and a LIVE performance by “Red Hot Tribute”.
URL:https://hangar24brewing.com/event/hangar-24-night-at-march-field-air-museum/
LOCATION:HANGAR 24 BREWING – REDLANDS\, CA
CATEGORIES:Redlands, CA Events
END:VEVENT
BEGIN:VEVENT
DTSTART;VALUE=DATE:20230916
DTEND;VALUE=DATE:20230917
DTSTAMP:20260419T101022
CREATED:20230821T214013Z
LAST-MODIFIED:20230821T214013Z
UID:10003966-1694822400-1694908799@hangar24brewing.com
SUMMARY:Little Sweet Events
DESCRIPTION:
URL:https://hangar24brewing.com/event/little-sweet-events/
LOCATION:HANGAR 24 BREWING – ORANGE COUNTY\, CA
CATEGORIES:Orange County, CA Events
END:VEVENT
BEGIN:VEVENT
DTSTART;TZID=America/Los_Angeles:20230916T170000
DTEND;TZID=America/Los_Angeles:20230916T190000
DTSTAMP:20260419T101022
CREATED:20230821T231015Z
LAST-MODIFIED:20230821T231015Z
UID:10003989-1694883600-1694890800@hangar24brewing.com
SUMMARY:The Fire and Burn Foundation
DESCRIPTION:Food: The Wicked Kitchen
URL:https://hangar24brewing.com/event/the-fire-and-burn-foundation/
LOCATION:HANGAR 24 BREWING – REDLANDS\, CA
CATEGORIES:Redlands, CA Events
END:VEVENT
BEGIN:VEVENT
DTSTART;TZID=America/Los_Angeles:20230916T170000
DTEND;TZID=America/Los_Angeles:20230916T200000
DTSTAMP:20260419T101022
CREATED:20230824T173840Z
LAST-MODIFIED:20230824T173840Z
UID:10004011-1694883600-1694894400@hangar24brewing.com
SUMMARY:Brianna Marie
DESCRIPTION:
URL:https://hangar24brewing.com/event/brianna-marie-4/
LOCATION:HANGAR 24 BREWING – LAKE HAVASU CITY\, CA
CATEGORIES:Lake Havasu City, CA Events
END:VEVENT
BEGIN:VEVENT
DTSTART;TZID=America/Los_Angeles:20230916T180000
DTEND;TZID=America/Los_Angeles:20230916T210000
DTSTAMP:20260419T101022
CREATED:20230821T213906Z
LAST-MODIFIED:20230821T213906Z
UID:10003965-1694887200-1694898000@hangar24brewing.com
SUMMARY:No Duh
DESCRIPTION:
URL:https://hangar24brewing.com/event/no-duh-2/
LOCATION:HANGAR 24 BREWING – ORANGE COUNTY\, CA
CATEGORIES:Orange County, CA Events
END:VEVENT
BEGIN:VEVENT
DTSTART;VALUE=DATE:20230917
DTEND;VALUE=DATE:20230918
DTSTAMP:20260419T101022
CREATED:20220929T172307Z
LAST-MODIFIED:20220929T173228Z
UID:10001605-1694908800-1694995199@hangar24brewing.com
SUMMARY:Sunday Football - Happy Hour All Day!
DESCRIPTION:Sunday Football – Happy Hour All Day!
URL:https://hangar24brewing.com/event/sunday-football-happy-hour-all-day/2023-09-17/
LOCATION:HANGAR 24 BREWING – LAKE HAVASU CITY\, CA
CATEGORIES:Lake Havasu City, CA Events
ATTACH;FMTTYPE=image/jpeg:https://hangar24brewing.com/wp-content/uploads/2022/09/Sunday_Football_eventw_square.jpg
END:VEVENT
BEGIN:VEVENT
DTSTART;VALUE=DATE:20230917
DTEND;VALUE=DATE:20230918
DTSTAMP:20260419T101022
CREATED:20230411T055013Z
LAST-MODIFIED:20260207T151639Z
UID:10002388-1694908800-1694995199@hangar24brewing.com
SUMMARY:DJ Commodore
DESCRIPTION:
URL:https://hangar24brewing.com/event/brunch-sunday-football-2/2023-09-17/
LOCATION:HANGAR 24 BREWING – REDLANDS\, CA
END:VEVENT
BEGIN:VEVENT
DTSTART;TZID=America/Los_Angeles:20230917T120000
DTEND;TZID=America/Los_Angeles:20230917T150000
DTSTAMP:20260419T101022
CREATED:20230821T214147Z
LAST-MODIFIED:20230830T230802Z
UID:10003967-1694952000-1694962800@hangar24brewing.com
SUMMARY:The Storytellers
DESCRIPTION:
URL:https://hangar24brewing.com/event/guilty-pleasure-makers-3/
LOCATION:HANGAR 24 BREWING – ORANGE COUNTY\, CA
CATEGORIES:Orange County, CA Events
END:VEVENT
BEGIN:VEVENT
DTSTART;TZID=America/Los_Angeles:20230917T120000
DTEND;TZID=America/Los_Angeles:20230917T160000
DTSTAMP:20260419T101022
CREATED:20230821T214356Z
LAST-MODIFIED:20230821T214356Z
UID:10003968-1694952000-1694966400@hangar24brewing.com
SUMMARY:OC Connect Market
DESCRIPTION:
URL:https://hangar24brewing.com/event/oc-connect-market-6/
LOCATION:HANGAR 24 BREWING – ORANGE COUNTY\, CA
CATEGORIES:Orange County, CA Events
END:VEVENT
BEGIN:VEVENT
DTSTART;VALUE=DATE:20230918
DTEND;VALUE=DATE:20230919
DTSTAMP:20260419T101022
CREATED:20221224T052805Z
LAST-MODIFIED:20221224T052805Z
UID:10002976-1694995200-1695081599@hangar24brewing.com
SUMMARY:First Responder Appreciation 40% OFF
DESCRIPTION:First Responder Appreciation 40% OFF
URL:https://hangar24brewing.com/event/first-responder-appreciation-40-off-6/2023-09-18/
LOCATION:HANGAR 24 BREWING – ORANGE COUNTY\, CA
CATEGORIES:Orange County, CA Events
END:VEVENT
BEGIN:VEVENT
DTSTART;VALUE=DATE:20230918
DTEND;VALUE=DATE:20230919
DTSTAMP:20260419T101022
CREATED:20230411T055711Z
LAST-MODIFIED:20230411T055712Z
UID:10001935-1694995200-1695081599@hangar24brewing.com
SUMMARY:40% OFF  for First Responders!
DESCRIPTION:40% OFF for First Responders!
URL:https://hangar24brewing.com/event/40-off-for-first-responders/2023-09-18/
LOCATION:HANGAR 24 BREWING – REDLANDS\, CA
CATEGORIES:Redlands, CA Events
END:VEVENT
BEGIN:VEVENT
DTSTART;VALUE=DATE:20230919
DTEND;VALUE=DATE:20230920
DTSTAMP:20260419T101022
CREATED:20230411T060633Z
LAST-MODIFIED:20260207T151741Z
UID:10001999-1695081600-1695167999@hangar24brewing.com
SUMMARY:TEACHER TUESDAY (25% OFF)
DESCRIPTION:Mug Club Day & Teacher Tuesday (25% OFF!)
URL:https://hangar24brewing.com/event/mug-club-day-2/2023-09-19/
LOCATION:HANGAR 24 BREWING – REDLANDS\, CA
END:VEVENT
BEGIN:VEVENT
DTSTART;TZID=America/Los_Angeles:20230919T170000
DTEND;TZID=America/Los_Angeles:20230919T200000
DTSTAMP:20260419T101022
CREATED:20230821T231441Z
LAST-MODIFIED:20230821T231441Z
UID:10003991-1695142800-1695153600@hangar24brewing.com
SUMMARY:Jimmy Becker
DESCRIPTION:Food: Las Ploras
URL:https://hangar24brewing.com/event/jimmy-becker-10/
LOCATION:HANGAR 24 BREWING – REDLANDS\, CA
CATEGORIES:Redlands, CA Events
END:VEVENT
BEGIN:VEVENT
DTSTART;TZID=America/Los_Angeles:20230919T170000
DTEND;TZID=America/Los_Angeles:20230919T210000
DTSTAMP:20260419T101022
CREATED:20230824T173054Z
LAST-MODIFIED:20230824T173054Z
UID:10004004-1695142800-1695157200@hangar24brewing.com
SUMMARY:Country Dancing Night
DESCRIPTION:
URL:https://hangar24brewing.com/event/country-dancing-night/
LOCATION:HANGAR 24 BREWING – ORANGE COUNTY\, CA
CATEGORIES:Orange County, CA Events
END:VEVENT
BEGIN:VEVENT
DTSTART;TZID=America/Los_Angeles:20230920T170000
DTEND;TZID=America/Los_Angeles:20230920T200000
DTSTAMP:20260419T101022
CREATED:20230821T214520Z
LAST-MODIFIED:20230821T214520Z
UID:10003969-1695229200-1695240000@hangar24brewing.com
SUMMARY:Mike Sylvestri
DESCRIPTION:
URL:https://hangar24brewing.com/event/mike-sylvestri/
LOCATION:HANGAR 24 BREWING – ORANGE COUNTY\, CA
CATEGORIES:Orange County, CA Events
END:VEVENT
BEGIN:VEVENT
DTSTART;TZID=America/Los_Angeles:20230920T173000
DTEND;TZID=America/Los_Angeles:20230920T203000
DTSTAMP:20260419T101022
CREATED:20230821T231555Z
LAST-MODIFIED:20230821T231555Z
UID:10003992-1695231000-1695241800@hangar24brewing.com
SUMMARY:Open Mic Night with John Major
DESCRIPTION:
URL:https://hangar24brewing.com/event/open-mic-night-with-john-major/
LOCATION:HANGAR 24 BREWING – REDLANDS\, CA
CATEGORIES:Redlands, CA Events
END:VEVENT
BEGIN:VEVENT
DTSTART;TZID=America/Los_Angeles:20230921T173000
DTEND;TZID=America/Los_Angeles:20230921T203000
DTSTAMP:20260419T101022
CREATED:20220929T180323Z
LAST-MODIFIED:20220929T180323Z
UID:10001855-1695317400-1695328200@hangar24brewing.com
SUMMARY:Geeks Who Drink Trivia
DESCRIPTION:Geeks Who Drink Trivia – Every Thursday!
URL:https://hangar24brewing.com/event/geeks-who-drink-trivia/2023-09-21/
LOCATION:HANGAR 24 BREWING – LAKE HAVASU CITY\, CA
CATEGORIES:Lake Havasu City, CA Events
ATTACH;FMTTYPE=image/jpeg:https://hangar24brewing.com/wp-content/uploads/2022/09/GEEKS_WHO_DRINK_TRIVIA_events_square.jpg
END:VEVENT
BEGIN:VEVENT
DTSTART;TZID=America/Los_Angeles:20230921T190000
DTEND;TZID=America/Los_Angeles:20230921T210000
DTSTAMP:20260419T101022
CREATED:20230821T231906Z
LAST-MODIFIED:20230821T231906Z
UID:10003993-1695322800-1695330000@hangar24brewing.com
SUMMARY:Trivia
DESCRIPTION:Food: Back to the Burger
URL:https://hangar24brewing.com/event/trivia-3/
LOCATION:HANGAR 24 BREWING – REDLANDS\, CA
CATEGORIES:Redlands, CA Events
END:VEVENT
END:VCALENDAR