BEGIN:VCALENDAR
VERSION:2.0
PRODID:-//Hangar 24 Craft Brewing - ECPv6.15.20//NONSGML v1.0//EN
CALSCALE:GREGORIAN
METHOD:PUBLISH
X-WR-CALNAME:Hangar 24 Craft Brewing
X-ORIGINAL-URL:https://hangar24brewing.com
X-WR-CALDESC:Events for Hangar 24 Craft Brewing
REFRESH-INTERVAL;VALUE=DURATION:PT1H
X-Robots-Tag:noindex
X-PUBLISHED-TTL:PT1H
BEGIN:VTIMEZONE
TZID:America/Los_Angeles
BEGIN:DAYLIGHT
TZOFFSETFROM:-0800
TZOFFSETTO:-0700
TZNAME:PDT
DTSTART:20270314T100000
END:DAYLIGHT
BEGIN:STANDARD
TZOFFSETFROM:-0700
TZOFFSETTO:-0800
TZNAME:PST
DTSTART:20271107T090000
END:STANDARD
BEGIN:DAYLIGHT
TZOFFSETFROM:-0800
TZOFFSETTO:-0700
TZNAME:PDT
DTSTART:20280312T100000
END:DAYLIGHT
BEGIN:STANDARD
TZOFFSETFROM:-0700
TZOFFSETTO:-0800
TZNAME:PST
DTSTART:20281105T090000
END:STANDARD
BEGIN:DAYLIGHT
TZOFFSETFROM:-0800
TZOFFSETTO:-0700
TZNAME:PDT
DTSTART:20290311T100000
END:DAYLIGHT
BEGIN:STANDARD
TZOFFSETFROM:-0700
TZOFFSETTO:-0800
TZNAME:PST
DTSTART:20291104T090000
END:STANDARD
END:VTIMEZONE
BEGIN:VEVENT
DTSTART;VALUE=DATE:20280801
DTEND;VALUE=DATE:20280802
DTSTAMP:20260425T185933
CREATED:20250904T174742Z
LAST-MODIFIED:20260207T151846Z
UID:10010366-1848700800-1848787199@hangar24brewing.com
SUMMARY:Mug Club Discount Tuesdays ($1 off mug pours\, $2 off growler pours)
DESCRIPTION:
URL:https://hangar24brewing.com/event/mug-club-discount-tuesdays-1-off-mug-pours-2-off-growler-pours/2028-08-01/
LOCATION:HANGAR 24 BREWING – REDLANDS\, CA
END:VEVENT
BEGIN:VEVENT
DTSTART;TZID=America/Los_Angeles:20280801T190000
DTEND;TZID=America/Los_Angeles:20280801T220000
DTSTAMP:20260425T185933
CREATED:20250108T063359Z
LAST-MODIFIED:20260219T194135Z
UID:10007579-1848769200-1848780000@hangar24brewing.com
SUMMARY:Trivia Tuesdays (Pour House Trivia!)
DESCRIPTION:
URL:https://hangar24brewing.com/event/trivia-tuesdays-geeks-who-drink-3/2028-08-01/
END:VEVENT
BEGIN:VEVENT
DTSTART;TZID=America/Los_Angeles:20280802T173000
DTEND;TZID=America/Los_Angeles:20280802T193000
DTSTAMP:20260425T185933
CREATED:20251223T204203Z
LAST-MODIFIED:20260220T182628Z
UID:10008124-1848850200-1848857400@hangar24brewing.com
SUMMARY:Bingo Wednesdays!!
DESCRIPTION:
URL:https://hangar24brewing.com/event/bingo-night-2-2/2028-08-02/
LOCATION:HANGAR 24 BREWING – LAKE HAVASU CITY\, CA
CATEGORIES:Lake Havasu City, CA Events
END:VEVENT
BEGIN:VEVENT
DTSTART;TZID=America/Los_Angeles:20280803T180000
DTEND;TZID=America/Los_Angeles:20280803T200000
DTSTAMP:20260425T185933
CREATED:20251223T205854Z
LAST-MODIFIED:20260219T200301Z
UID:10009808-1848938400-1848945600@hangar24brewing.com
SUMMARY:Trivia Thursdays
DESCRIPTION:
URL:https://hangar24brewing.com/event/trivia-night-geeks-who-drink-2-2/2028-08-03/
LOCATION:HANGAR 24 BREWING – LAKE HAVASU CITY\, CA
CATEGORIES:Lake Havasu City, CA Events
END:VEVENT
BEGIN:VEVENT
DTSTART;TZID=America/Los_Angeles:20280803T180000
DTEND;TZID=America/Los_Angeles:20280803T230000
DTSTAMP:20260425T185933
CREATED:20251223T210917Z
LAST-MODIFIED:20260219T194242Z
UID:10007312-1848938400-1848956400@hangar24brewing.com
SUMMARY:College Night (live DJ & games)
DESCRIPTION:
URL:https://hangar24brewing.com/event/college-night-live-dj-games-2/2028-08-03/
END:VEVENT
BEGIN:VEVENT
DTSTART;TZID=America/Los_Angeles:20280803T183000
DTEND;TZID=America/Los_Angeles:20280803T203000
DTSTAMP:20260425T185933
CREATED:20251223T210501Z
LAST-MODIFIED:20260219T195413Z
UID:10011479-1848940200-1848947400@hangar24brewing.com
SUMMARY:Trivia Night
DESCRIPTION:
URL:https://hangar24brewing.com/event/trivia-night-7-2/2028-08-03/
END:VEVENT
BEGIN:VEVENT
DTSTART;TZID=America/Los_Angeles:20280803T190000
DTEND;TZID=America/Los_Angeles:20280803T210000
DTSTAMP:20260425T185933
CREATED:20260207T154408Z
LAST-MODIFIED:20260211T110003Z
UID:10010627-1848942000-1848949200@hangar24brewing.com
SUMMARY:Trivia Night: Epic Pub Quiz
DESCRIPTION:
URL:https://hangar24brewing.com/event/trivia-night-epic-pub-quiz-2/2028-08-03/
LOCATION:HANGAR 24 BREWING – ORANGE COUNTY\, CA
CATEGORIES:Orange County, CA Events
END:VEVENT
BEGIN:VEVENT
DTSTART;TZID=America/Los_Angeles:20280806T110000
DTEND;TZID=America/Los_Angeles:20280806T200000
DTSTAMP:20260425T185933
CREATED:20260211T035305Z
LAST-MODIFIED:20260211T035307Z
UID:10008388-1849172400-1849204800@hangar24brewing.com
SUMMARY:Happy Hour - ALL DAY
DESCRIPTION:
URL:https://hangar24brewing.com/event/happy-hour-all-day-2/2028-08-06/
END:VEVENT
BEGIN:VEVENT
DTSTART;TZID=America/Los_Angeles:20280807T180000
DTEND;TZID=America/Los_Angeles:20280807T200000
DTSTAMP:20260425T185933
CREATED:20260207T153334Z
LAST-MODIFIED:20260211T105548Z
UID:10012368-1849284000-1849291200@hangar24brewing.com
SUMMARY:"Sing Your Heart Out" Karaoke Singles Night
DESCRIPTION:
URL:https://hangar24brewing.com/event/sing-your-heart-out-karaoke-singles-night-3/2028-08-07/
LOCATION:HANGAR 24 BREWING – ORANGE COUNTY\, CA
CATEGORIES:Orange County, CA Events
END:VEVENT
BEGIN:VEVENT
DTSTART;VALUE=DATE:20280808
DTEND;VALUE=DATE:20280809
DTSTAMP:20260425T185933
CREATED:20230411T060633Z
LAST-MODIFIED:20260207T151741Z
UID:10010106-1849305600-1849391999@hangar24brewing.com
SUMMARY:TEACHER TUESDAY (25% OFF)
DESCRIPTION:Mug Club Day & Teacher Tuesday (25% OFF!)
URL:https://hangar24brewing.com/event/mug-club-day-2/2028-08-08/
LOCATION:HANGAR 24 BREWING – REDLANDS\, CA
END:VEVENT
BEGIN:VEVENT
DTSTART;VALUE=DATE:20280808
DTEND;VALUE=DATE:20280809
DTSTAMP:20260425T185933
CREATED:20250904T174742Z
LAST-MODIFIED:20260207T151846Z
UID:10010367-1849305600-1849391999@hangar24brewing.com
SUMMARY:Mug Club Discount Tuesdays ($1 off mug pours\, $2 off growler pours)
DESCRIPTION:
URL:https://hangar24brewing.com/event/mug-club-discount-tuesdays-1-off-mug-pours-2-off-growler-pours/2028-08-08/
LOCATION:HANGAR 24 BREWING – REDLANDS\, CA
END:VEVENT
BEGIN:VEVENT
DTSTART;TZID=America/Los_Angeles:20280808T190000
DTEND;TZID=America/Los_Angeles:20280808T220000
DTSTAMP:20260425T185933
CREATED:20250108T063359Z
LAST-MODIFIED:20260219T194135Z
UID:10007580-1849374000-1849384800@hangar24brewing.com
SUMMARY:Trivia Tuesdays (Pour House Trivia!)
DESCRIPTION:
URL:https://hangar24brewing.com/event/trivia-tuesdays-geeks-who-drink-3/2028-08-08/
END:VEVENT
BEGIN:VEVENT
DTSTART;TZID=America/Los_Angeles:20280809T173000
DTEND;TZID=America/Los_Angeles:20280809T193000
DTSTAMP:20260425T185933
CREATED:20251223T204203Z
LAST-MODIFIED:20260220T182628Z
UID:10008125-1849455000-1849462200@hangar24brewing.com
SUMMARY:Bingo Wednesdays!!
DESCRIPTION:
URL:https://hangar24brewing.com/event/bingo-night-2-2/2028-08-09/
LOCATION:HANGAR 24 BREWING – LAKE HAVASU CITY\, CA
CATEGORIES:Lake Havasu City, CA Events
END:VEVENT
BEGIN:VEVENT
DTSTART;TZID=America/Los_Angeles:20280810T180000
DTEND;TZID=America/Los_Angeles:20280810T200000
DTSTAMP:20260425T185933
CREATED:20251223T205854Z
LAST-MODIFIED:20260219T200301Z
UID:10009809-1849543200-1849550400@hangar24brewing.com
SUMMARY:Trivia Thursdays
DESCRIPTION:
URL:https://hangar24brewing.com/event/trivia-night-geeks-who-drink-2-2/2028-08-10/
LOCATION:HANGAR 24 BREWING – LAKE HAVASU CITY\, CA
CATEGORIES:Lake Havasu City, CA Events
END:VEVENT
BEGIN:VEVENT
DTSTART;TZID=America/Los_Angeles:20280810T180000
DTEND;TZID=America/Los_Angeles:20280810T230000
DTSTAMP:20260425T185933
CREATED:20251223T210917Z
LAST-MODIFIED:20260219T194242Z
UID:10007313-1849543200-1849561200@hangar24brewing.com
SUMMARY:College Night (live DJ & games)
DESCRIPTION:
URL:https://hangar24brewing.com/event/college-night-live-dj-games-2/2028-08-10/
END:VEVENT
BEGIN:VEVENT
DTSTART;TZID=America/Los_Angeles:20280810T183000
DTEND;TZID=America/Los_Angeles:20280810T203000
DTSTAMP:20260425T185933
CREATED:20251223T210501Z
LAST-MODIFIED:20260219T195413Z
UID:10011480-1849545000-1849552200@hangar24brewing.com
SUMMARY:Trivia Night
DESCRIPTION:
URL:https://hangar24brewing.com/event/trivia-night-7-2/2028-08-10/
END:VEVENT
BEGIN:VEVENT
DTSTART;TZID=America/Los_Angeles:20280810T190000
DTEND;TZID=America/Los_Angeles:20280810T210000
DTSTAMP:20260425T185933
CREATED:20260207T154408Z
LAST-MODIFIED:20260211T110003Z
UID:10010628-1849546800-1849554000@hangar24brewing.com
SUMMARY:Trivia Night: Epic Pub Quiz
DESCRIPTION:
URL:https://hangar24brewing.com/event/trivia-night-epic-pub-quiz-2/2028-08-10/
LOCATION:HANGAR 24 BREWING – ORANGE COUNTY\, CA
CATEGORIES:Orange County, CA Events
END:VEVENT
BEGIN:VEVENT
DTSTART;TZID=America/Los_Angeles:20280813T110000
DTEND;TZID=America/Los_Angeles:20280813T200000
DTSTAMP:20260425T185933
CREATED:20260211T035305Z
LAST-MODIFIED:20260211T035307Z
UID:10008389-1849777200-1849809600@hangar24brewing.com
SUMMARY:Happy Hour - ALL DAY
DESCRIPTION:
URL:https://hangar24brewing.com/event/happy-hour-all-day-2/2028-08-13/
END:VEVENT
BEGIN:VEVENT
DTSTART;TZID=America/Los_Angeles:20280814T180000
DTEND;TZID=America/Los_Angeles:20280814T200000
DTSTAMP:20260425T185933
CREATED:20260207T153334Z
LAST-MODIFIED:20260211T105548Z
UID:10012369-1849888800-1849896000@hangar24brewing.com
SUMMARY:"Sing Your Heart Out" Karaoke Singles Night
DESCRIPTION:
URL:https://hangar24brewing.com/event/sing-your-heart-out-karaoke-singles-night-3/2028-08-14/
LOCATION:HANGAR 24 BREWING – ORANGE COUNTY\, CA
CATEGORIES:Orange County, CA Events
END:VEVENT
BEGIN:VEVENT
DTSTART;VALUE=DATE:20280815
DTEND;VALUE=DATE:20280816
DTSTAMP:20260425T185933
CREATED:20230411T060633Z
LAST-MODIFIED:20260207T151741Z
UID:10010107-1849910400-1849996799@hangar24brewing.com
SUMMARY:TEACHER TUESDAY (25% OFF)
DESCRIPTION:Mug Club Day & Teacher Tuesday (25% OFF!)
URL:https://hangar24brewing.com/event/mug-club-day-2/2028-08-15/
LOCATION:HANGAR 24 BREWING – REDLANDS\, CA
END:VEVENT
BEGIN:VEVENT
DTSTART;VALUE=DATE:20280815
DTEND;VALUE=DATE:20280816
DTSTAMP:20260425T185933
CREATED:20250904T174742Z
LAST-MODIFIED:20260207T151846Z
UID:10010368-1849910400-1849996799@hangar24brewing.com
SUMMARY:Mug Club Discount Tuesdays ($1 off mug pours\, $2 off growler pours)
DESCRIPTION:
URL:https://hangar24brewing.com/event/mug-club-discount-tuesdays-1-off-mug-pours-2-off-growler-pours/2028-08-15/
LOCATION:HANGAR 24 BREWING – REDLANDS\, CA
END:VEVENT
BEGIN:VEVENT
DTSTART;TZID=America/Los_Angeles:20280815T190000
DTEND;TZID=America/Los_Angeles:20280815T220000
DTSTAMP:20260425T185933
CREATED:20250108T063359Z
LAST-MODIFIED:20260219T194135Z
UID:10007581-1849978800-1849989600@hangar24brewing.com
SUMMARY:Trivia Tuesdays (Pour House Trivia!)
DESCRIPTION:
URL:https://hangar24brewing.com/event/trivia-tuesdays-geeks-who-drink-3/2028-08-15/
END:VEVENT
BEGIN:VEVENT
DTSTART;TZID=America/Los_Angeles:20280816T173000
DTEND;TZID=America/Los_Angeles:20280816T193000
DTSTAMP:20260425T185933
CREATED:20251223T204203Z
LAST-MODIFIED:20260220T182628Z
UID:10008126-1850059800-1850067000@hangar24brewing.com
SUMMARY:Bingo Wednesdays!!
DESCRIPTION:
URL:https://hangar24brewing.com/event/bingo-night-2-2/2028-08-16/
LOCATION:HANGAR 24 BREWING – LAKE HAVASU CITY\, CA
CATEGORIES:Lake Havasu City, CA Events
END:VEVENT
BEGIN:VEVENT
DTSTART;TZID=America/Los_Angeles:20280817T180000
DTEND;TZID=America/Los_Angeles:20280817T200000
DTSTAMP:20260425T185933
CREATED:20251223T205854Z
LAST-MODIFIED:20260219T200301Z
UID:10009810-1850148000-1850155200@hangar24brewing.com
SUMMARY:Trivia Thursdays
DESCRIPTION:
URL:https://hangar24brewing.com/event/trivia-night-geeks-who-drink-2-2/2028-08-17/
LOCATION:HANGAR 24 BREWING – LAKE HAVASU CITY\, CA
CATEGORIES:Lake Havasu City, CA Events
END:VEVENT
BEGIN:VEVENT
DTSTART;TZID=America/Los_Angeles:20280817T180000
DTEND;TZID=America/Los_Angeles:20280817T230000
DTSTAMP:20260425T185933
CREATED:20251223T210917Z
LAST-MODIFIED:20260219T194242Z
UID:10007314-1850148000-1850166000@hangar24brewing.com
SUMMARY:College Night (live DJ & games)
DESCRIPTION:
URL:https://hangar24brewing.com/event/college-night-live-dj-games-2/2028-08-17/
END:VEVENT
BEGIN:VEVENT
DTSTART;TZID=America/Los_Angeles:20280817T183000
DTEND;TZID=America/Los_Angeles:20280817T203000
DTSTAMP:20260425T185933
CREATED:20251223T210501Z
LAST-MODIFIED:20260219T195413Z
UID:10011481-1850149800-1850157000@hangar24brewing.com
SUMMARY:Trivia Night
DESCRIPTION:
URL:https://hangar24brewing.com/event/trivia-night-7-2/2028-08-17/
END:VEVENT
BEGIN:VEVENT
DTSTART;TZID=America/Los_Angeles:20280817T190000
DTEND;TZID=America/Los_Angeles:20280817T210000
DTSTAMP:20260425T185933
CREATED:20260207T154408Z
LAST-MODIFIED:20260211T110003Z
UID:10010629-1850151600-1850158800@hangar24brewing.com
SUMMARY:Trivia Night: Epic Pub Quiz
DESCRIPTION:
URL:https://hangar24brewing.com/event/trivia-night-epic-pub-quiz-2/2028-08-17/
LOCATION:HANGAR 24 BREWING – ORANGE COUNTY\, CA
CATEGORIES:Orange County, CA Events
END:VEVENT
BEGIN:VEVENT
DTSTART;TZID=America/Los_Angeles:20280820T110000
DTEND;TZID=America/Los_Angeles:20280820T200000
DTSTAMP:20260425T185933
CREATED:20260211T035305Z
LAST-MODIFIED:20260211T035307Z
UID:10008390-1850382000-1850414400@hangar24brewing.com
SUMMARY:Happy Hour - ALL DAY
DESCRIPTION:
URL:https://hangar24brewing.com/event/happy-hour-all-day-2/2028-08-20/
END:VEVENT
BEGIN:VEVENT
DTSTART;TZID=America/Los_Angeles:20280821T180000
DTEND;TZID=America/Los_Angeles:20280821T200000
DTSTAMP:20260425T185933
CREATED:20260207T153334Z
LAST-MODIFIED:20260211T105548Z
UID:10012370-1850493600-1850500800@hangar24brewing.com
SUMMARY:"Sing Your Heart Out" Karaoke Singles Night
DESCRIPTION:
URL:https://hangar24brewing.com/event/sing-your-heart-out-karaoke-singles-night-3/2028-08-21/
LOCATION:HANGAR 24 BREWING – ORANGE COUNTY\, CA
CATEGORIES:Orange County, CA Events
END:VEVENT
BEGIN:VEVENT
DTSTART;VALUE=DATE:20280822
DTEND;VALUE=DATE:20280823
DTSTAMP:20260425T185933
CREATED:20230411T060633Z
LAST-MODIFIED:20260207T151741Z
UID:10010108-1850515200-1850601599@hangar24brewing.com
SUMMARY:TEACHER TUESDAY (25% OFF)
DESCRIPTION:Mug Club Day & Teacher Tuesday (25% OFF!)
URL:https://hangar24brewing.com/event/mug-club-day-2/2028-08-22/
LOCATION:HANGAR 24 BREWING – REDLANDS\, CA
END:VEVENT
END:VCALENDAR