BEGIN:VCALENDAR
VERSION:2.0
PRODID:-//Hangar 24 Craft Brewing - ECPv6.15.20//NONSGML v1.0//EN
CALSCALE:GREGORIAN
METHOD:PUBLISH
X-WR-CALNAME:Hangar 24 Craft Brewing
X-ORIGINAL-URL:https://hangar24brewing.com
X-WR-CALDESC:Events for Hangar 24 Craft Brewing
REFRESH-INTERVAL;VALUE=DURATION:PT1H
X-Robots-Tag:noindex
X-PUBLISHED-TTL:PT1H
BEGIN:VTIMEZONE
TZID:America/Los_Angeles
BEGIN:DAYLIGHT
TZOFFSETFROM:-0800
TZOFFSETTO:-0700
TZNAME:PDT
DTSTART:20260308T100000
END:DAYLIGHT
BEGIN:STANDARD
TZOFFSETFROM:-0700
TZOFFSETTO:-0800
TZNAME:PST
DTSTART:20261101T090000
END:STANDARD
BEGIN:DAYLIGHT
TZOFFSETFROM:-0800
TZOFFSETTO:-0700
TZNAME:PDT
DTSTART:20270314T100000
END:DAYLIGHT
BEGIN:STANDARD
TZOFFSETFROM:-0700
TZOFFSETTO:-0800
TZNAME:PST
DTSTART:20271107T090000
END:STANDARD
BEGIN:DAYLIGHT
TZOFFSETFROM:-0800
TZOFFSETTO:-0700
TZNAME:PDT
DTSTART:20280312T100000
END:DAYLIGHT
BEGIN:STANDARD
TZOFFSETFROM:-0700
TZOFFSETTO:-0800
TZNAME:PST
DTSTART:20281105T090000
END:STANDARD
END:VTIMEZONE
BEGIN:VEVENT
DTSTART;TZID=America/Los_Angeles:20270824T190000
DTEND;TZID=America/Los_Angeles:20270824T220000
DTSTAMP:20260421T014823
CREATED:20250108T063359Z
LAST-MODIFIED:20260219T194135Z
UID:10007530-1819134000-1819144800@hangar24brewing.com
SUMMARY:Trivia Tuesdays (Pour House Trivia!)
DESCRIPTION:
URL:https://hangar24brewing.com/event/trivia-tuesdays-geeks-who-drink-3/2027-08-24/
END:VEVENT
BEGIN:VEVENT
DTSTART;TZID=America/Los_Angeles:20270825T173000
DTEND;TZID=America/Los_Angeles:20270825T193000
DTSTAMP:20260421T014823
CREATED:20251223T204203Z
LAST-MODIFIED:20260220T182628Z
UID:10008075-1819215000-1819222200@hangar24brewing.com
SUMMARY:Bingo Wednesdays!!
DESCRIPTION:
URL:https://hangar24brewing.com/event/bingo-night-2-2/2027-08-25/
LOCATION:HANGAR 24 BREWING – LAKE HAVASU CITY\, CA
CATEGORIES:Lake Havasu City, CA Events
END:VEVENT
BEGIN:VEVENT
DTSTART;TZID=America/Los_Angeles:20270826T180000
DTEND;TZID=America/Los_Angeles:20270826T200000
DTSTAMP:20260421T014823
CREATED:20251223T205854Z
LAST-MODIFIED:20260219T200301Z
UID:10009759-1819303200-1819310400@hangar24brewing.com
SUMMARY:Trivia Thursdays
DESCRIPTION:
URL:https://hangar24brewing.com/event/trivia-night-geeks-who-drink-2-2/2027-08-26/
LOCATION:HANGAR 24 BREWING – LAKE HAVASU CITY\, CA
CATEGORIES:Lake Havasu City, CA Events
END:VEVENT
BEGIN:VEVENT
DTSTART;TZID=America/Los_Angeles:20270826T180000
DTEND;TZID=America/Los_Angeles:20270826T230000
DTSTAMP:20260421T014823
CREATED:20251223T210917Z
LAST-MODIFIED:20260219T194242Z
UID:10007263-1819303200-1819321200@hangar24brewing.com
SUMMARY:College Night (live DJ & games)
DESCRIPTION:
URL:https://hangar24brewing.com/event/college-night-live-dj-games-2/2027-08-26/
END:VEVENT
BEGIN:VEVENT
DTSTART;TZID=America/Los_Angeles:20270826T183000
DTEND;TZID=America/Los_Angeles:20270826T203000
DTSTAMP:20260421T014823
CREATED:20251223T210501Z
LAST-MODIFIED:20260219T195413Z
UID:10011430-1819305000-1819312200@hangar24brewing.com
SUMMARY:Trivia Night
DESCRIPTION:
URL:https://hangar24brewing.com/event/trivia-night-7-2/2027-08-26/
END:VEVENT
BEGIN:VEVENT
DTSTART;TZID=America/Los_Angeles:20270826T190000
DTEND;TZID=America/Los_Angeles:20270826T210000
DTSTAMP:20260421T014823
CREATED:20260207T154408Z
LAST-MODIFIED:20260211T110003Z
UID:10010578-1819306800-1819314000@hangar24brewing.com
SUMMARY:Trivia Night: Epic Pub Quiz
DESCRIPTION:
URL:https://hangar24brewing.com/event/trivia-night-epic-pub-quiz-2/2027-08-26/
LOCATION:HANGAR 24 BREWING – ORANGE COUNTY\, CA
CATEGORIES:Orange County, CA Events
END:VEVENT
BEGIN:VEVENT
DTSTART;TZID=America/Los_Angeles:20270829T110000
DTEND;TZID=America/Los_Angeles:20270829T200000
DTSTAMP:20260421T014823
CREATED:20260211T035305Z
LAST-MODIFIED:20260211T035307Z
UID:10008339-1819537200-1819569600@hangar24brewing.com
SUMMARY:Happy Hour - ALL DAY
DESCRIPTION:
URL:https://hangar24brewing.com/event/happy-hour-all-day-2/2027-08-29/
END:VEVENT
BEGIN:VEVENT
DTSTART;TZID=America/Los_Angeles:20270830T180000
DTEND;TZID=America/Los_Angeles:20270830T200000
DTSTAMP:20260421T014823
CREATED:20260207T153334Z
LAST-MODIFIED:20260211T105548Z
UID:10012319-1819648800-1819656000@hangar24brewing.com
SUMMARY:"Sing Your Heart Out" Karaoke Singles Night
DESCRIPTION:
URL:https://hangar24brewing.com/event/sing-your-heart-out-karaoke-singles-night-3/2027-08-30/
LOCATION:HANGAR 24 BREWING – ORANGE COUNTY\, CA
CATEGORIES:Orange County, CA Events
END:VEVENT
BEGIN:VEVENT
DTSTART;VALUE=DATE:20270831
DTEND;VALUE=DATE:20270901
DTSTAMP:20260421T014823
CREATED:20230411T060633Z
LAST-MODIFIED:20260207T151741Z
UID:10002205-1819670400-1819756799@hangar24brewing.com
SUMMARY:TEACHER TUESDAY (25% OFF)
DESCRIPTION:Mug Club Day & Teacher Tuesday (25% OFF!)
URL:https://hangar24brewing.com/event/mug-club-day-2/2027-08-31/
LOCATION:HANGAR 24 BREWING – REDLANDS\, CA
END:VEVENT
BEGIN:VEVENT
DTSTART;VALUE=DATE:20270831
DTEND;VALUE=DATE:20270901
DTSTAMP:20260421T014823
CREATED:20250904T174742Z
LAST-MODIFIED:20260207T151846Z
UID:10010318-1819670400-1819756799@hangar24brewing.com
SUMMARY:Mug Club Discount Tuesdays ($1 off mug pours\, $2 off growler pours)
DESCRIPTION:
URL:https://hangar24brewing.com/event/mug-club-discount-tuesdays-1-off-mug-pours-2-off-growler-pours/2027-08-31/
LOCATION:HANGAR 24 BREWING – REDLANDS\, CA
END:VEVENT
BEGIN:VEVENT
DTSTART;TZID=America/Los_Angeles:20270831T190000
DTEND;TZID=America/Los_Angeles:20270831T210000
DTSTAMP:20260421T014823
CREATED:20260329T194924Z
LAST-MODIFIED:20260329T195013Z
UID:10013724-1819738800-1819746000@hangar24brewing.com
SUMMARY:Trivia Tuesdays
DESCRIPTION:
URL:https://hangar24brewing.com/event/trivia-tuesdays/2027-08-31/
LOCATION:HANGAR 24 BREWING – RIVERSIDE\, CA
CATEGORIES:Riverside, CA Events
END:VEVENT
BEGIN:VEVENT
DTSTART;TZID=America/Los_Angeles:20270831T190000
DTEND;TZID=America/Los_Angeles:20270831T220000
DTSTAMP:20260421T014823
CREATED:20250108T063359Z
LAST-MODIFIED:20260219T194135Z
UID:10007531-1819738800-1819749600@hangar24brewing.com
SUMMARY:Trivia Tuesdays (Pour House Trivia!)
DESCRIPTION:
URL:https://hangar24brewing.com/event/trivia-tuesdays-geeks-who-drink-3/2027-08-31/
END:VEVENT
BEGIN:VEVENT
DTSTART;TZID=America/Los_Angeles:20270901T173000
DTEND;TZID=America/Los_Angeles:20270901T193000
DTSTAMP:20260421T014823
CREATED:20251223T204203Z
LAST-MODIFIED:20260220T182628Z
UID:10008076-1819819800-1819827000@hangar24brewing.com
SUMMARY:Bingo Wednesdays!!
DESCRIPTION:
URL:https://hangar24brewing.com/event/bingo-night-2-2/2027-09-01/
LOCATION:HANGAR 24 BREWING – LAKE HAVASU CITY\, CA
CATEGORIES:Lake Havasu City, CA Events
END:VEVENT
BEGIN:VEVENT
DTSTART;TZID=America/Los_Angeles:20270902T180000
DTEND;TZID=America/Los_Angeles:20270902T200000
DTSTAMP:20260421T014823
CREATED:20251223T205854Z
LAST-MODIFIED:20260219T200301Z
UID:10009760-1819908000-1819915200@hangar24brewing.com
SUMMARY:Trivia Thursdays
DESCRIPTION:
URL:https://hangar24brewing.com/event/trivia-night-geeks-who-drink-2-2/2027-09-02/
LOCATION:HANGAR 24 BREWING – LAKE HAVASU CITY\, CA
CATEGORIES:Lake Havasu City, CA Events
END:VEVENT
BEGIN:VEVENT
DTSTART;TZID=America/Los_Angeles:20270902T180000
DTEND;TZID=America/Los_Angeles:20270902T230000
DTSTAMP:20260421T014823
CREATED:20251223T210917Z
LAST-MODIFIED:20260219T194242Z
UID:10007264-1819908000-1819926000@hangar24brewing.com
SUMMARY:College Night (live DJ & games)
DESCRIPTION:
URL:https://hangar24brewing.com/event/college-night-live-dj-games-2/2027-09-02/
END:VEVENT
BEGIN:VEVENT
DTSTART;TZID=America/Los_Angeles:20270902T183000
DTEND;TZID=America/Los_Angeles:20270902T203000
DTSTAMP:20260421T014823
CREATED:20251223T210501Z
LAST-MODIFIED:20260219T195413Z
UID:10011431-1819909800-1819917000@hangar24brewing.com
SUMMARY:Trivia Night
DESCRIPTION:
URL:https://hangar24brewing.com/event/trivia-night-7-2/2027-09-02/
END:VEVENT
BEGIN:VEVENT
DTSTART;TZID=America/Los_Angeles:20270902T190000
DTEND;TZID=America/Los_Angeles:20270902T210000
DTSTAMP:20260421T014823
CREATED:20260207T154408Z
LAST-MODIFIED:20260211T110003Z
UID:10010579-1819911600-1819918800@hangar24brewing.com
SUMMARY:Trivia Night: Epic Pub Quiz
DESCRIPTION:
URL:https://hangar24brewing.com/event/trivia-night-epic-pub-quiz-2/2027-09-02/
LOCATION:HANGAR 24 BREWING – ORANGE COUNTY\, CA
CATEGORIES:Orange County, CA Events
END:VEVENT
BEGIN:VEVENT
DTSTART;TZID=America/Los_Angeles:20270905T110000
DTEND;TZID=America/Los_Angeles:20270905T200000
DTSTAMP:20260421T014823
CREATED:20260211T035305Z
LAST-MODIFIED:20260211T035307Z
UID:10008340-1820142000-1820174400@hangar24brewing.com
SUMMARY:Happy Hour - ALL DAY
DESCRIPTION:
URL:https://hangar24brewing.com/event/happy-hour-all-day-2/2027-09-05/
END:VEVENT
BEGIN:VEVENT
DTSTART;TZID=America/Los_Angeles:20270906T180000
DTEND;TZID=America/Los_Angeles:20270906T200000
DTSTAMP:20260421T014823
CREATED:20260207T153334Z
LAST-MODIFIED:20260211T105548Z
UID:10012320-1820253600-1820260800@hangar24brewing.com
SUMMARY:"Sing Your Heart Out" Karaoke Singles Night
DESCRIPTION:
URL:https://hangar24brewing.com/event/sing-your-heart-out-karaoke-singles-night-3/2027-09-06/
LOCATION:HANGAR 24 BREWING – ORANGE COUNTY\, CA
CATEGORIES:Orange County, CA Events
END:VEVENT
BEGIN:VEVENT
DTSTART;VALUE=DATE:20270907
DTEND;VALUE=DATE:20270908
DTSTAMP:20260421T014823
CREATED:20230411T060633Z
LAST-MODIFIED:20260207T151741Z
UID:10002206-1820275200-1820361599@hangar24brewing.com
SUMMARY:TEACHER TUESDAY (25% OFF)
DESCRIPTION:Mug Club Day & Teacher Tuesday (25% OFF!)
URL:https://hangar24brewing.com/event/mug-club-day-2/2027-09-07/
LOCATION:HANGAR 24 BREWING – REDLANDS\, CA
END:VEVENT
BEGIN:VEVENT
DTSTART;VALUE=DATE:20270907
DTEND;VALUE=DATE:20270908
DTSTAMP:20260421T014823
CREATED:20250904T174742Z
LAST-MODIFIED:20260207T151846Z
UID:10010319-1820275200-1820361599@hangar24brewing.com
SUMMARY:Mug Club Discount Tuesdays ($1 off mug pours\, $2 off growler pours)
DESCRIPTION:
URL:https://hangar24brewing.com/event/mug-club-discount-tuesdays-1-off-mug-pours-2-off-growler-pours/2027-09-07/
LOCATION:HANGAR 24 BREWING – REDLANDS\, CA
END:VEVENT
BEGIN:VEVENT
DTSTART;TZID=America/Los_Angeles:20270907T190000
DTEND;TZID=America/Los_Angeles:20270907T210000
DTSTAMP:20260421T014823
CREATED:20260329T194924Z
LAST-MODIFIED:20260329T195013Z
UID:10013725-1820343600-1820350800@hangar24brewing.com
SUMMARY:Trivia Tuesdays
DESCRIPTION:
URL:https://hangar24brewing.com/event/trivia-tuesdays/2027-09-07/
LOCATION:HANGAR 24 BREWING – RIVERSIDE\, CA
CATEGORIES:Riverside, CA Events
END:VEVENT
BEGIN:VEVENT
DTSTART;TZID=America/Los_Angeles:20270907T190000
DTEND;TZID=America/Los_Angeles:20270907T220000
DTSTAMP:20260421T014823
CREATED:20250108T063359Z
LAST-MODIFIED:20260219T194135Z
UID:10007532-1820343600-1820354400@hangar24brewing.com
SUMMARY:Trivia Tuesdays (Pour House Trivia!)
DESCRIPTION:
URL:https://hangar24brewing.com/event/trivia-tuesdays-geeks-who-drink-3/2027-09-07/
END:VEVENT
BEGIN:VEVENT
DTSTART;TZID=America/Los_Angeles:20270908T173000
DTEND;TZID=America/Los_Angeles:20270908T193000
DTSTAMP:20260421T014823
CREATED:20251223T204203Z
LAST-MODIFIED:20260220T182628Z
UID:10008077-1820424600-1820431800@hangar24brewing.com
SUMMARY:Bingo Wednesdays!!
DESCRIPTION:
URL:https://hangar24brewing.com/event/bingo-night-2-2/2027-09-08/
LOCATION:HANGAR 24 BREWING – LAKE HAVASU CITY\, CA
CATEGORIES:Lake Havasu City, CA Events
END:VEVENT
BEGIN:VEVENT
DTSTART;TZID=America/Los_Angeles:20270909T180000
DTEND;TZID=America/Los_Angeles:20270909T200000
DTSTAMP:20260421T014823
CREATED:20251223T205854Z
LAST-MODIFIED:20260219T200301Z
UID:10009761-1820512800-1820520000@hangar24brewing.com
SUMMARY:Trivia Thursdays
DESCRIPTION:
URL:https://hangar24brewing.com/event/trivia-night-geeks-who-drink-2-2/2027-09-09/
LOCATION:HANGAR 24 BREWING – LAKE HAVASU CITY\, CA
CATEGORIES:Lake Havasu City, CA Events
END:VEVENT
BEGIN:VEVENT
DTSTART;TZID=America/Los_Angeles:20270909T180000
DTEND;TZID=America/Los_Angeles:20270909T230000
DTSTAMP:20260421T014823
CREATED:20251223T210917Z
LAST-MODIFIED:20260219T194242Z
UID:10007265-1820512800-1820530800@hangar24brewing.com
SUMMARY:College Night (live DJ & games)
DESCRIPTION:
URL:https://hangar24brewing.com/event/college-night-live-dj-games-2/2027-09-09/
END:VEVENT
BEGIN:VEVENT
DTSTART;TZID=America/Los_Angeles:20270909T183000
DTEND;TZID=America/Los_Angeles:20270909T203000
DTSTAMP:20260421T014823
CREATED:20251223T210501Z
LAST-MODIFIED:20260219T195413Z
UID:10011432-1820514600-1820521800@hangar24brewing.com
SUMMARY:Trivia Night
DESCRIPTION:
URL:https://hangar24brewing.com/event/trivia-night-7-2/2027-09-09/
END:VEVENT
BEGIN:VEVENT
DTSTART;TZID=America/Los_Angeles:20270909T190000
DTEND;TZID=America/Los_Angeles:20270909T210000
DTSTAMP:20260421T014823
CREATED:20260207T154408Z
LAST-MODIFIED:20260211T110003Z
UID:10010580-1820516400-1820523600@hangar24brewing.com
SUMMARY:Trivia Night: Epic Pub Quiz
DESCRIPTION:
URL:https://hangar24brewing.com/event/trivia-night-epic-pub-quiz-2/2027-09-09/
LOCATION:HANGAR 24 BREWING – ORANGE COUNTY\, CA
CATEGORIES:Orange County, CA Events
END:VEVENT
BEGIN:VEVENT
DTSTART;TZID=America/Los_Angeles:20270912T110000
DTEND;TZID=America/Los_Angeles:20270912T200000
DTSTAMP:20260421T014823
CREATED:20260211T035305Z
LAST-MODIFIED:20260211T035307Z
UID:10008341-1820746800-1820779200@hangar24brewing.com
SUMMARY:Happy Hour - ALL DAY
DESCRIPTION:
URL:https://hangar24brewing.com/event/happy-hour-all-day-2/2027-09-12/
END:VEVENT
BEGIN:VEVENT
DTSTART;TZID=America/Los_Angeles:20270913T180000
DTEND;TZID=America/Los_Angeles:20270913T200000
DTSTAMP:20260421T014823
CREATED:20260207T153334Z
LAST-MODIFIED:20260211T105548Z
UID:10012321-1820858400-1820865600@hangar24brewing.com
SUMMARY:"Sing Your Heart Out" Karaoke Singles Night
DESCRIPTION:
URL:https://hangar24brewing.com/event/sing-your-heart-out-karaoke-singles-night-3/2027-09-13/
LOCATION:HANGAR 24 BREWING – ORANGE COUNTY\, CA
CATEGORIES:Orange County, CA Events
END:VEVENT
END:VCALENDAR