BEGIN:VCALENDAR
VERSION:2.0
PRODID:-//Hangar 24 Craft Brewing - ECPv6.15.20//NONSGML v1.0//EN
CALSCALE:GREGORIAN
METHOD:PUBLISH
X-WR-CALNAME:Hangar 24 Craft Brewing
X-ORIGINAL-URL:https://hangar24brewing.com
X-WR-CALDESC:Events for Hangar 24 Craft Brewing
REFRESH-INTERVAL;VALUE=DURATION:PT1H
X-Robots-Tag:noindex
X-PUBLISHED-TTL:PT1H
BEGIN:VTIMEZONE
TZID:America/Los_Angeles
BEGIN:DAYLIGHT
TZOFFSETFROM:-0800
TZOFFSETTO:-0700
TZNAME:PDT
DTSTART:20260308T100000
END:DAYLIGHT
BEGIN:STANDARD
TZOFFSETFROM:-0700
TZOFFSETTO:-0800
TZNAME:PST
DTSTART:20261101T090000
END:STANDARD
BEGIN:DAYLIGHT
TZOFFSETFROM:-0800
TZOFFSETTO:-0700
TZNAME:PDT
DTSTART:20270314T100000
END:DAYLIGHT
BEGIN:STANDARD
TZOFFSETFROM:-0700
TZOFFSETTO:-0800
TZNAME:PST
DTSTART:20271107T090000
END:STANDARD
BEGIN:DAYLIGHT
TZOFFSETFROM:-0800
TZOFFSETTO:-0700
TZNAME:PDT
DTSTART:20280312T100000
END:DAYLIGHT
BEGIN:STANDARD
TZOFFSETFROM:-0700
TZOFFSETTO:-0800
TZNAME:PST
DTSTART:20281105T090000
END:STANDARD
END:VTIMEZONE
BEGIN:VEVENT
DTSTART;TZID=America/Los_Angeles:20271109T190000
DTEND;TZID=America/Los_Angeles:20271109T210000
DTSTAMP:20260421T140634
CREATED:20260329T194924Z
LAST-MODIFIED:20260329T195013Z
UID:10013734-1825786800-1825794000@hangar24brewing.com
SUMMARY:Trivia Tuesdays
DESCRIPTION:
URL:https://hangar24brewing.com/event/trivia-tuesdays/2027-11-09/
LOCATION:HANGAR 24 BREWING – RIVERSIDE\, CA
CATEGORIES:Riverside, CA Events
END:VEVENT
BEGIN:VEVENT
DTSTART;TZID=America/Los_Angeles:20271109T190000
DTEND;TZID=America/Los_Angeles:20271109T220000
DTSTAMP:20260421T140634
CREATED:20250108T063359Z
LAST-MODIFIED:20260219T194135Z
UID:10007541-1825786800-1825797600@hangar24brewing.com
SUMMARY:Trivia Tuesdays (Pour House Trivia!)
DESCRIPTION:
URL:https://hangar24brewing.com/event/trivia-tuesdays-geeks-who-drink-3/2027-11-09/
END:VEVENT
BEGIN:VEVENT
DTSTART;TZID=America/Los_Angeles:20271110T173000
DTEND;TZID=America/Los_Angeles:20271110T193000
DTSTAMP:20260421T140634
CREATED:20251223T204203Z
LAST-MODIFIED:20260220T182628Z
UID:10008086-1825867800-1825875000@hangar24brewing.com
SUMMARY:Bingo Wednesdays!!
DESCRIPTION:
URL:https://hangar24brewing.com/event/bingo-night-2-2/2027-11-10/
LOCATION:HANGAR 24 BREWING – LAKE HAVASU CITY\, CA
CATEGORIES:Lake Havasu City, CA Events
END:VEVENT
BEGIN:VEVENT
DTSTART;TZID=America/Los_Angeles:20271111T180000
DTEND;TZID=America/Los_Angeles:20271111T200000
DTSTAMP:20260421T140634
CREATED:20251223T205854Z
LAST-MODIFIED:20260219T200301Z
UID:10009770-1825956000-1825963200@hangar24brewing.com
SUMMARY:Trivia Thursdays
DESCRIPTION:
URL:https://hangar24brewing.com/event/trivia-night-geeks-who-drink-2-2/2027-11-11/
LOCATION:HANGAR 24 BREWING – LAKE HAVASU CITY\, CA
CATEGORIES:Lake Havasu City, CA Events
END:VEVENT
BEGIN:VEVENT
DTSTART;TZID=America/Los_Angeles:20271111T180000
DTEND;TZID=America/Los_Angeles:20271111T230000
DTSTAMP:20260421T140634
CREATED:20251223T210917Z
LAST-MODIFIED:20260219T194242Z
UID:10007274-1825956000-1825974000@hangar24brewing.com
SUMMARY:College Night (live DJ & games)
DESCRIPTION:
URL:https://hangar24brewing.com/event/college-night-live-dj-games-2/2027-11-11/
END:VEVENT
BEGIN:VEVENT
DTSTART;TZID=America/Los_Angeles:20271111T183000
DTEND;TZID=America/Los_Angeles:20271111T203000
DTSTAMP:20260421T140634
CREATED:20251223T210501Z
LAST-MODIFIED:20260219T195413Z
UID:10011441-1825957800-1825965000@hangar24brewing.com
SUMMARY:Trivia Night
DESCRIPTION:
URL:https://hangar24brewing.com/event/trivia-night-7-2/2027-11-11/
END:VEVENT
BEGIN:VEVENT
DTSTART;TZID=America/Los_Angeles:20271111T190000
DTEND;TZID=America/Los_Angeles:20271111T210000
DTSTAMP:20260421T140634
CREATED:20260207T154408Z
LAST-MODIFIED:20260211T110003Z
UID:10010589-1825959600-1825966800@hangar24brewing.com
SUMMARY:Trivia Night: Epic Pub Quiz
DESCRIPTION:
URL:https://hangar24brewing.com/event/trivia-night-epic-pub-quiz-2/2027-11-11/
LOCATION:HANGAR 24 BREWING – ORANGE COUNTY\, CA
CATEGORIES:Orange County, CA Events
END:VEVENT
BEGIN:VEVENT
DTSTART;TZID=America/Los_Angeles:20271114T110000
DTEND;TZID=America/Los_Angeles:20271114T200000
DTSTAMP:20260421T140634
CREATED:20260211T035305Z
LAST-MODIFIED:20260211T035307Z
UID:10008350-1826190000-1826222400@hangar24brewing.com
SUMMARY:Happy Hour - ALL DAY
DESCRIPTION:
URL:https://hangar24brewing.com/event/happy-hour-all-day-2/2027-11-14/
END:VEVENT
BEGIN:VEVENT
DTSTART;TZID=America/Los_Angeles:20271115T180000
DTEND;TZID=America/Los_Angeles:20271115T200000
DTSTAMP:20260421T140634
CREATED:20260207T153334Z
LAST-MODIFIED:20260211T105548Z
UID:10012330-1826301600-1826308800@hangar24brewing.com
SUMMARY:"Sing Your Heart Out" Karaoke Singles Night
DESCRIPTION:
URL:https://hangar24brewing.com/event/sing-your-heart-out-karaoke-singles-night-3/2027-11-15/
LOCATION:HANGAR 24 BREWING – ORANGE COUNTY\, CA
CATEGORIES:Orange County, CA Events
END:VEVENT
BEGIN:VEVENT
DTSTART;VALUE=DATE:20271116
DTEND;VALUE=DATE:20271117
DTSTAMP:20260421T140634
CREATED:20230411T060633Z
LAST-MODIFIED:20260207T151741Z
UID:10003349-1826323200-1826409599@hangar24brewing.com
SUMMARY:TEACHER TUESDAY (25% OFF)
DESCRIPTION:Mug Club Day & Teacher Tuesday (25% OFF!)
URL:https://hangar24brewing.com/event/mug-club-day-2/2027-11-16/
LOCATION:HANGAR 24 BREWING – REDLANDS\, CA
END:VEVENT
BEGIN:VEVENT
DTSTART;VALUE=DATE:20271116
DTEND;VALUE=DATE:20271117
DTSTAMP:20260421T140634
CREATED:20250904T174742Z
LAST-MODIFIED:20260207T151846Z
UID:10010329-1826323200-1826409599@hangar24brewing.com
SUMMARY:Mug Club Discount Tuesdays ($1 off mug pours\, $2 off growler pours)
DESCRIPTION:
URL:https://hangar24brewing.com/event/mug-club-discount-tuesdays-1-off-mug-pours-2-off-growler-pours/2027-11-16/
LOCATION:HANGAR 24 BREWING – REDLANDS\, CA
END:VEVENT
BEGIN:VEVENT
DTSTART;TZID=America/Los_Angeles:20271116T190000
DTEND;TZID=America/Los_Angeles:20271116T210000
DTSTAMP:20260421T140634
CREATED:20260329T194924Z
LAST-MODIFIED:20260329T195013Z
UID:10013735-1826391600-1826398800@hangar24brewing.com
SUMMARY:Trivia Tuesdays
DESCRIPTION:
URL:https://hangar24brewing.com/event/trivia-tuesdays/2027-11-16/
LOCATION:HANGAR 24 BREWING – RIVERSIDE\, CA
CATEGORIES:Riverside, CA Events
END:VEVENT
BEGIN:VEVENT
DTSTART;TZID=America/Los_Angeles:20271116T190000
DTEND;TZID=America/Los_Angeles:20271116T220000
DTSTAMP:20260421T140634
CREATED:20250108T063359Z
LAST-MODIFIED:20260219T194135Z
UID:10007542-1826391600-1826402400@hangar24brewing.com
SUMMARY:Trivia Tuesdays (Pour House Trivia!)
DESCRIPTION:
URL:https://hangar24brewing.com/event/trivia-tuesdays-geeks-who-drink-3/2027-11-16/
END:VEVENT
BEGIN:VEVENT
DTSTART;TZID=America/Los_Angeles:20271117T173000
DTEND;TZID=America/Los_Angeles:20271117T193000
DTSTAMP:20260421T140634
CREATED:20251223T204203Z
LAST-MODIFIED:20260220T182628Z
UID:10008087-1826472600-1826479800@hangar24brewing.com
SUMMARY:Bingo Wednesdays!!
DESCRIPTION:
URL:https://hangar24brewing.com/event/bingo-night-2-2/2027-11-17/
LOCATION:HANGAR 24 BREWING – LAKE HAVASU CITY\, CA
CATEGORIES:Lake Havasu City, CA Events
END:VEVENT
BEGIN:VEVENT
DTSTART;TZID=America/Los_Angeles:20271118T180000
DTEND;TZID=America/Los_Angeles:20271118T200000
DTSTAMP:20260421T140634
CREATED:20251223T205854Z
LAST-MODIFIED:20260219T200301Z
UID:10009771-1826560800-1826568000@hangar24brewing.com
SUMMARY:Trivia Thursdays
DESCRIPTION:
URL:https://hangar24brewing.com/event/trivia-night-geeks-who-drink-2-2/2027-11-18/
LOCATION:HANGAR 24 BREWING – LAKE HAVASU CITY\, CA
CATEGORIES:Lake Havasu City, CA Events
END:VEVENT
BEGIN:VEVENT
DTSTART;TZID=America/Los_Angeles:20271118T180000
DTEND;TZID=America/Los_Angeles:20271118T230000
DTSTAMP:20260421T140634
CREATED:20251223T210917Z
LAST-MODIFIED:20260219T194242Z
UID:10007275-1826560800-1826578800@hangar24brewing.com
SUMMARY:College Night (live DJ & games)
DESCRIPTION:
URL:https://hangar24brewing.com/event/college-night-live-dj-games-2/2027-11-18/
END:VEVENT
BEGIN:VEVENT
DTSTART;TZID=America/Los_Angeles:20271118T183000
DTEND;TZID=America/Los_Angeles:20271118T203000
DTSTAMP:20260421T140634
CREATED:20251223T210501Z
LAST-MODIFIED:20260219T195413Z
UID:10011442-1826562600-1826569800@hangar24brewing.com
SUMMARY:Trivia Night
DESCRIPTION:
URL:https://hangar24brewing.com/event/trivia-night-7-2/2027-11-18/
END:VEVENT
BEGIN:VEVENT
DTSTART;TZID=America/Los_Angeles:20271118T190000
DTEND;TZID=America/Los_Angeles:20271118T210000
DTSTAMP:20260421T140634
CREATED:20260207T154408Z
LAST-MODIFIED:20260211T110003Z
UID:10010590-1826564400-1826571600@hangar24brewing.com
SUMMARY:Trivia Night: Epic Pub Quiz
DESCRIPTION:
URL:https://hangar24brewing.com/event/trivia-night-epic-pub-quiz-2/2027-11-18/
LOCATION:HANGAR 24 BREWING – ORANGE COUNTY\, CA
CATEGORIES:Orange County, CA Events
END:VEVENT
BEGIN:VEVENT
DTSTART;TZID=America/Los_Angeles:20271121T110000
DTEND;TZID=America/Los_Angeles:20271121T200000
DTSTAMP:20260421T140634
CREATED:20260211T035305Z
LAST-MODIFIED:20260211T035307Z
UID:10008351-1826794800-1826827200@hangar24brewing.com
SUMMARY:Happy Hour - ALL DAY
DESCRIPTION:
URL:https://hangar24brewing.com/event/happy-hour-all-day-2/2027-11-21/
END:VEVENT
BEGIN:VEVENT
DTSTART;TZID=America/Los_Angeles:20271122T180000
DTEND;TZID=America/Los_Angeles:20271122T200000
DTSTAMP:20260421T140634
CREATED:20260207T153334Z
LAST-MODIFIED:20260211T105548Z
UID:10012331-1826906400-1826913600@hangar24brewing.com
SUMMARY:"Sing Your Heart Out" Karaoke Singles Night
DESCRIPTION:
URL:https://hangar24brewing.com/event/sing-your-heart-out-karaoke-singles-night-3/2027-11-22/
LOCATION:HANGAR 24 BREWING – ORANGE COUNTY\, CA
CATEGORIES:Orange County, CA Events
END:VEVENT
BEGIN:VEVENT
DTSTART;VALUE=DATE:20271123
DTEND;VALUE=DATE:20271124
DTSTAMP:20260421T140634
CREATED:20230411T060633Z
LAST-MODIFIED:20260207T151741Z
UID:10003350-1826928000-1827014399@hangar24brewing.com
SUMMARY:TEACHER TUESDAY (25% OFF)
DESCRIPTION:Mug Club Day & Teacher Tuesday (25% OFF!)
URL:https://hangar24brewing.com/event/mug-club-day-2/2027-11-23/
LOCATION:HANGAR 24 BREWING – REDLANDS\, CA
END:VEVENT
BEGIN:VEVENT
DTSTART;VALUE=DATE:20271123
DTEND;VALUE=DATE:20271124
DTSTAMP:20260421T140634
CREATED:20250904T174742Z
LAST-MODIFIED:20260207T151846Z
UID:10010330-1826928000-1827014399@hangar24brewing.com
SUMMARY:Mug Club Discount Tuesdays ($1 off mug pours\, $2 off growler pours)
DESCRIPTION:
URL:https://hangar24brewing.com/event/mug-club-discount-tuesdays-1-off-mug-pours-2-off-growler-pours/2027-11-23/
LOCATION:HANGAR 24 BREWING – REDLANDS\, CA
END:VEVENT
BEGIN:VEVENT
DTSTART;TZID=America/Los_Angeles:20271123T190000
DTEND;TZID=America/Los_Angeles:20271123T210000
DTSTAMP:20260421T140634
CREATED:20260329T194924Z
LAST-MODIFIED:20260329T195013Z
UID:10013736-1826996400-1827003600@hangar24brewing.com
SUMMARY:Trivia Tuesdays
DESCRIPTION:
URL:https://hangar24brewing.com/event/trivia-tuesdays/2027-11-23/
LOCATION:HANGAR 24 BREWING – RIVERSIDE\, CA
CATEGORIES:Riverside, CA Events
END:VEVENT
BEGIN:VEVENT
DTSTART;TZID=America/Los_Angeles:20271123T190000
DTEND;TZID=America/Los_Angeles:20271123T220000
DTSTAMP:20260421T140634
CREATED:20250108T063359Z
LAST-MODIFIED:20260219T194135Z
UID:10007543-1826996400-1827007200@hangar24brewing.com
SUMMARY:Trivia Tuesdays (Pour House Trivia!)
DESCRIPTION:
URL:https://hangar24brewing.com/event/trivia-tuesdays-geeks-who-drink-3/2027-11-23/
END:VEVENT
BEGIN:VEVENT
DTSTART;TZID=America/Los_Angeles:20271124T173000
DTEND;TZID=America/Los_Angeles:20271124T193000
DTSTAMP:20260421T140634
CREATED:20251223T204203Z
LAST-MODIFIED:20260220T182628Z
UID:10008088-1827077400-1827084600@hangar24brewing.com
SUMMARY:Bingo Wednesdays!!
DESCRIPTION:
URL:https://hangar24brewing.com/event/bingo-night-2-2/2027-11-24/
LOCATION:HANGAR 24 BREWING – LAKE HAVASU CITY\, CA
CATEGORIES:Lake Havasu City, CA Events
END:VEVENT
BEGIN:VEVENT
DTSTART;TZID=America/Los_Angeles:20271125T180000
DTEND;TZID=America/Los_Angeles:20271125T200000
DTSTAMP:20260421T140634
CREATED:20251223T205854Z
LAST-MODIFIED:20260219T200301Z
UID:10009772-1827165600-1827172800@hangar24brewing.com
SUMMARY:Trivia Thursdays
DESCRIPTION:
URL:https://hangar24brewing.com/event/trivia-night-geeks-who-drink-2-2/2027-11-25/
LOCATION:HANGAR 24 BREWING – LAKE HAVASU CITY\, CA
CATEGORIES:Lake Havasu City, CA Events
END:VEVENT
BEGIN:VEVENT
DTSTART;TZID=America/Los_Angeles:20271125T180000
DTEND;TZID=America/Los_Angeles:20271125T230000
DTSTAMP:20260421T140634
CREATED:20251223T210917Z
LAST-MODIFIED:20260219T194242Z
UID:10007276-1827165600-1827183600@hangar24brewing.com
SUMMARY:College Night (live DJ & games)
DESCRIPTION:
URL:https://hangar24brewing.com/event/college-night-live-dj-games-2/2027-11-25/
END:VEVENT
BEGIN:VEVENT
DTSTART;TZID=America/Los_Angeles:20271125T183000
DTEND;TZID=America/Los_Angeles:20271125T203000
DTSTAMP:20260421T140634
CREATED:20251223T210501Z
LAST-MODIFIED:20260219T195413Z
UID:10011443-1827167400-1827174600@hangar24brewing.com
SUMMARY:Trivia Night
DESCRIPTION:
URL:https://hangar24brewing.com/event/trivia-night-7-2/2027-11-25/
END:VEVENT
BEGIN:VEVENT
DTSTART;TZID=America/Los_Angeles:20271125T190000
DTEND;TZID=America/Los_Angeles:20271125T210000
DTSTAMP:20260421T140634
CREATED:20260207T154408Z
LAST-MODIFIED:20260211T110003Z
UID:10010591-1827169200-1827176400@hangar24brewing.com
SUMMARY:Trivia Night: Epic Pub Quiz
DESCRIPTION:
URL:https://hangar24brewing.com/event/trivia-night-epic-pub-quiz-2/2027-11-25/
LOCATION:HANGAR 24 BREWING – ORANGE COUNTY\, CA
CATEGORIES:Orange County, CA Events
END:VEVENT
BEGIN:VEVENT
DTSTART;TZID=America/Los_Angeles:20271128T110000
DTEND;TZID=America/Los_Angeles:20271128T200000
DTSTAMP:20260421T140634
CREATED:20260211T035305Z
LAST-MODIFIED:20260211T035307Z
UID:10008352-1827399600-1827432000@hangar24brewing.com
SUMMARY:Happy Hour - ALL DAY
DESCRIPTION:
URL:https://hangar24brewing.com/event/happy-hour-all-day-2/2027-11-28/
END:VEVENT
END:VCALENDAR