BEGIN:VCALENDAR
VERSION:2.0
PRODID:-//Hangar 24 Craft Brewing - ECPv6.15.20//NONSGML v1.0//EN
CALSCALE:GREGORIAN
METHOD:PUBLISH
X-WR-CALNAME:Hangar 24 Craft Brewing
X-ORIGINAL-URL:https://hangar24brewing.com
X-WR-CALDESC:Events for Hangar 24 Craft Brewing
REFRESH-INTERVAL;VALUE=DURATION:PT1H
X-Robots-Tag:noindex
X-PUBLISHED-TTL:PT1H
BEGIN:VTIMEZONE
TZID:America/Los_Angeles
BEGIN:DAYLIGHT
TZOFFSETFROM:-0800
TZOFFSETTO:-0700
TZNAME:PDT
DTSTART:20260308T100000
END:DAYLIGHT
BEGIN:STANDARD
TZOFFSETFROM:-0700
TZOFFSETTO:-0800
TZNAME:PST
DTSTART:20261101T090000
END:STANDARD
BEGIN:DAYLIGHT
TZOFFSETFROM:-0800
TZOFFSETTO:-0700
TZNAME:PDT
DTSTART:20270314T100000
END:DAYLIGHT
BEGIN:STANDARD
TZOFFSETFROM:-0700
TZOFFSETTO:-0800
TZNAME:PST
DTSTART:20271107T090000
END:STANDARD
BEGIN:DAYLIGHT
TZOFFSETFROM:-0800
TZOFFSETTO:-0700
TZNAME:PDT
DTSTART:20280312T100000
END:DAYLIGHT
BEGIN:STANDARD
TZOFFSETFROM:-0700
TZOFFSETTO:-0800
TZNAME:PST
DTSTART:20281105T090000
END:STANDARD
END:VTIMEZONE
BEGIN:VEVENT
DTSTART;VALUE=DATE:20271123
DTEND;VALUE=DATE:20271124
DTSTAMP:20260421T201602
CREATED:20230411T060633Z
LAST-MODIFIED:20260207T151741Z
UID:10003350-1826928000-1827014399@hangar24brewing.com
SUMMARY:TEACHER TUESDAY (25% OFF)
DESCRIPTION:Mug Club Day & Teacher Tuesday (25% OFF!)
URL:https://hangar24brewing.com/event/mug-club-day-2/2027-11-23/
LOCATION:HANGAR 24 BREWING – REDLANDS\, CA
END:VEVENT
BEGIN:VEVENT
DTSTART;VALUE=DATE:20271123
DTEND;VALUE=DATE:20271124
DTSTAMP:20260421T201602
CREATED:20250904T174742Z
LAST-MODIFIED:20260207T151846Z
UID:10010330-1826928000-1827014399@hangar24brewing.com
SUMMARY:Mug Club Discount Tuesdays ($1 off mug pours\, $2 off growler pours)
DESCRIPTION:
URL:https://hangar24brewing.com/event/mug-club-discount-tuesdays-1-off-mug-pours-2-off-growler-pours/2027-11-23/
LOCATION:HANGAR 24 BREWING – REDLANDS\, CA
END:VEVENT
BEGIN:VEVENT
DTSTART;TZID=America/Los_Angeles:20271123T190000
DTEND;TZID=America/Los_Angeles:20271123T210000
DTSTAMP:20260421T201602
CREATED:20260329T194924Z
LAST-MODIFIED:20260329T195013Z
UID:10013736-1826996400-1827003600@hangar24brewing.com
SUMMARY:Trivia Tuesdays
DESCRIPTION:
URL:https://hangar24brewing.com/event/trivia-tuesdays/2027-11-23/
LOCATION:HANGAR 24 BREWING – RIVERSIDE\, CA
CATEGORIES:Riverside, CA Events
END:VEVENT
BEGIN:VEVENT
DTSTART;TZID=America/Los_Angeles:20271123T190000
DTEND;TZID=America/Los_Angeles:20271123T220000
DTSTAMP:20260421T201602
CREATED:20250108T063359Z
LAST-MODIFIED:20260219T194135Z
UID:10007543-1826996400-1827007200@hangar24brewing.com
SUMMARY:Trivia Tuesdays (Pour House Trivia!)
DESCRIPTION:
URL:https://hangar24brewing.com/event/trivia-tuesdays-geeks-who-drink-3/2027-11-23/
END:VEVENT
BEGIN:VEVENT
DTSTART;TZID=America/Los_Angeles:20271124T173000
DTEND;TZID=America/Los_Angeles:20271124T193000
DTSTAMP:20260421T201602
CREATED:20251223T204203Z
LAST-MODIFIED:20260220T182628Z
UID:10008088-1827077400-1827084600@hangar24brewing.com
SUMMARY:Bingo Wednesdays!!
DESCRIPTION:
URL:https://hangar24brewing.com/event/bingo-night-2-2/2027-11-24/
LOCATION:HANGAR 24 BREWING – LAKE HAVASU CITY\, CA
CATEGORIES:Lake Havasu City, CA Events
END:VEVENT
BEGIN:VEVENT
DTSTART;TZID=America/Los_Angeles:20271125T180000
DTEND;TZID=America/Los_Angeles:20271125T200000
DTSTAMP:20260421T201602
CREATED:20251223T205854Z
LAST-MODIFIED:20260219T200301Z
UID:10009772-1827165600-1827172800@hangar24brewing.com
SUMMARY:Trivia Thursdays
DESCRIPTION:
URL:https://hangar24brewing.com/event/trivia-night-geeks-who-drink-2-2/2027-11-25/
LOCATION:HANGAR 24 BREWING – LAKE HAVASU CITY\, CA
CATEGORIES:Lake Havasu City, CA Events
END:VEVENT
BEGIN:VEVENT
DTSTART;TZID=America/Los_Angeles:20271125T180000
DTEND;TZID=America/Los_Angeles:20271125T230000
DTSTAMP:20260421T201602
CREATED:20251223T210917Z
LAST-MODIFIED:20260219T194242Z
UID:10007276-1827165600-1827183600@hangar24brewing.com
SUMMARY:College Night (live DJ & games)
DESCRIPTION:
URL:https://hangar24brewing.com/event/college-night-live-dj-games-2/2027-11-25/
END:VEVENT
BEGIN:VEVENT
DTSTART;TZID=America/Los_Angeles:20271125T183000
DTEND;TZID=America/Los_Angeles:20271125T203000
DTSTAMP:20260421T201602
CREATED:20251223T210501Z
LAST-MODIFIED:20260219T195413Z
UID:10011443-1827167400-1827174600@hangar24brewing.com
SUMMARY:Trivia Night
DESCRIPTION:
URL:https://hangar24brewing.com/event/trivia-night-7-2/2027-11-25/
END:VEVENT
BEGIN:VEVENT
DTSTART;TZID=America/Los_Angeles:20271125T190000
DTEND;TZID=America/Los_Angeles:20271125T210000
DTSTAMP:20260421T201602
CREATED:20260207T154408Z
LAST-MODIFIED:20260211T110003Z
UID:10010591-1827169200-1827176400@hangar24brewing.com
SUMMARY:Trivia Night: Epic Pub Quiz
DESCRIPTION:
URL:https://hangar24brewing.com/event/trivia-night-epic-pub-quiz-2/2027-11-25/
LOCATION:HANGAR 24 BREWING – ORANGE COUNTY\, CA
CATEGORIES:Orange County, CA Events
END:VEVENT
BEGIN:VEVENT
DTSTART;TZID=America/Los_Angeles:20271128T110000
DTEND;TZID=America/Los_Angeles:20271128T200000
DTSTAMP:20260421T201602
CREATED:20260211T035305Z
LAST-MODIFIED:20260211T035307Z
UID:10008352-1827399600-1827432000@hangar24brewing.com
SUMMARY:Happy Hour - ALL DAY
DESCRIPTION:
URL:https://hangar24brewing.com/event/happy-hour-all-day-2/2027-11-28/
END:VEVENT
BEGIN:VEVENT
DTSTART;TZID=America/Los_Angeles:20271129T180000
DTEND;TZID=America/Los_Angeles:20271129T200000
DTSTAMP:20260421T201602
CREATED:20260207T153334Z
LAST-MODIFIED:20260211T105548Z
UID:10012332-1827511200-1827518400@hangar24brewing.com
SUMMARY:"Sing Your Heart Out" Karaoke Singles Night
DESCRIPTION:
URL:https://hangar24brewing.com/event/sing-your-heart-out-karaoke-singles-night-3/2027-11-29/
LOCATION:HANGAR 24 BREWING – ORANGE COUNTY\, CA
CATEGORIES:Orange County, CA Events
END:VEVENT
BEGIN:VEVENT
DTSTART;VALUE=DATE:20271130
DTEND;VALUE=DATE:20271201
DTSTAMP:20260421T201602
CREATED:20230411T060633Z
LAST-MODIFIED:20260207T151741Z
UID:10003351-1827532800-1827619199@hangar24brewing.com
SUMMARY:TEACHER TUESDAY (25% OFF)
DESCRIPTION:Mug Club Day & Teacher Tuesday (25% OFF!)
URL:https://hangar24brewing.com/event/mug-club-day-2/2027-11-30/
LOCATION:HANGAR 24 BREWING – REDLANDS\, CA
END:VEVENT
BEGIN:VEVENT
DTSTART;VALUE=DATE:20271130
DTEND;VALUE=DATE:20271201
DTSTAMP:20260421T201602
CREATED:20250904T174742Z
LAST-MODIFIED:20260207T151846Z
UID:10010331-1827532800-1827619199@hangar24brewing.com
SUMMARY:Mug Club Discount Tuesdays ($1 off mug pours\, $2 off growler pours)
DESCRIPTION:
URL:https://hangar24brewing.com/event/mug-club-discount-tuesdays-1-off-mug-pours-2-off-growler-pours/2027-11-30/
LOCATION:HANGAR 24 BREWING – REDLANDS\, CA
END:VEVENT
BEGIN:VEVENT
DTSTART;TZID=America/Los_Angeles:20271130T190000
DTEND;TZID=America/Los_Angeles:20271130T210000
DTSTAMP:20260421T201602
CREATED:20260329T194924Z
LAST-MODIFIED:20260329T195013Z
UID:10013737-1827601200-1827608400@hangar24brewing.com
SUMMARY:Trivia Tuesdays
DESCRIPTION:
URL:https://hangar24brewing.com/event/trivia-tuesdays/2027-11-30/
LOCATION:HANGAR 24 BREWING – RIVERSIDE\, CA
CATEGORIES:Riverside, CA Events
END:VEVENT
BEGIN:VEVENT
DTSTART;TZID=America/Los_Angeles:20271130T190000
DTEND;TZID=America/Los_Angeles:20271130T220000
DTSTAMP:20260421T201602
CREATED:20250108T063359Z
LAST-MODIFIED:20260219T194135Z
UID:10007544-1827601200-1827612000@hangar24brewing.com
SUMMARY:Trivia Tuesdays (Pour House Trivia!)
DESCRIPTION:
URL:https://hangar24brewing.com/event/trivia-tuesdays-geeks-who-drink-3/2027-11-30/
END:VEVENT
BEGIN:VEVENT
DTSTART;TZID=America/Los_Angeles:20271201T173000
DTEND;TZID=America/Los_Angeles:20271201T193000
DTSTAMP:20260421T201602
CREATED:20251223T204203Z
LAST-MODIFIED:20260220T182628Z
UID:10008089-1827682200-1827689400@hangar24brewing.com
SUMMARY:Bingo Wednesdays!!
DESCRIPTION:
URL:https://hangar24brewing.com/event/bingo-night-2-2/2027-12-01/
LOCATION:HANGAR 24 BREWING – LAKE HAVASU CITY\, CA
CATEGORIES:Lake Havasu City, CA Events
END:VEVENT
BEGIN:VEVENT
DTSTART;TZID=America/Los_Angeles:20271202T180000
DTEND;TZID=America/Los_Angeles:20271202T200000
DTSTAMP:20260421T201602
CREATED:20251223T205854Z
LAST-MODIFIED:20260219T200301Z
UID:10009773-1827770400-1827777600@hangar24brewing.com
SUMMARY:Trivia Thursdays
DESCRIPTION:
URL:https://hangar24brewing.com/event/trivia-night-geeks-who-drink-2-2/2027-12-02/
LOCATION:HANGAR 24 BREWING – LAKE HAVASU CITY\, CA
CATEGORIES:Lake Havasu City, CA Events
END:VEVENT
BEGIN:VEVENT
DTSTART;TZID=America/Los_Angeles:20271202T180000
DTEND;TZID=America/Los_Angeles:20271202T230000
DTSTAMP:20260421T201602
CREATED:20251223T210917Z
LAST-MODIFIED:20260219T194242Z
UID:10007277-1827770400-1827788400@hangar24brewing.com
SUMMARY:College Night (live DJ & games)
DESCRIPTION:
URL:https://hangar24brewing.com/event/college-night-live-dj-games-2/2027-12-02/
END:VEVENT
BEGIN:VEVENT
DTSTART;TZID=America/Los_Angeles:20271202T183000
DTEND;TZID=America/Los_Angeles:20271202T203000
DTSTAMP:20260421T201602
CREATED:20251223T210501Z
LAST-MODIFIED:20260219T195413Z
UID:10011444-1827772200-1827779400@hangar24brewing.com
SUMMARY:Trivia Night
DESCRIPTION:
URL:https://hangar24brewing.com/event/trivia-night-7-2/2027-12-02/
END:VEVENT
BEGIN:VEVENT
DTSTART;TZID=America/Los_Angeles:20271202T190000
DTEND;TZID=America/Los_Angeles:20271202T210000
DTSTAMP:20260421T201602
CREATED:20260207T154408Z
LAST-MODIFIED:20260211T110003Z
UID:10010592-1827774000-1827781200@hangar24brewing.com
SUMMARY:Trivia Night: Epic Pub Quiz
DESCRIPTION:
URL:https://hangar24brewing.com/event/trivia-night-epic-pub-quiz-2/2027-12-02/
LOCATION:HANGAR 24 BREWING – ORANGE COUNTY\, CA
CATEGORIES:Orange County, CA Events
END:VEVENT
BEGIN:VEVENT
DTSTART;TZID=America/Los_Angeles:20271205T110000
DTEND;TZID=America/Los_Angeles:20271205T200000
DTSTAMP:20260421T201602
CREATED:20260211T035305Z
LAST-MODIFIED:20260211T035307Z
UID:10008353-1828004400-1828036800@hangar24brewing.com
SUMMARY:Happy Hour - ALL DAY
DESCRIPTION:
URL:https://hangar24brewing.com/event/happy-hour-all-day-2/2027-12-05/
END:VEVENT
BEGIN:VEVENT
DTSTART;TZID=America/Los_Angeles:20271206T180000
DTEND;TZID=America/Los_Angeles:20271206T200000
DTSTAMP:20260421T201602
CREATED:20260207T153334Z
LAST-MODIFIED:20260211T105548Z
UID:10012333-1828116000-1828123200@hangar24brewing.com
SUMMARY:"Sing Your Heart Out" Karaoke Singles Night
DESCRIPTION:
URL:https://hangar24brewing.com/event/sing-your-heart-out-karaoke-singles-night-3/2027-12-06/
LOCATION:HANGAR 24 BREWING – ORANGE COUNTY\, CA
CATEGORIES:Orange County, CA Events
END:VEVENT
BEGIN:VEVENT
DTSTART;VALUE=DATE:20271207
DTEND;VALUE=DATE:20271208
DTSTAMP:20260421T201602
CREATED:20230411T060633Z
LAST-MODIFIED:20260207T151741Z
UID:10003352-1828137600-1828223999@hangar24brewing.com
SUMMARY:TEACHER TUESDAY (25% OFF)
DESCRIPTION:Mug Club Day & Teacher Tuesday (25% OFF!)
URL:https://hangar24brewing.com/event/mug-club-day-2/2027-12-07/
LOCATION:HANGAR 24 BREWING – REDLANDS\, CA
END:VEVENT
BEGIN:VEVENT
DTSTART;VALUE=DATE:20271207
DTEND;VALUE=DATE:20271208
DTSTAMP:20260421T201602
CREATED:20250904T174742Z
LAST-MODIFIED:20260207T151846Z
UID:10010332-1828137600-1828223999@hangar24brewing.com
SUMMARY:Mug Club Discount Tuesdays ($1 off mug pours\, $2 off growler pours)
DESCRIPTION:
URL:https://hangar24brewing.com/event/mug-club-discount-tuesdays-1-off-mug-pours-2-off-growler-pours/2027-12-07/
LOCATION:HANGAR 24 BREWING – REDLANDS\, CA
END:VEVENT
BEGIN:VEVENT
DTSTART;TZID=America/Los_Angeles:20271207T190000
DTEND;TZID=America/Los_Angeles:20271207T210000
DTSTAMP:20260421T201602
CREATED:20260329T194924Z
LAST-MODIFIED:20260329T195013Z
UID:10013738-1828206000-1828213200@hangar24brewing.com
SUMMARY:Trivia Tuesdays
DESCRIPTION:
URL:https://hangar24brewing.com/event/trivia-tuesdays/2027-12-07/
LOCATION:HANGAR 24 BREWING – RIVERSIDE\, CA
CATEGORIES:Riverside, CA Events
END:VEVENT
BEGIN:VEVENT
DTSTART;TZID=America/Los_Angeles:20271207T190000
DTEND;TZID=America/Los_Angeles:20271207T220000
DTSTAMP:20260421T201602
CREATED:20250108T063359Z
LAST-MODIFIED:20260219T194135Z
UID:10007545-1828206000-1828216800@hangar24brewing.com
SUMMARY:Trivia Tuesdays (Pour House Trivia!)
DESCRIPTION:
URL:https://hangar24brewing.com/event/trivia-tuesdays-geeks-who-drink-3/2027-12-07/
END:VEVENT
BEGIN:VEVENT
DTSTART;TZID=America/Los_Angeles:20271208T173000
DTEND;TZID=America/Los_Angeles:20271208T193000
DTSTAMP:20260421T201602
CREATED:20251223T204203Z
LAST-MODIFIED:20260220T182628Z
UID:10008090-1828287000-1828294200@hangar24brewing.com
SUMMARY:Bingo Wednesdays!!
DESCRIPTION:
URL:https://hangar24brewing.com/event/bingo-night-2-2/2027-12-08/
LOCATION:HANGAR 24 BREWING – LAKE HAVASU CITY\, CA
CATEGORIES:Lake Havasu City, CA Events
END:VEVENT
BEGIN:VEVENT
DTSTART;TZID=America/Los_Angeles:20271209T180000
DTEND;TZID=America/Los_Angeles:20271209T200000
DTSTAMP:20260421T201602
CREATED:20251223T205854Z
LAST-MODIFIED:20260219T200301Z
UID:10009774-1828375200-1828382400@hangar24brewing.com
SUMMARY:Trivia Thursdays
DESCRIPTION:
URL:https://hangar24brewing.com/event/trivia-night-geeks-who-drink-2-2/2027-12-09/
LOCATION:HANGAR 24 BREWING – LAKE HAVASU CITY\, CA
CATEGORIES:Lake Havasu City, CA Events
END:VEVENT
BEGIN:VEVENT
DTSTART;TZID=America/Los_Angeles:20271209T180000
DTEND;TZID=America/Los_Angeles:20271209T230000
DTSTAMP:20260421T201602
CREATED:20251223T210917Z
LAST-MODIFIED:20260219T194242Z
UID:10007278-1828375200-1828393200@hangar24brewing.com
SUMMARY:College Night (live DJ & games)
DESCRIPTION:
URL:https://hangar24brewing.com/event/college-night-live-dj-games-2/2027-12-09/
END:VEVENT
BEGIN:VEVENT
DTSTART;TZID=America/Los_Angeles:20271209T183000
DTEND;TZID=America/Los_Angeles:20271209T203000
DTSTAMP:20260421T201602
CREATED:20251223T210501Z
LAST-MODIFIED:20260219T195413Z
UID:10011445-1828377000-1828384200@hangar24brewing.com
SUMMARY:Trivia Night
DESCRIPTION:
URL:https://hangar24brewing.com/event/trivia-night-7-2/2027-12-09/
END:VEVENT
END:VCALENDAR