BEGIN:VCALENDAR
VERSION:2.0
PRODID:-//Hangar 24 Craft Brewing - ECPv6.15.20//NONSGML v1.0//EN
CALSCALE:GREGORIAN
METHOD:PUBLISH
X-ORIGINAL-URL:https://hangar24brewing.com
X-WR-CALDESC:Events for Hangar 24 Craft Brewing
REFRESH-INTERVAL;VALUE=DURATION:PT1H
X-Robots-Tag:noindex
X-PUBLISHED-TTL:PT1H
BEGIN:VTIMEZONE
TZID:America/Los_Angeles
BEGIN:DAYLIGHT
TZOFFSETFROM:-0800
TZOFFSETTO:-0700
TZNAME:PDT
DTSTART:20260308T100000
END:DAYLIGHT
BEGIN:STANDARD
TZOFFSETFROM:-0700
TZOFFSETTO:-0800
TZNAME:PST
DTSTART:20261101T090000
END:STANDARD
BEGIN:DAYLIGHT
TZOFFSETFROM:-0800
TZOFFSETTO:-0700
TZNAME:PDT
DTSTART:20270314T100000
END:DAYLIGHT
BEGIN:STANDARD
TZOFFSETFROM:-0700
TZOFFSETTO:-0800
TZNAME:PST
DTSTART:20271107T090000
END:STANDARD
BEGIN:DAYLIGHT
TZOFFSETFROM:-0800
TZOFFSETTO:-0700
TZNAME:PDT
DTSTART:20280312T100000
END:DAYLIGHT
BEGIN:STANDARD
TZOFFSETFROM:-0700
TZOFFSETTO:-0800
TZNAME:PST
DTSTART:20281105T090000
END:STANDARD
END:VTIMEZONE
BEGIN:VEVENT
DTSTART;TZID=America/Los_Angeles:20270923T180000
DTEND;TZID=America/Los_Angeles:20270923T230000
DTSTAMP:20260422T001828
CREATED:20251223T210917Z
LAST-MODIFIED:20260219T194242Z
UID:10007267-1821722400-1821740400@hangar24brewing.com
SUMMARY:College Night (live DJ & games)
DESCRIPTION:
URL:https://hangar24brewing.com/event/college-night-live-dj-games-2/2027-09-23/
END:VEVENT
BEGIN:VEVENT
DTSTART;TZID=America/Los_Angeles:20270923T183000
DTEND;TZID=America/Los_Angeles:20270923T203000
DTSTAMP:20260422T001828
CREATED:20251223T210501Z
LAST-MODIFIED:20260219T195413Z
UID:10011434-1821724200-1821731400@hangar24brewing.com
SUMMARY:Trivia Night
DESCRIPTION:
URL:https://hangar24brewing.com/event/trivia-night-7-2/2027-09-23/
END:VEVENT
BEGIN:VEVENT
DTSTART;TZID=America/Los_Angeles:20270923T190000
DTEND;TZID=America/Los_Angeles:20270923T210000
DTSTAMP:20260422T001828
CREATED:20260207T154408Z
LAST-MODIFIED:20260211T110003Z
UID:10010582-1821726000-1821733200@hangar24brewing.com
SUMMARY:Trivia Night: Epic Pub Quiz
DESCRIPTION:
URL:https://hangar24brewing.com/event/trivia-night-epic-pub-quiz-2/2027-09-23/
LOCATION:HANGAR 24 BREWING – ORANGE COUNTY\, CA
CATEGORIES:Orange County, CA Events
END:VEVENT
BEGIN:VEVENT
DTSTART;TZID=America/Los_Angeles:20270926T110000
DTEND;TZID=America/Los_Angeles:20270926T200000
DTSTAMP:20260422T001828
CREATED:20260211T035305Z
LAST-MODIFIED:20260211T035307Z
UID:10008343-1821956400-1821988800@hangar24brewing.com
SUMMARY:Happy Hour - ALL DAY
DESCRIPTION:
URL:https://hangar24brewing.com/event/happy-hour-all-day-2/2027-09-26/
END:VEVENT
BEGIN:VEVENT
DTSTART;TZID=America/Los_Angeles:20270927T180000
DTEND;TZID=America/Los_Angeles:20270927T200000
DTSTAMP:20260422T001828
CREATED:20260207T153334Z
LAST-MODIFIED:20260211T105548Z
UID:10012323-1822068000-1822075200@hangar24brewing.com
SUMMARY:"Sing Your Heart Out" Karaoke Singles Night
DESCRIPTION:
URL:https://hangar24brewing.com/event/sing-your-heart-out-karaoke-singles-night-3/2027-09-27/
LOCATION:HANGAR 24 BREWING – ORANGE COUNTY\, CA
CATEGORIES:Orange County, CA Events
END:VEVENT
BEGIN:VEVENT
DTSTART;VALUE=DATE:20270928
DTEND;VALUE=DATE:20270929
DTSTAMP:20260422T001828
CREATED:20230411T060633Z
LAST-MODIFIED:20260207T151741Z
UID:10002209-1822089600-1822175999@hangar24brewing.com
SUMMARY:TEACHER TUESDAY (25% OFF)
DESCRIPTION:Mug Club Day & Teacher Tuesday (25% OFF!)
URL:https://hangar24brewing.com/event/mug-club-day-2/2027-09-28/
LOCATION:HANGAR 24 BREWING – REDLANDS\, CA
END:VEVENT
BEGIN:VEVENT
DTSTART;VALUE=DATE:20270928
DTEND;VALUE=DATE:20270929
DTSTAMP:20260422T001828
CREATED:20250904T174742Z
LAST-MODIFIED:20260207T151846Z
UID:10010322-1822089600-1822175999@hangar24brewing.com
SUMMARY:Mug Club Discount Tuesdays ($1 off mug pours\, $2 off growler pours)
DESCRIPTION:
URL:https://hangar24brewing.com/event/mug-club-discount-tuesdays-1-off-mug-pours-2-off-growler-pours/2027-09-28/
LOCATION:HANGAR 24 BREWING – REDLANDS\, CA
END:VEVENT
BEGIN:VEVENT
DTSTART;TZID=America/Los_Angeles:20270928T190000
DTEND;TZID=America/Los_Angeles:20270928T210000
DTSTAMP:20260422T001828
CREATED:20260329T194924Z
LAST-MODIFIED:20260329T195013Z
UID:10013728-1822158000-1822165200@hangar24brewing.com
SUMMARY:Trivia Tuesdays
DESCRIPTION:
URL:https://hangar24brewing.com/event/trivia-tuesdays/2027-09-28/
LOCATION:HANGAR 24 BREWING – RIVERSIDE\, CA
CATEGORIES:Riverside, CA Events
END:VEVENT
BEGIN:VEVENT
DTSTART;TZID=America/Los_Angeles:20270928T190000
DTEND;TZID=America/Los_Angeles:20270928T220000
DTSTAMP:20260422T001828
CREATED:20250108T063359Z
LAST-MODIFIED:20260219T194135Z
UID:10007535-1822158000-1822168800@hangar24brewing.com
SUMMARY:Trivia Tuesdays (Pour House Trivia!)
DESCRIPTION:
URL:https://hangar24brewing.com/event/trivia-tuesdays-geeks-who-drink-3/2027-09-28/
END:VEVENT
BEGIN:VEVENT
DTSTART;TZID=America/Los_Angeles:20270929T173000
DTEND;TZID=America/Los_Angeles:20270929T193000
DTSTAMP:20260422T001828
CREATED:20251223T204203Z
LAST-MODIFIED:20260220T182628Z
UID:10008080-1822239000-1822246200@hangar24brewing.com
SUMMARY:Bingo Wednesdays!!
DESCRIPTION:
URL:https://hangar24brewing.com/event/bingo-night-2-2/2027-09-29/
LOCATION:HANGAR 24 BREWING – LAKE HAVASU CITY\, CA
CATEGORIES:Lake Havasu City, CA Events
END:VEVENT
BEGIN:VEVENT
DTSTART;TZID=America/Los_Angeles:20270930T180000
DTEND;TZID=America/Los_Angeles:20270930T200000
DTSTAMP:20260422T001828
CREATED:20251223T205854Z
LAST-MODIFIED:20260219T200301Z
UID:10009764-1822327200-1822334400@hangar24brewing.com
SUMMARY:Trivia Thursdays
DESCRIPTION:
URL:https://hangar24brewing.com/event/trivia-night-geeks-who-drink-2-2/2027-09-30/
LOCATION:HANGAR 24 BREWING – LAKE HAVASU CITY\, CA
CATEGORIES:Lake Havasu City, CA Events
END:VEVENT
BEGIN:VEVENT
DTSTART;TZID=America/Los_Angeles:20270930T180000
DTEND;TZID=America/Los_Angeles:20270930T230000
DTSTAMP:20260422T001828
CREATED:20251223T210917Z
LAST-MODIFIED:20260219T194242Z
UID:10007268-1822327200-1822345200@hangar24brewing.com
SUMMARY:College Night (live DJ & games)
DESCRIPTION:
URL:https://hangar24brewing.com/event/college-night-live-dj-games-2/2027-09-30/
END:VEVENT
BEGIN:VEVENT
DTSTART;TZID=America/Los_Angeles:20270930T183000
DTEND;TZID=America/Los_Angeles:20270930T203000
DTSTAMP:20260422T001828
CREATED:20251223T210501Z
LAST-MODIFIED:20260219T195413Z
UID:10011435-1822329000-1822336200@hangar24brewing.com
SUMMARY:Trivia Night
DESCRIPTION:
URL:https://hangar24brewing.com/event/trivia-night-7-2/2027-09-30/
END:VEVENT
BEGIN:VEVENT
DTSTART;TZID=America/Los_Angeles:20270930T190000
DTEND;TZID=America/Los_Angeles:20270930T210000
DTSTAMP:20260422T001828
CREATED:20260207T154408Z
LAST-MODIFIED:20260211T110003Z
UID:10010583-1822330800-1822338000@hangar24brewing.com
SUMMARY:Trivia Night: Epic Pub Quiz
DESCRIPTION:
URL:https://hangar24brewing.com/event/trivia-night-epic-pub-quiz-2/2027-09-30/
LOCATION:HANGAR 24 BREWING – ORANGE COUNTY\, CA
CATEGORIES:Orange County, CA Events
END:VEVENT
BEGIN:VEVENT
DTSTART;TZID=America/Los_Angeles:20271003T110000
DTEND;TZID=America/Los_Angeles:20271003T200000
DTSTAMP:20260422T001828
CREATED:20260211T035305Z
LAST-MODIFIED:20260211T035307Z
UID:10008344-1822561200-1822593600@hangar24brewing.com
SUMMARY:Happy Hour - ALL DAY
DESCRIPTION:
URL:https://hangar24brewing.com/event/happy-hour-all-day-2/2027-10-03/
END:VEVENT
BEGIN:VEVENT
DTSTART;TZID=America/Los_Angeles:20271004T180000
DTEND;TZID=America/Los_Angeles:20271004T200000
DTSTAMP:20260422T001828
CREATED:20260207T153334Z
LAST-MODIFIED:20260211T105548Z
UID:10012324-1822672800-1822680000@hangar24brewing.com
SUMMARY:"Sing Your Heart Out" Karaoke Singles Night
DESCRIPTION:
URL:https://hangar24brewing.com/event/sing-your-heart-out-karaoke-singles-night-3/2027-10-04/
LOCATION:HANGAR 24 BREWING – ORANGE COUNTY\, CA
CATEGORIES:Orange County, CA Events
END:VEVENT
BEGIN:VEVENT
DTSTART;VALUE=DATE:20271005
DTEND;VALUE=DATE:20271006
DTSTAMP:20260422T001828
CREATED:20230411T060633Z
LAST-MODIFIED:20260207T151741Z
UID:10002210-1822694400-1822780799@hangar24brewing.com
SUMMARY:TEACHER TUESDAY (25% OFF)
DESCRIPTION:Mug Club Day & Teacher Tuesday (25% OFF!)
URL:https://hangar24brewing.com/event/mug-club-day-2/2027-10-05/
LOCATION:HANGAR 24 BREWING – REDLANDS\, CA
END:VEVENT
BEGIN:VEVENT
DTSTART;VALUE=DATE:20271005
DTEND;VALUE=DATE:20271006
DTSTAMP:20260422T001828
CREATED:20250904T174742Z
LAST-MODIFIED:20260207T151846Z
UID:10010323-1822694400-1822780799@hangar24brewing.com
SUMMARY:Mug Club Discount Tuesdays ($1 off mug pours\, $2 off growler pours)
DESCRIPTION:
URL:https://hangar24brewing.com/event/mug-club-discount-tuesdays-1-off-mug-pours-2-off-growler-pours/2027-10-05/
LOCATION:HANGAR 24 BREWING – REDLANDS\, CA
END:VEVENT
BEGIN:VEVENT
DTSTART;TZID=America/Los_Angeles:20271005T190000
DTEND;TZID=America/Los_Angeles:20271005T210000
DTSTAMP:20260422T001828
CREATED:20260329T194924Z
LAST-MODIFIED:20260329T195013Z
UID:10013729-1822762800-1822770000@hangar24brewing.com
SUMMARY:Trivia Tuesdays
DESCRIPTION:
URL:https://hangar24brewing.com/event/trivia-tuesdays/2027-10-05/
LOCATION:HANGAR 24 BREWING – RIVERSIDE\, CA
CATEGORIES:Riverside, CA Events
END:VEVENT
BEGIN:VEVENT
DTSTART;TZID=America/Los_Angeles:20271005T190000
DTEND;TZID=America/Los_Angeles:20271005T220000
DTSTAMP:20260422T001829
CREATED:20250108T063359Z
LAST-MODIFIED:20260219T194135Z
UID:10007536-1822762800-1822773600@hangar24brewing.com
SUMMARY:Trivia Tuesdays (Pour House Trivia!)
DESCRIPTION:
URL:https://hangar24brewing.com/event/trivia-tuesdays-geeks-who-drink-3/2027-10-05/
END:VEVENT
BEGIN:VEVENT
DTSTART;TZID=America/Los_Angeles:20271006T173000
DTEND;TZID=America/Los_Angeles:20271006T193000
DTSTAMP:20260422T001829
CREATED:20251223T204203Z
LAST-MODIFIED:20260220T182628Z
UID:10008081-1822843800-1822851000@hangar24brewing.com
SUMMARY:Bingo Wednesdays!!
DESCRIPTION:
URL:https://hangar24brewing.com/event/bingo-night-2-2/2027-10-06/
LOCATION:HANGAR 24 BREWING – LAKE HAVASU CITY\, CA
CATEGORIES:Lake Havasu City, CA Events
END:VEVENT
BEGIN:VEVENT
DTSTART;TZID=America/Los_Angeles:20271007T180000
DTEND;TZID=America/Los_Angeles:20271007T200000
DTSTAMP:20260422T001829
CREATED:20251223T205854Z
LAST-MODIFIED:20260219T200301Z
UID:10009765-1822932000-1822939200@hangar24brewing.com
SUMMARY:Trivia Thursdays
DESCRIPTION:
URL:https://hangar24brewing.com/event/trivia-night-geeks-who-drink-2-2/2027-10-07/
LOCATION:HANGAR 24 BREWING – LAKE HAVASU CITY\, CA
CATEGORIES:Lake Havasu City, CA Events
END:VEVENT
BEGIN:VEVENT
DTSTART;TZID=America/Los_Angeles:20271007T180000
DTEND;TZID=America/Los_Angeles:20271007T230000
DTSTAMP:20260422T001829
CREATED:20251223T210917Z
LAST-MODIFIED:20260219T194242Z
UID:10007269-1822932000-1822950000@hangar24brewing.com
SUMMARY:College Night (live DJ & games)
DESCRIPTION:
URL:https://hangar24brewing.com/event/college-night-live-dj-games-2/2027-10-07/
END:VEVENT
BEGIN:VEVENT
DTSTART;TZID=America/Los_Angeles:20271007T183000
DTEND;TZID=America/Los_Angeles:20271007T203000
DTSTAMP:20260422T001829
CREATED:20251223T210501Z
LAST-MODIFIED:20260219T195413Z
UID:10011436-1822933800-1822941000@hangar24brewing.com
SUMMARY:Trivia Night
DESCRIPTION:
URL:https://hangar24brewing.com/event/trivia-night-7-2/2027-10-07/
END:VEVENT
BEGIN:VEVENT
DTSTART;TZID=America/Los_Angeles:20271007T190000
DTEND;TZID=America/Los_Angeles:20271007T210000
DTSTAMP:20260422T001829
CREATED:20260207T154408Z
LAST-MODIFIED:20260211T110003Z
UID:10010584-1822935600-1822942800@hangar24brewing.com
SUMMARY:Trivia Night: Epic Pub Quiz
DESCRIPTION:
URL:https://hangar24brewing.com/event/trivia-night-epic-pub-quiz-2/2027-10-07/
LOCATION:HANGAR 24 BREWING – ORANGE COUNTY\, CA
CATEGORIES:Orange County, CA Events
END:VEVENT
BEGIN:VEVENT
DTSTART;TZID=America/Los_Angeles:20271010T110000
DTEND;TZID=America/Los_Angeles:20271010T200000
DTSTAMP:20260422T001829
CREATED:20260211T035305Z
LAST-MODIFIED:20260211T035307Z
UID:10008345-1823166000-1823198400@hangar24brewing.com
SUMMARY:Happy Hour - ALL DAY
DESCRIPTION:
URL:https://hangar24brewing.com/event/happy-hour-all-day-2/2027-10-10/
END:VEVENT
BEGIN:VEVENT
DTSTART;TZID=America/Los_Angeles:20271011T180000
DTEND;TZID=America/Los_Angeles:20271011T200000
DTSTAMP:20260422T001829
CREATED:20260207T153334Z
LAST-MODIFIED:20260211T105548Z
UID:10012325-1823277600-1823284800@hangar24brewing.com
SUMMARY:"Sing Your Heart Out" Karaoke Singles Night
DESCRIPTION:
URL:https://hangar24brewing.com/event/sing-your-heart-out-karaoke-singles-night-3/2027-10-11/
LOCATION:HANGAR 24 BREWING – ORANGE COUNTY\, CA
CATEGORIES:Orange County, CA Events
END:VEVENT
BEGIN:VEVENT
DTSTART;VALUE=DATE:20271012
DTEND;VALUE=DATE:20271013
DTSTAMP:20260422T001829
CREATED:20230411T060633Z
LAST-MODIFIED:20260207T151741Z
UID:10003344-1823299200-1823385599@hangar24brewing.com
SUMMARY:TEACHER TUESDAY (25% OFF)
DESCRIPTION:Mug Club Day & Teacher Tuesday (25% OFF!)
URL:https://hangar24brewing.com/event/mug-club-day-2/2027-10-12/
LOCATION:HANGAR 24 BREWING – REDLANDS\, CA
END:VEVENT
BEGIN:VEVENT
DTSTART;VALUE=DATE:20271012
DTEND;VALUE=DATE:20271013
DTSTAMP:20260422T001829
CREATED:20250904T174742Z
LAST-MODIFIED:20260207T151846Z
UID:10010324-1823299200-1823385599@hangar24brewing.com
SUMMARY:Mug Club Discount Tuesdays ($1 off mug pours\, $2 off growler pours)
DESCRIPTION:
URL:https://hangar24brewing.com/event/mug-club-discount-tuesdays-1-off-mug-pours-2-off-growler-pours/2027-10-12/
LOCATION:HANGAR 24 BREWING – REDLANDS\, CA
END:VEVENT
BEGIN:VEVENT
DTSTART;TZID=America/Los_Angeles:20271012T190000
DTEND;TZID=America/Los_Angeles:20271012T210000
DTSTAMP:20260422T001829
CREATED:20260329T194924Z
LAST-MODIFIED:20260329T195013Z
UID:10013730-1823367600-1823374800@hangar24brewing.com
SUMMARY:Trivia Tuesdays
DESCRIPTION:
URL:https://hangar24brewing.com/event/trivia-tuesdays/2027-10-12/
LOCATION:HANGAR 24 BREWING – RIVERSIDE\, CA
CATEGORIES:Riverside, CA Events
END:VEVENT
END:VCALENDAR