BEGIN:VCALENDAR
VERSION:2.0
PRODID:-//Hangar 24 Craft Brewing - ECPv6.15.20//NONSGML v1.0//EN
CALSCALE:GREGORIAN
METHOD:PUBLISH
X-ORIGINAL-URL:https://hangar24brewing.com
X-WR-CALDESC:Events for Hangar 24 Craft Brewing
REFRESH-INTERVAL;VALUE=DURATION:PT1H
X-Robots-Tag:noindex
X-PUBLISHED-TTL:PT1H
BEGIN:VTIMEZONE
TZID:America/Los_Angeles
BEGIN:DAYLIGHT
TZOFFSETFROM:-0800
TZOFFSETTO:-0700
TZNAME:PDT
DTSTART:20270314T100000
END:DAYLIGHT
BEGIN:STANDARD
TZOFFSETFROM:-0700
TZOFFSETTO:-0800
TZNAME:PST
DTSTART:20271107T090000
END:STANDARD
BEGIN:DAYLIGHT
TZOFFSETFROM:-0800
TZOFFSETTO:-0700
TZNAME:PDT
DTSTART:20280312T100000
END:DAYLIGHT
BEGIN:STANDARD
TZOFFSETFROM:-0700
TZOFFSETTO:-0800
TZNAME:PST
DTSTART:20281105T090000
END:STANDARD
BEGIN:DAYLIGHT
TZOFFSETFROM:-0800
TZOFFSETTO:-0700
TZNAME:PDT
DTSTART:20290311T100000
END:DAYLIGHT
BEGIN:STANDARD
TZOFFSETFROM:-0700
TZOFFSETTO:-0800
TZNAME:PST
DTSTART:20291104T090000
END:STANDARD
END:VTIMEZONE
BEGIN:VEVENT
DTSTART;TZID=America/Los_Angeles:20280326T110000
DTEND;TZID=America/Los_Angeles:20280326T200000
DTSTAMP:20260422T101121
CREATED:20260211T035305Z
LAST-MODIFIED:20260211T035307Z
UID:10008369-1837681200-1837713600@hangar24brewing.com
SUMMARY:Happy Hour - ALL DAY
DESCRIPTION:
URL:https://hangar24brewing.com/event/happy-hour-all-day-2/2028-03-26/
END:VEVENT
BEGIN:VEVENT
DTSTART;TZID=America/Los_Angeles:20280327T180000
DTEND;TZID=America/Los_Angeles:20280327T200000
DTSTAMP:20260422T101121
CREATED:20260207T153334Z
LAST-MODIFIED:20260211T105548Z
UID:10012349-1837792800-1837800000@hangar24brewing.com
SUMMARY:"Sing Your Heart Out" Karaoke Singles Night
DESCRIPTION:
URL:https://hangar24brewing.com/event/sing-your-heart-out-karaoke-singles-night-3/2028-03-27/
LOCATION:HANGAR 24 BREWING – ORANGE COUNTY\, CA
CATEGORIES:Orange County, CA Events
END:VEVENT
BEGIN:VEVENT
DTSTART;VALUE=DATE:20280328
DTEND;VALUE=DATE:20280329
DTSTAMP:20260422T101121
CREATED:20230411T060633Z
LAST-MODIFIED:20260207T151741Z
UID:10003368-1837814400-1837900799@hangar24brewing.com
SUMMARY:TEACHER TUESDAY (25% OFF)
DESCRIPTION:Mug Club Day & Teacher Tuesday (25% OFF!)
URL:https://hangar24brewing.com/event/mug-club-day-2/2028-03-28/
LOCATION:HANGAR 24 BREWING – REDLANDS\, CA
END:VEVENT
BEGIN:VEVENT
DTSTART;VALUE=DATE:20280328
DTEND;VALUE=DATE:20280329
DTSTAMP:20260422T101121
CREATED:20250904T174742Z
LAST-MODIFIED:20260207T151846Z
UID:10010348-1837814400-1837900799@hangar24brewing.com
SUMMARY:Mug Club Discount Tuesdays ($1 off mug pours\, $2 off growler pours)
DESCRIPTION:
URL:https://hangar24brewing.com/event/mug-club-discount-tuesdays-1-off-mug-pours-2-off-growler-pours/2028-03-28/
LOCATION:HANGAR 24 BREWING – REDLANDS\, CA
END:VEVENT
BEGIN:VEVENT
DTSTART;TZID=America/Los_Angeles:20280328T190000
DTEND;TZID=America/Los_Angeles:20280328T220000
DTSTAMP:20260422T101121
CREATED:20250108T063359Z
LAST-MODIFIED:20260219T194135Z
UID:10007561-1837882800-1837893600@hangar24brewing.com
SUMMARY:Trivia Tuesdays (Pour House Trivia!)
DESCRIPTION:
URL:https://hangar24brewing.com/event/trivia-tuesdays-geeks-who-drink-3/2028-03-28/
END:VEVENT
BEGIN:VEVENT
DTSTART;TZID=America/Los_Angeles:20280329T173000
DTEND;TZID=America/Los_Angeles:20280329T193000
DTSTAMP:20260422T101121
CREATED:20251223T204203Z
LAST-MODIFIED:20260220T182628Z
UID:10008106-1837963800-1837971000@hangar24brewing.com
SUMMARY:Bingo Wednesdays!!
DESCRIPTION:
URL:https://hangar24brewing.com/event/bingo-night-2-2/2028-03-29/
LOCATION:HANGAR 24 BREWING – LAKE HAVASU CITY\, CA
CATEGORIES:Lake Havasu City, CA Events
END:VEVENT
BEGIN:VEVENT
DTSTART;TZID=America/Los_Angeles:20280330T180000
DTEND;TZID=America/Los_Angeles:20280330T200000
DTSTAMP:20260422T101121
CREATED:20251223T205854Z
LAST-MODIFIED:20260219T200301Z
UID:10009790-1838052000-1838059200@hangar24brewing.com
SUMMARY:Trivia Thursdays
DESCRIPTION:
URL:https://hangar24brewing.com/event/trivia-night-geeks-who-drink-2-2/2028-03-30/
LOCATION:HANGAR 24 BREWING – LAKE HAVASU CITY\, CA
CATEGORIES:Lake Havasu City, CA Events
END:VEVENT
BEGIN:VEVENT
DTSTART;TZID=America/Los_Angeles:20280330T180000
DTEND;TZID=America/Los_Angeles:20280330T230000
DTSTAMP:20260422T101121
CREATED:20251223T210917Z
LAST-MODIFIED:20260219T194242Z
UID:10007294-1838052000-1838070000@hangar24brewing.com
SUMMARY:College Night (live DJ & games)
DESCRIPTION:
URL:https://hangar24brewing.com/event/college-night-live-dj-games-2/2028-03-30/
END:VEVENT
BEGIN:VEVENT
DTSTART;TZID=America/Los_Angeles:20280330T183000
DTEND;TZID=America/Los_Angeles:20280330T203000
DTSTAMP:20260422T101121
CREATED:20251223T210501Z
LAST-MODIFIED:20260219T195413Z
UID:10011461-1838053800-1838061000@hangar24brewing.com
SUMMARY:Trivia Night
DESCRIPTION:
URL:https://hangar24brewing.com/event/trivia-night-7-2/2028-03-30/
END:VEVENT
BEGIN:VEVENT
DTSTART;TZID=America/Los_Angeles:20280330T190000
DTEND;TZID=America/Los_Angeles:20280330T210000
DTSTAMP:20260422T101121
CREATED:20260207T154408Z
LAST-MODIFIED:20260211T110003Z
UID:10010609-1838055600-1838062800@hangar24brewing.com
SUMMARY:Trivia Night: Epic Pub Quiz
DESCRIPTION:
URL:https://hangar24brewing.com/event/trivia-night-epic-pub-quiz-2/2028-03-30/
LOCATION:HANGAR 24 BREWING – ORANGE COUNTY\, CA
CATEGORIES:Orange County, CA Events
END:VEVENT
BEGIN:VEVENT
DTSTART;TZID=America/Los_Angeles:20280402T110000
DTEND;TZID=America/Los_Angeles:20280402T200000
DTSTAMP:20260422T101121
CREATED:20260211T035305Z
LAST-MODIFIED:20260211T035307Z
UID:10008370-1838286000-1838318400@hangar24brewing.com
SUMMARY:Happy Hour - ALL DAY
DESCRIPTION:
URL:https://hangar24brewing.com/event/happy-hour-all-day-2/2028-04-02/
END:VEVENT
BEGIN:VEVENT
DTSTART;TZID=America/Los_Angeles:20280403T180000
DTEND;TZID=America/Los_Angeles:20280403T200000
DTSTAMP:20260422T101121
CREATED:20260207T153334Z
LAST-MODIFIED:20260211T105548Z
UID:10012350-1838397600-1838404800@hangar24brewing.com
SUMMARY:"Sing Your Heart Out" Karaoke Singles Night
DESCRIPTION:
URL:https://hangar24brewing.com/event/sing-your-heart-out-karaoke-singles-night-3/2028-04-03/
LOCATION:HANGAR 24 BREWING – ORANGE COUNTY\, CA
CATEGORIES:Orange County, CA Events
END:VEVENT
BEGIN:VEVENT
DTSTART;VALUE=DATE:20280404
DTEND;VALUE=DATE:20280405
DTSTAMP:20260422T101121
CREATED:20230411T060633Z
LAST-MODIFIED:20260207T151741Z
UID:10003369-1838419200-1838505599@hangar24brewing.com
SUMMARY:TEACHER TUESDAY (25% OFF)
DESCRIPTION:Mug Club Day & Teacher Tuesday (25% OFF!)
URL:https://hangar24brewing.com/event/mug-club-day-2/2028-04-04/
LOCATION:HANGAR 24 BREWING – REDLANDS\, CA
END:VEVENT
BEGIN:VEVENT
DTSTART;VALUE=DATE:20280404
DTEND;VALUE=DATE:20280405
DTSTAMP:20260422T101121
CREATED:20250904T174742Z
LAST-MODIFIED:20260207T151846Z
UID:10010349-1838419200-1838505599@hangar24brewing.com
SUMMARY:Mug Club Discount Tuesdays ($1 off mug pours\, $2 off growler pours)
DESCRIPTION:
URL:https://hangar24brewing.com/event/mug-club-discount-tuesdays-1-off-mug-pours-2-off-growler-pours/2028-04-04/
LOCATION:HANGAR 24 BREWING – REDLANDS\, CA
END:VEVENT
BEGIN:VEVENT
DTSTART;TZID=America/Los_Angeles:20280404T190000
DTEND;TZID=America/Los_Angeles:20280404T220000
DTSTAMP:20260422T101121
CREATED:20250108T063359Z
LAST-MODIFIED:20260219T194135Z
UID:10007562-1838487600-1838498400@hangar24brewing.com
SUMMARY:Trivia Tuesdays (Pour House Trivia!)
DESCRIPTION:
URL:https://hangar24brewing.com/event/trivia-tuesdays-geeks-who-drink-3/2028-04-04/
END:VEVENT
BEGIN:VEVENT
DTSTART;TZID=America/Los_Angeles:20280405T173000
DTEND;TZID=America/Los_Angeles:20280405T193000
DTSTAMP:20260422T101121
CREATED:20251223T204203Z
LAST-MODIFIED:20260220T182628Z
UID:10008107-1838568600-1838575800@hangar24brewing.com
SUMMARY:Bingo Wednesdays!!
DESCRIPTION:
URL:https://hangar24brewing.com/event/bingo-night-2-2/2028-04-05/
LOCATION:HANGAR 24 BREWING – LAKE HAVASU CITY\, CA
CATEGORIES:Lake Havasu City, CA Events
END:VEVENT
BEGIN:VEVENT
DTSTART;TZID=America/Los_Angeles:20280406T180000
DTEND;TZID=America/Los_Angeles:20280406T200000
DTSTAMP:20260422T101121
CREATED:20251223T205854Z
LAST-MODIFIED:20260219T200301Z
UID:10009791-1838656800-1838664000@hangar24brewing.com
SUMMARY:Trivia Thursdays
DESCRIPTION:
URL:https://hangar24brewing.com/event/trivia-night-geeks-who-drink-2-2/2028-04-06/
LOCATION:HANGAR 24 BREWING – LAKE HAVASU CITY\, CA
CATEGORIES:Lake Havasu City, CA Events
END:VEVENT
BEGIN:VEVENT
DTSTART;TZID=America/Los_Angeles:20280406T180000
DTEND;TZID=America/Los_Angeles:20280406T230000
DTSTAMP:20260422T101121
CREATED:20251223T210917Z
LAST-MODIFIED:20260219T194242Z
UID:10007295-1838656800-1838674800@hangar24brewing.com
SUMMARY:College Night (live DJ & games)
DESCRIPTION:
URL:https://hangar24brewing.com/event/college-night-live-dj-games-2/2028-04-06/
END:VEVENT
BEGIN:VEVENT
DTSTART;TZID=America/Los_Angeles:20280406T183000
DTEND;TZID=America/Los_Angeles:20280406T203000
DTSTAMP:20260422T101121
CREATED:20251223T210501Z
LAST-MODIFIED:20260219T195413Z
UID:10011462-1838658600-1838665800@hangar24brewing.com
SUMMARY:Trivia Night
DESCRIPTION:
URL:https://hangar24brewing.com/event/trivia-night-7-2/2028-04-06/
END:VEVENT
BEGIN:VEVENT
DTSTART;TZID=America/Los_Angeles:20280406T190000
DTEND;TZID=America/Los_Angeles:20280406T210000
DTSTAMP:20260422T101121
CREATED:20260207T154408Z
LAST-MODIFIED:20260211T110003Z
UID:10010610-1838660400-1838667600@hangar24brewing.com
SUMMARY:Trivia Night: Epic Pub Quiz
DESCRIPTION:
URL:https://hangar24brewing.com/event/trivia-night-epic-pub-quiz-2/2028-04-06/
LOCATION:HANGAR 24 BREWING – ORANGE COUNTY\, CA
CATEGORIES:Orange County, CA Events
END:VEVENT
BEGIN:VEVENT
DTSTART;TZID=America/Los_Angeles:20280409T110000
DTEND;TZID=America/Los_Angeles:20280409T200000
DTSTAMP:20260422T101121
CREATED:20260211T035305Z
LAST-MODIFIED:20260211T035307Z
UID:10008371-1838890800-1838923200@hangar24brewing.com
SUMMARY:Happy Hour - ALL DAY
DESCRIPTION:
URL:https://hangar24brewing.com/event/happy-hour-all-day-2/2028-04-09/
END:VEVENT
BEGIN:VEVENT
DTSTART;TZID=America/Los_Angeles:20280410T180000
DTEND;TZID=America/Los_Angeles:20280410T200000
DTSTAMP:20260422T101121
CREATED:20260207T153334Z
LAST-MODIFIED:20260211T105548Z
UID:10012351-1839002400-1839009600@hangar24brewing.com
SUMMARY:"Sing Your Heart Out" Karaoke Singles Night
DESCRIPTION:
URL:https://hangar24brewing.com/event/sing-your-heart-out-karaoke-singles-night-3/2028-04-10/
LOCATION:HANGAR 24 BREWING – ORANGE COUNTY\, CA
CATEGORIES:Orange County, CA Events
END:VEVENT
BEGIN:VEVENT
DTSTART;VALUE=DATE:20280411
DTEND;VALUE=DATE:20280412
DTSTAMP:20260422T101121
CREATED:20230411T060633Z
LAST-MODIFIED:20260207T151741Z
UID:10010089-1839024000-1839110399@hangar24brewing.com
SUMMARY:TEACHER TUESDAY (25% OFF)
DESCRIPTION:Mug Club Day & Teacher Tuesday (25% OFF!)
URL:https://hangar24brewing.com/event/mug-club-day-2/2028-04-11/
LOCATION:HANGAR 24 BREWING – REDLANDS\, CA
END:VEVENT
BEGIN:VEVENT
DTSTART;VALUE=DATE:20280411
DTEND;VALUE=DATE:20280412
DTSTAMP:20260422T101121
CREATED:20250904T174742Z
LAST-MODIFIED:20260207T151846Z
UID:10010350-1839024000-1839110399@hangar24brewing.com
SUMMARY:Mug Club Discount Tuesdays ($1 off mug pours\, $2 off growler pours)
DESCRIPTION:
URL:https://hangar24brewing.com/event/mug-club-discount-tuesdays-1-off-mug-pours-2-off-growler-pours/2028-04-11/
LOCATION:HANGAR 24 BREWING – REDLANDS\, CA
END:VEVENT
BEGIN:VEVENT
DTSTART;TZID=America/Los_Angeles:20280411T190000
DTEND;TZID=America/Los_Angeles:20280411T220000
DTSTAMP:20260422T101121
CREATED:20250108T063359Z
LAST-MODIFIED:20260219T194135Z
UID:10007563-1839092400-1839103200@hangar24brewing.com
SUMMARY:Trivia Tuesdays (Pour House Trivia!)
DESCRIPTION:
URL:https://hangar24brewing.com/event/trivia-tuesdays-geeks-who-drink-3/2028-04-11/
END:VEVENT
BEGIN:VEVENT
DTSTART;TZID=America/Los_Angeles:20280412T173000
DTEND;TZID=America/Los_Angeles:20280412T193000
DTSTAMP:20260422T101121
CREATED:20251223T204203Z
LAST-MODIFIED:20260220T182628Z
UID:10008108-1839173400-1839180600@hangar24brewing.com
SUMMARY:Bingo Wednesdays!!
DESCRIPTION:
URL:https://hangar24brewing.com/event/bingo-night-2-2/2028-04-12/
LOCATION:HANGAR 24 BREWING – LAKE HAVASU CITY\, CA
CATEGORIES:Lake Havasu City, CA Events
END:VEVENT
BEGIN:VEVENT
DTSTART;TZID=America/Los_Angeles:20280413T180000
DTEND;TZID=America/Los_Angeles:20280413T200000
DTSTAMP:20260422T101121
CREATED:20251223T205854Z
LAST-MODIFIED:20260219T200301Z
UID:10009792-1839261600-1839268800@hangar24brewing.com
SUMMARY:Trivia Thursdays
DESCRIPTION:
URL:https://hangar24brewing.com/event/trivia-night-geeks-who-drink-2-2/2028-04-13/
LOCATION:HANGAR 24 BREWING – LAKE HAVASU CITY\, CA
CATEGORIES:Lake Havasu City, CA Events
END:VEVENT
BEGIN:VEVENT
DTSTART;TZID=America/Los_Angeles:20280413T180000
DTEND;TZID=America/Los_Angeles:20280413T230000
DTSTAMP:20260422T101121
CREATED:20251223T210917Z
LAST-MODIFIED:20260219T194242Z
UID:10007296-1839261600-1839279600@hangar24brewing.com
SUMMARY:College Night (live DJ & games)
DESCRIPTION:
URL:https://hangar24brewing.com/event/college-night-live-dj-games-2/2028-04-13/
END:VEVENT
BEGIN:VEVENT
DTSTART;TZID=America/Los_Angeles:20280413T183000
DTEND;TZID=America/Los_Angeles:20280413T203000
DTSTAMP:20260422T101121
CREATED:20251223T210501Z
LAST-MODIFIED:20260219T195413Z
UID:10011463-1839263400-1839270600@hangar24brewing.com
SUMMARY:Trivia Night
DESCRIPTION:
URL:https://hangar24brewing.com/event/trivia-night-7-2/2028-04-13/
END:VEVENT
BEGIN:VEVENT
DTSTART;TZID=America/Los_Angeles:20280413T190000
DTEND;TZID=America/Los_Angeles:20280413T210000
DTSTAMP:20260422T101121
CREATED:20260207T154408Z
LAST-MODIFIED:20260211T110003Z
UID:10010611-1839265200-1839272400@hangar24brewing.com
SUMMARY:Trivia Night: Epic Pub Quiz
DESCRIPTION:
URL:https://hangar24brewing.com/event/trivia-night-epic-pub-quiz-2/2028-04-13/
LOCATION:HANGAR 24 BREWING – ORANGE COUNTY\, CA
CATEGORIES:Orange County, CA Events
END:VEVENT
END:VCALENDAR