BEGIN:VCALENDAR
VERSION:2.0
PRODID:-//Hangar 24 Craft Brewing - ECPv6.15.20//NONSGML v1.0//EN
CALSCALE:GREGORIAN
METHOD:PUBLISH
X-WR-CALNAME:Hangar 24 Craft Brewing
X-ORIGINAL-URL:https://hangar24brewing.com
X-WR-CALDESC:Events for Hangar 24 Craft Brewing
REFRESH-INTERVAL;VALUE=DURATION:PT1H
X-Robots-Tag:noindex
X-PUBLISHED-TTL:PT1H
BEGIN:VTIMEZONE
TZID:America/Los_Angeles
BEGIN:DAYLIGHT
TZOFFSETFROM:-0800
TZOFFSETTO:-0700
TZNAME:PDT
DTSTART:20260308T100000
END:DAYLIGHT
BEGIN:STANDARD
TZOFFSETFROM:-0700
TZOFFSETTO:-0800
TZNAME:PST
DTSTART:20261101T090000
END:STANDARD
BEGIN:DAYLIGHT
TZOFFSETFROM:-0800
TZOFFSETTO:-0700
TZNAME:PDT
DTSTART:20270314T100000
END:DAYLIGHT
BEGIN:STANDARD
TZOFFSETFROM:-0700
TZOFFSETTO:-0800
TZNAME:PST
DTSTART:20271107T090000
END:STANDARD
BEGIN:DAYLIGHT
TZOFFSETFROM:-0800
TZOFFSETTO:-0700
TZNAME:PDT
DTSTART:20280312T100000
END:DAYLIGHT
BEGIN:STANDARD
TZOFFSETFROM:-0700
TZOFFSETTO:-0800
TZNAME:PST
DTSTART:20281105T090000
END:STANDARD
BEGIN:DAYLIGHT
TZOFFSETFROM:-0800
TZOFFSETTO:-0700
TZNAME:PDT
DTSTART:20290311T100000
END:DAYLIGHT
BEGIN:STANDARD
TZOFFSETFROM:-0700
TZOFFSETTO:-0800
TZNAME:PST
DTSTART:20291104T090000
END:STANDARD
END:VTIMEZONE
BEGIN:VEVENT
DTSTART;TZID=America/Los_Angeles:20271221T190000
DTEND;TZID=America/Los_Angeles:20271221T210000
DTSTAMP:20260422T163900
CREATED:20260329T194924Z
LAST-MODIFIED:20260329T195013Z
UID:10013740-1829415600-1829422800@hangar24brewing.com
SUMMARY:Trivia Tuesdays
DESCRIPTION:
URL:https://hangar24brewing.com/event/trivia-tuesdays/2027-12-21/
LOCATION:HANGAR 24 BREWING – RIVERSIDE\, CA
CATEGORIES:Riverside, CA Events
END:VEVENT
BEGIN:VEVENT
DTSTART;TZID=America/Los_Angeles:20271221T190000
DTEND;TZID=America/Los_Angeles:20271221T220000
DTSTAMP:20260422T163900
CREATED:20250108T063359Z
LAST-MODIFIED:20260219T194135Z
UID:10007547-1829415600-1829426400@hangar24brewing.com
SUMMARY:Trivia Tuesdays (Pour House Trivia!)
DESCRIPTION:
URL:https://hangar24brewing.com/event/trivia-tuesdays-geeks-who-drink-3/2027-12-21/
END:VEVENT
BEGIN:VEVENT
DTSTART;TZID=America/Los_Angeles:20271222T173000
DTEND;TZID=America/Los_Angeles:20271222T193000
DTSTAMP:20260422T163900
CREATED:20251223T204203Z
LAST-MODIFIED:20260220T182628Z
UID:10008092-1829496600-1829503800@hangar24brewing.com
SUMMARY:Bingo Wednesdays!!
DESCRIPTION:
URL:https://hangar24brewing.com/event/bingo-night-2-2/2027-12-22/
LOCATION:HANGAR 24 BREWING – LAKE HAVASU CITY\, CA
CATEGORIES:Lake Havasu City, CA Events
END:VEVENT
BEGIN:VEVENT
DTSTART;TZID=America/Los_Angeles:20271223T180000
DTEND;TZID=America/Los_Angeles:20271223T200000
DTSTAMP:20260422T163900
CREATED:20251223T205854Z
LAST-MODIFIED:20260219T200301Z
UID:10009776-1829584800-1829592000@hangar24brewing.com
SUMMARY:Trivia Thursdays
DESCRIPTION:
URL:https://hangar24brewing.com/event/trivia-night-geeks-who-drink-2-2/2027-12-23/
LOCATION:HANGAR 24 BREWING – LAKE HAVASU CITY\, CA
CATEGORIES:Lake Havasu City, CA Events
END:VEVENT
BEGIN:VEVENT
DTSTART;TZID=America/Los_Angeles:20271223T180000
DTEND;TZID=America/Los_Angeles:20271223T230000
DTSTAMP:20260422T163900
CREATED:20251223T210917Z
LAST-MODIFIED:20260219T194242Z
UID:10007280-1829584800-1829602800@hangar24brewing.com
SUMMARY:College Night (live DJ & games)
DESCRIPTION:
URL:https://hangar24brewing.com/event/college-night-live-dj-games-2/2027-12-23/
END:VEVENT
BEGIN:VEVENT
DTSTART;TZID=America/Los_Angeles:20271223T183000
DTEND;TZID=America/Los_Angeles:20271223T203000
DTSTAMP:20260422T163900
CREATED:20251223T210501Z
LAST-MODIFIED:20260219T195413Z
UID:10011447-1829586600-1829593800@hangar24brewing.com
SUMMARY:Trivia Night
DESCRIPTION:
URL:https://hangar24brewing.com/event/trivia-night-7-2/2027-12-23/
END:VEVENT
BEGIN:VEVENT
DTSTART;TZID=America/Los_Angeles:20271223T190000
DTEND;TZID=America/Los_Angeles:20271223T210000
DTSTAMP:20260422T163900
CREATED:20260207T154408Z
LAST-MODIFIED:20260211T110003Z
UID:10010595-1829588400-1829595600@hangar24brewing.com
SUMMARY:Trivia Night: Epic Pub Quiz
DESCRIPTION:
URL:https://hangar24brewing.com/event/trivia-night-epic-pub-quiz-2/2027-12-23/
LOCATION:HANGAR 24 BREWING – ORANGE COUNTY\, CA
CATEGORIES:Orange County, CA Events
END:VEVENT
BEGIN:VEVENT
DTSTART;TZID=America/Los_Angeles:20271226T110000
DTEND;TZID=America/Los_Angeles:20271226T200000
DTSTAMP:20260422T163900
CREATED:20260211T035305Z
LAST-MODIFIED:20260211T035307Z
UID:10008356-1829818800-1829851200@hangar24brewing.com
SUMMARY:Happy Hour - ALL DAY
DESCRIPTION:
URL:https://hangar24brewing.com/event/happy-hour-all-day-2/2027-12-26/
END:VEVENT
BEGIN:VEVENT
DTSTART;TZID=America/Los_Angeles:20271227T180000
DTEND;TZID=America/Los_Angeles:20271227T200000
DTSTAMP:20260422T163901
CREATED:20260207T153334Z
LAST-MODIFIED:20260211T105548Z
UID:10012336-1829930400-1829937600@hangar24brewing.com
SUMMARY:"Sing Your Heart Out" Karaoke Singles Night
DESCRIPTION:
URL:https://hangar24brewing.com/event/sing-your-heart-out-karaoke-singles-night-3/2027-12-27/
LOCATION:HANGAR 24 BREWING – ORANGE COUNTY\, CA
CATEGORIES:Orange County, CA Events
END:VEVENT
BEGIN:VEVENT
DTSTART;VALUE=DATE:20271228
DTEND;VALUE=DATE:20271229
DTSTAMP:20260422T163901
CREATED:20230411T060633Z
LAST-MODIFIED:20260207T151741Z
UID:10003355-1829952000-1830038399@hangar24brewing.com
SUMMARY:TEACHER TUESDAY (25% OFF)
DESCRIPTION:Mug Club Day & Teacher Tuesday (25% OFF!)
URL:https://hangar24brewing.com/event/mug-club-day-2/2027-12-28/
LOCATION:HANGAR 24 BREWING – REDLANDS\, CA
END:VEVENT
BEGIN:VEVENT
DTSTART;VALUE=DATE:20271228
DTEND;VALUE=DATE:20271229
DTSTAMP:20260422T163901
CREATED:20250904T174742Z
LAST-MODIFIED:20260207T151846Z
UID:10010335-1829952000-1830038399@hangar24brewing.com
SUMMARY:Mug Club Discount Tuesdays ($1 off mug pours\, $2 off growler pours)
DESCRIPTION:
URL:https://hangar24brewing.com/event/mug-club-discount-tuesdays-1-off-mug-pours-2-off-growler-pours/2027-12-28/
LOCATION:HANGAR 24 BREWING – REDLANDS\, CA
END:VEVENT
BEGIN:VEVENT
DTSTART;TZID=America/Los_Angeles:20271228T190000
DTEND;TZID=America/Los_Angeles:20271228T210000
DTSTAMP:20260422T163901
CREATED:20260329T194924Z
LAST-MODIFIED:20260329T195013Z
UID:10013741-1830020400-1830027600@hangar24brewing.com
SUMMARY:Trivia Tuesdays
DESCRIPTION:
URL:https://hangar24brewing.com/event/trivia-tuesdays/2027-12-28/
LOCATION:HANGAR 24 BREWING – RIVERSIDE\, CA
CATEGORIES:Riverside, CA Events
END:VEVENT
BEGIN:VEVENT
DTSTART;TZID=America/Los_Angeles:20271228T190000
DTEND;TZID=America/Los_Angeles:20271228T220000
DTSTAMP:20260422T163901
CREATED:20250108T063359Z
LAST-MODIFIED:20260219T194135Z
UID:10007548-1830020400-1830031200@hangar24brewing.com
SUMMARY:Trivia Tuesdays (Pour House Trivia!)
DESCRIPTION:
URL:https://hangar24brewing.com/event/trivia-tuesdays-geeks-who-drink-3/2027-12-28/
END:VEVENT
BEGIN:VEVENT
DTSTART;TZID=America/Los_Angeles:20271229T173000
DTEND;TZID=America/Los_Angeles:20271229T193000
DTSTAMP:20260422T163901
CREATED:20251223T204203Z
LAST-MODIFIED:20260220T182628Z
UID:10008093-1830101400-1830108600@hangar24brewing.com
SUMMARY:Bingo Wednesdays!!
DESCRIPTION:
URL:https://hangar24brewing.com/event/bingo-night-2-2/2027-12-29/
LOCATION:HANGAR 24 BREWING – LAKE HAVASU CITY\, CA
CATEGORIES:Lake Havasu City, CA Events
END:VEVENT
BEGIN:VEVENT
DTSTART;TZID=America/Los_Angeles:20271230T180000
DTEND;TZID=America/Los_Angeles:20271230T200000
DTSTAMP:20260422T163901
CREATED:20251223T205854Z
LAST-MODIFIED:20260219T200301Z
UID:10009777-1830189600-1830196800@hangar24brewing.com
SUMMARY:Trivia Thursdays
DESCRIPTION:
URL:https://hangar24brewing.com/event/trivia-night-geeks-who-drink-2-2/2027-12-30/
LOCATION:HANGAR 24 BREWING – LAKE HAVASU CITY\, CA
CATEGORIES:Lake Havasu City, CA Events
END:VEVENT
BEGIN:VEVENT
DTSTART;TZID=America/Los_Angeles:20271230T180000
DTEND;TZID=America/Los_Angeles:20271230T230000
DTSTAMP:20260422T163901
CREATED:20251223T210917Z
LAST-MODIFIED:20260219T194242Z
UID:10007281-1830189600-1830207600@hangar24brewing.com
SUMMARY:College Night (live DJ & games)
DESCRIPTION:
URL:https://hangar24brewing.com/event/college-night-live-dj-games-2/2027-12-30/
END:VEVENT
BEGIN:VEVENT
DTSTART;TZID=America/Los_Angeles:20271230T183000
DTEND;TZID=America/Los_Angeles:20271230T203000
DTSTAMP:20260422T163901
CREATED:20251223T210501Z
LAST-MODIFIED:20260219T195413Z
UID:10011448-1830191400-1830198600@hangar24brewing.com
SUMMARY:Trivia Night
DESCRIPTION:
URL:https://hangar24brewing.com/event/trivia-night-7-2/2027-12-30/
END:VEVENT
BEGIN:VEVENT
DTSTART;TZID=America/Los_Angeles:20271230T190000
DTEND;TZID=America/Los_Angeles:20271230T210000
DTSTAMP:20260422T163901
CREATED:20260207T154408Z
LAST-MODIFIED:20260211T110003Z
UID:10010596-1830193200-1830200400@hangar24brewing.com
SUMMARY:Trivia Night: Epic Pub Quiz
DESCRIPTION:
URL:https://hangar24brewing.com/event/trivia-night-epic-pub-quiz-2/2027-12-30/
LOCATION:HANGAR 24 BREWING – ORANGE COUNTY\, CA
CATEGORIES:Orange County, CA Events
END:VEVENT
BEGIN:VEVENT
DTSTART;TZID=America/Los_Angeles:20280102T110000
DTEND;TZID=America/Los_Angeles:20280102T200000
DTSTAMP:20260422T163901
CREATED:20260211T035305Z
LAST-MODIFIED:20260211T035307Z
UID:10008357-1830423600-1830456000@hangar24brewing.com
SUMMARY:Happy Hour - ALL DAY
DESCRIPTION:
URL:https://hangar24brewing.com/event/happy-hour-all-day-2/2028-01-02/
END:VEVENT
BEGIN:VEVENT
DTSTART;TZID=America/Los_Angeles:20280103T180000
DTEND;TZID=America/Los_Angeles:20280103T200000
DTSTAMP:20260422T163901
CREATED:20260207T153334Z
LAST-MODIFIED:20260211T105548Z
UID:10012337-1830535200-1830542400@hangar24brewing.com
SUMMARY:"Sing Your Heart Out" Karaoke Singles Night
DESCRIPTION:
URL:https://hangar24brewing.com/event/sing-your-heart-out-karaoke-singles-night-3/2028-01-03/
LOCATION:HANGAR 24 BREWING – ORANGE COUNTY\, CA
CATEGORIES:Orange County, CA Events
END:VEVENT
BEGIN:VEVENT
DTSTART;VALUE=DATE:20280104
DTEND;VALUE=DATE:20280105
DTSTAMP:20260422T163901
CREATED:20230411T060633Z
LAST-MODIFIED:20260207T151741Z
UID:10003356-1830556800-1830643199@hangar24brewing.com
SUMMARY:TEACHER TUESDAY (25% OFF)
DESCRIPTION:Mug Club Day & Teacher Tuesday (25% OFF!)
URL:https://hangar24brewing.com/event/mug-club-day-2/2028-01-04/
LOCATION:HANGAR 24 BREWING – REDLANDS\, CA
END:VEVENT
BEGIN:VEVENT
DTSTART;VALUE=DATE:20280104
DTEND;VALUE=DATE:20280105
DTSTAMP:20260422T163901
CREATED:20250904T174742Z
LAST-MODIFIED:20260207T151846Z
UID:10010336-1830556800-1830643199@hangar24brewing.com
SUMMARY:Mug Club Discount Tuesdays ($1 off mug pours\, $2 off growler pours)
DESCRIPTION:
URL:https://hangar24brewing.com/event/mug-club-discount-tuesdays-1-off-mug-pours-2-off-growler-pours/2028-01-04/
LOCATION:HANGAR 24 BREWING – REDLANDS\, CA
END:VEVENT
BEGIN:VEVENT
DTSTART;TZID=America/Los_Angeles:20280104T190000
DTEND;TZID=America/Los_Angeles:20280104T220000
DTSTAMP:20260422T163901
CREATED:20250108T063359Z
LAST-MODIFIED:20260219T194135Z
UID:10007549-1830625200-1830636000@hangar24brewing.com
SUMMARY:Trivia Tuesdays (Pour House Trivia!)
DESCRIPTION:
URL:https://hangar24brewing.com/event/trivia-tuesdays-geeks-who-drink-3/2028-01-04/
END:VEVENT
BEGIN:VEVENT
DTSTART;TZID=America/Los_Angeles:20280105T173000
DTEND;TZID=America/Los_Angeles:20280105T193000
DTSTAMP:20260422T163901
CREATED:20251223T204203Z
LAST-MODIFIED:20260220T182628Z
UID:10008094-1830706200-1830713400@hangar24brewing.com
SUMMARY:Bingo Wednesdays!!
DESCRIPTION:
URL:https://hangar24brewing.com/event/bingo-night-2-2/2028-01-05/
LOCATION:HANGAR 24 BREWING – LAKE HAVASU CITY\, CA
CATEGORIES:Lake Havasu City, CA Events
END:VEVENT
BEGIN:VEVENT
DTSTART;TZID=America/Los_Angeles:20280106T180000
DTEND;TZID=America/Los_Angeles:20280106T200000
DTSTAMP:20260422T163901
CREATED:20251223T205854Z
LAST-MODIFIED:20260219T200301Z
UID:10009778-1830794400-1830801600@hangar24brewing.com
SUMMARY:Trivia Thursdays
DESCRIPTION:
URL:https://hangar24brewing.com/event/trivia-night-geeks-who-drink-2-2/2028-01-06/
LOCATION:HANGAR 24 BREWING – LAKE HAVASU CITY\, CA
CATEGORIES:Lake Havasu City, CA Events
END:VEVENT
BEGIN:VEVENT
DTSTART;TZID=America/Los_Angeles:20280106T180000
DTEND;TZID=America/Los_Angeles:20280106T230000
DTSTAMP:20260422T163901
CREATED:20251223T210917Z
LAST-MODIFIED:20260219T194242Z
UID:10007282-1830794400-1830812400@hangar24brewing.com
SUMMARY:College Night (live DJ & games)
DESCRIPTION:
URL:https://hangar24brewing.com/event/college-night-live-dj-games-2/2028-01-06/
END:VEVENT
BEGIN:VEVENT
DTSTART;TZID=America/Los_Angeles:20280106T183000
DTEND;TZID=America/Los_Angeles:20280106T203000
DTSTAMP:20260422T163901
CREATED:20251223T210501Z
LAST-MODIFIED:20260219T195413Z
UID:10011449-1830796200-1830803400@hangar24brewing.com
SUMMARY:Trivia Night
DESCRIPTION:
URL:https://hangar24brewing.com/event/trivia-night-7-2/2028-01-06/
END:VEVENT
BEGIN:VEVENT
DTSTART;TZID=America/Los_Angeles:20280106T190000
DTEND;TZID=America/Los_Angeles:20280106T210000
DTSTAMP:20260422T163901
CREATED:20260207T154408Z
LAST-MODIFIED:20260211T110003Z
UID:10010597-1830798000-1830805200@hangar24brewing.com
SUMMARY:Trivia Night: Epic Pub Quiz
DESCRIPTION:
URL:https://hangar24brewing.com/event/trivia-night-epic-pub-quiz-2/2028-01-06/
LOCATION:HANGAR 24 BREWING – ORANGE COUNTY\, CA
CATEGORIES:Orange County, CA Events
END:VEVENT
BEGIN:VEVENT
DTSTART;TZID=America/Los_Angeles:20280109T110000
DTEND;TZID=America/Los_Angeles:20280109T200000
DTSTAMP:20260422T163901
CREATED:20260211T035305Z
LAST-MODIFIED:20260211T035307Z
UID:10008358-1831028400-1831060800@hangar24brewing.com
SUMMARY:Happy Hour - ALL DAY
DESCRIPTION:
URL:https://hangar24brewing.com/event/happy-hour-all-day-2/2028-01-09/
END:VEVENT
BEGIN:VEVENT
DTSTART;TZID=America/Los_Angeles:20280110T180000
DTEND;TZID=America/Los_Angeles:20280110T200000
DTSTAMP:20260422T163901
CREATED:20260207T153334Z
LAST-MODIFIED:20260211T105548Z
UID:10012338-1831140000-1831147200@hangar24brewing.com
SUMMARY:"Sing Your Heart Out" Karaoke Singles Night
DESCRIPTION:
URL:https://hangar24brewing.com/event/sing-your-heart-out-karaoke-singles-night-3/2028-01-10/
LOCATION:HANGAR 24 BREWING – ORANGE COUNTY\, CA
CATEGORIES:Orange County, CA Events
END:VEVENT
END:VCALENDAR