BEGIN:VCALENDAR
VERSION:2.0
PRODID:-//Hangar 24 Craft Brewing - ECPv6.15.20//NONSGML v1.0//EN
CALSCALE:GREGORIAN
METHOD:PUBLISH
X-WR-CALNAME:Hangar 24 Craft Brewing
X-ORIGINAL-URL:https://hangar24brewing.com
X-WR-CALDESC:Events for Hangar 24 Craft Brewing
REFRESH-INTERVAL;VALUE=DURATION:PT1H
X-Robots-Tag:noindex
X-PUBLISHED-TTL:PT1H
BEGIN:VTIMEZONE
TZID:America/Los_Angeles
BEGIN:DAYLIGHT
TZOFFSETFROM:-0800
TZOFFSETTO:-0700
TZNAME:PDT
DTSTART:20270314T100000
END:DAYLIGHT
BEGIN:STANDARD
TZOFFSETFROM:-0700
TZOFFSETTO:-0800
TZNAME:PST
DTSTART:20271107T090000
END:STANDARD
BEGIN:DAYLIGHT
TZOFFSETFROM:-0800
TZOFFSETTO:-0700
TZNAME:PDT
DTSTART:20280312T100000
END:DAYLIGHT
BEGIN:STANDARD
TZOFFSETFROM:-0700
TZOFFSETTO:-0800
TZNAME:PST
DTSTART:20281105T090000
END:STANDARD
BEGIN:DAYLIGHT
TZOFFSETFROM:-0800
TZOFFSETTO:-0700
TZNAME:PDT
DTSTART:20290311T100000
END:DAYLIGHT
BEGIN:STANDARD
TZOFFSETFROM:-0700
TZOFFSETTO:-0800
TZNAME:PST
DTSTART:20291104T090000
END:STANDARD
END:VTIMEZONE
BEGIN:VEVENT
DTSTART;TZID=America/Los_Angeles:20280507T110000
DTEND;TZID=America/Los_Angeles:20280507T200000
DTSTAMP:20260422T154156
CREATED:20260211T035305Z
LAST-MODIFIED:20260211T035307Z
UID:10008375-1841310000-1841342400@hangar24brewing.com
SUMMARY:Happy Hour - ALL DAY
DESCRIPTION:
URL:https://hangar24brewing.com/event/happy-hour-all-day-2/2028-05-07/
END:VEVENT
BEGIN:VEVENT
DTSTART;TZID=America/Los_Angeles:20280508T180000
DTEND;TZID=America/Los_Angeles:20280508T200000
DTSTAMP:20260422T154156
CREATED:20260207T153334Z
LAST-MODIFIED:20260211T105548Z
UID:10012355-1841421600-1841428800@hangar24brewing.com
SUMMARY:"Sing Your Heart Out" Karaoke Singles Night
DESCRIPTION:
URL:https://hangar24brewing.com/event/sing-your-heart-out-karaoke-singles-night-3/2028-05-08/
LOCATION:HANGAR 24 BREWING – ORANGE COUNTY\, CA
CATEGORIES:Orange County, CA Events
END:VEVENT
BEGIN:VEVENT
DTSTART;VALUE=DATE:20280509
DTEND;VALUE=DATE:20280510
DTSTAMP:20260422T154156
CREATED:20230411T060633Z
LAST-MODIFIED:20260207T151741Z
UID:10010093-1841443200-1841529599@hangar24brewing.com
SUMMARY:TEACHER TUESDAY (25% OFF)
DESCRIPTION:Mug Club Day & Teacher Tuesday (25% OFF!)
URL:https://hangar24brewing.com/event/mug-club-day-2/2028-05-09/
LOCATION:HANGAR 24 BREWING – REDLANDS\, CA
END:VEVENT
BEGIN:VEVENT
DTSTART;VALUE=DATE:20280509
DTEND;VALUE=DATE:20280510
DTSTAMP:20260422T154156
CREATED:20250904T174742Z
LAST-MODIFIED:20260207T151846Z
UID:10010354-1841443200-1841529599@hangar24brewing.com
SUMMARY:Mug Club Discount Tuesdays ($1 off mug pours\, $2 off growler pours)
DESCRIPTION:
URL:https://hangar24brewing.com/event/mug-club-discount-tuesdays-1-off-mug-pours-2-off-growler-pours/2028-05-09/
LOCATION:HANGAR 24 BREWING – REDLANDS\, CA
END:VEVENT
BEGIN:VEVENT
DTSTART;TZID=America/Los_Angeles:20280509T190000
DTEND;TZID=America/Los_Angeles:20280509T220000
DTSTAMP:20260422T154156
CREATED:20250108T063359Z
LAST-MODIFIED:20260219T194135Z
UID:10007567-1841511600-1841522400@hangar24brewing.com
SUMMARY:Trivia Tuesdays (Pour House Trivia!)
DESCRIPTION:
URL:https://hangar24brewing.com/event/trivia-tuesdays-geeks-who-drink-3/2028-05-09/
END:VEVENT
BEGIN:VEVENT
DTSTART;TZID=America/Los_Angeles:20280510T173000
DTEND;TZID=America/Los_Angeles:20280510T193000
DTSTAMP:20260422T154156
CREATED:20251223T204203Z
LAST-MODIFIED:20260220T182628Z
UID:10008112-1841592600-1841599800@hangar24brewing.com
SUMMARY:Bingo Wednesdays!!
DESCRIPTION:
URL:https://hangar24brewing.com/event/bingo-night-2-2/2028-05-10/
LOCATION:HANGAR 24 BREWING – LAKE HAVASU CITY\, CA
CATEGORIES:Lake Havasu City, CA Events
END:VEVENT
BEGIN:VEVENT
DTSTART;TZID=America/Los_Angeles:20280511T180000
DTEND;TZID=America/Los_Angeles:20280511T200000
DTSTAMP:20260422T154156
CREATED:20251223T205854Z
LAST-MODIFIED:20260219T200301Z
UID:10009796-1841680800-1841688000@hangar24brewing.com
SUMMARY:Trivia Thursdays
DESCRIPTION:
URL:https://hangar24brewing.com/event/trivia-night-geeks-who-drink-2-2/2028-05-11/
LOCATION:HANGAR 24 BREWING – LAKE HAVASU CITY\, CA
CATEGORIES:Lake Havasu City, CA Events
END:VEVENT
BEGIN:VEVENT
DTSTART;TZID=America/Los_Angeles:20280511T180000
DTEND;TZID=America/Los_Angeles:20280511T230000
DTSTAMP:20260422T154156
CREATED:20251223T210917Z
LAST-MODIFIED:20260219T194242Z
UID:10007300-1841680800-1841698800@hangar24brewing.com
SUMMARY:College Night (live DJ & games)
DESCRIPTION:
URL:https://hangar24brewing.com/event/college-night-live-dj-games-2/2028-05-11/
END:VEVENT
BEGIN:VEVENT
DTSTART;TZID=America/Los_Angeles:20280511T183000
DTEND;TZID=America/Los_Angeles:20280511T203000
DTSTAMP:20260422T154156
CREATED:20251223T210501Z
LAST-MODIFIED:20260219T195413Z
UID:10011467-1841682600-1841689800@hangar24brewing.com
SUMMARY:Trivia Night
DESCRIPTION:
URL:https://hangar24brewing.com/event/trivia-night-7-2/2028-05-11/
END:VEVENT
BEGIN:VEVENT
DTSTART;TZID=America/Los_Angeles:20280511T190000
DTEND;TZID=America/Los_Angeles:20280511T210000
DTSTAMP:20260422T154156
CREATED:20260207T154408Z
LAST-MODIFIED:20260211T110003Z
UID:10010615-1841684400-1841691600@hangar24brewing.com
SUMMARY:Trivia Night: Epic Pub Quiz
DESCRIPTION:
URL:https://hangar24brewing.com/event/trivia-night-epic-pub-quiz-2/2028-05-11/
LOCATION:HANGAR 24 BREWING – ORANGE COUNTY\, CA
CATEGORIES:Orange County, CA Events
END:VEVENT
BEGIN:VEVENT
DTSTART;TZID=America/Los_Angeles:20280514T110000
DTEND;TZID=America/Los_Angeles:20280514T200000
DTSTAMP:20260422T154156
CREATED:20260211T035305Z
LAST-MODIFIED:20260211T035307Z
UID:10008376-1841914800-1841947200@hangar24brewing.com
SUMMARY:Happy Hour - ALL DAY
DESCRIPTION:
URL:https://hangar24brewing.com/event/happy-hour-all-day-2/2028-05-14/
END:VEVENT
BEGIN:VEVENT
DTSTART;TZID=America/Los_Angeles:20280515T180000
DTEND;TZID=America/Los_Angeles:20280515T200000
DTSTAMP:20260422T154156
CREATED:20260207T153334Z
LAST-MODIFIED:20260211T105548Z
UID:10012356-1842026400-1842033600@hangar24brewing.com
SUMMARY:"Sing Your Heart Out" Karaoke Singles Night
DESCRIPTION:
URL:https://hangar24brewing.com/event/sing-your-heart-out-karaoke-singles-night-3/2028-05-15/
LOCATION:HANGAR 24 BREWING – ORANGE COUNTY\, CA
CATEGORIES:Orange County, CA Events
END:VEVENT
BEGIN:VEVENT
DTSTART;VALUE=DATE:20280516
DTEND;VALUE=DATE:20280517
DTSTAMP:20260422T154156
CREATED:20230411T060633Z
LAST-MODIFIED:20260207T151741Z
UID:10010094-1842048000-1842134399@hangar24brewing.com
SUMMARY:TEACHER TUESDAY (25% OFF)
DESCRIPTION:Mug Club Day & Teacher Tuesday (25% OFF!)
URL:https://hangar24brewing.com/event/mug-club-day-2/2028-05-16/
LOCATION:HANGAR 24 BREWING – REDLANDS\, CA
END:VEVENT
BEGIN:VEVENT
DTSTART;VALUE=DATE:20280516
DTEND;VALUE=DATE:20280517
DTSTAMP:20260422T154156
CREATED:20250904T174742Z
LAST-MODIFIED:20260207T151846Z
UID:10010355-1842048000-1842134399@hangar24brewing.com
SUMMARY:Mug Club Discount Tuesdays ($1 off mug pours\, $2 off growler pours)
DESCRIPTION:
URL:https://hangar24brewing.com/event/mug-club-discount-tuesdays-1-off-mug-pours-2-off-growler-pours/2028-05-16/
LOCATION:HANGAR 24 BREWING – REDLANDS\, CA
END:VEVENT
BEGIN:VEVENT
DTSTART;TZID=America/Los_Angeles:20280516T190000
DTEND;TZID=America/Los_Angeles:20280516T220000
DTSTAMP:20260422T154156
CREATED:20250108T063359Z
LAST-MODIFIED:20260219T194135Z
UID:10007568-1842116400-1842127200@hangar24brewing.com
SUMMARY:Trivia Tuesdays (Pour House Trivia!)
DESCRIPTION:
URL:https://hangar24brewing.com/event/trivia-tuesdays-geeks-who-drink-3/2028-05-16/
END:VEVENT
BEGIN:VEVENT
DTSTART;TZID=America/Los_Angeles:20280517T173000
DTEND;TZID=America/Los_Angeles:20280517T193000
DTSTAMP:20260422T154156
CREATED:20251223T204203Z
LAST-MODIFIED:20260220T182628Z
UID:10008113-1842197400-1842204600@hangar24brewing.com
SUMMARY:Bingo Wednesdays!!
DESCRIPTION:
URL:https://hangar24brewing.com/event/bingo-night-2-2/2028-05-17/
LOCATION:HANGAR 24 BREWING – LAKE HAVASU CITY\, CA
CATEGORIES:Lake Havasu City, CA Events
END:VEVENT
BEGIN:VEVENT
DTSTART;TZID=America/Los_Angeles:20280518T180000
DTEND;TZID=America/Los_Angeles:20280518T200000
DTSTAMP:20260422T154156
CREATED:20251223T205854Z
LAST-MODIFIED:20260219T200301Z
UID:10009797-1842285600-1842292800@hangar24brewing.com
SUMMARY:Trivia Thursdays
DESCRIPTION:
URL:https://hangar24brewing.com/event/trivia-night-geeks-who-drink-2-2/2028-05-18/
LOCATION:HANGAR 24 BREWING – LAKE HAVASU CITY\, CA
CATEGORIES:Lake Havasu City, CA Events
END:VEVENT
BEGIN:VEVENT
DTSTART;TZID=America/Los_Angeles:20280518T180000
DTEND;TZID=America/Los_Angeles:20280518T230000
DTSTAMP:20260422T154156
CREATED:20251223T210917Z
LAST-MODIFIED:20260219T194242Z
UID:10007301-1842285600-1842303600@hangar24brewing.com
SUMMARY:College Night (live DJ & games)
DESCRIPTION:
URL:https://hangar24brewing.com/event/college-night-live-dj-games-2/2028-05-18/
END:VEVENT
BEGIN:VEVENT
DTSTART;TZID=America/Los_Angeles:20280518T183000
DTEND;TZID=America/Los_Angeles:20280518T203000
DTSTAMP:20260422T154156
CREATED:20251223T210501Z
LAST-MODIFIED:20260219T195413Z
UID:10011468-1842287400-1842294600@hangar24brewing.com
SUMMARY:Trivia Night
DESCRIPTION:
URL:https://hangar24brewing.com/event/trivia-night-7-2/2028-05-18/
END:VEVENT
BEGIN:VEVENT
DTSTART;TZID=America/Los_Angeles:20280518T190000
DTEND;TZID=America/Los_Angeles:20280518T210000
DTSTAMP:20260422T154156
CREATED:20260207T154408Z
LAST-MODIFIED:20260211T110003Z
UID:10010616-1842289200-1842296400@hangar24brewing.com
SUMMARY:Trivia Night: Epic Pub Quiz
DESCRIPTION:
URL:https://hangar24brewing.com/event/trivia-night-epic-pub-quiz-2/2028-05-18/
LOCATION:HANGAR 24 BREWING – ORANGE COUNTY\, CA
CATEGORIES:Orange County, CA Events
END:VEVENT
BEGIN:VEVENT
DTSTART;TZID=America/Los_Angeles:20280521T110000
DTEND;TZID=America/Los_Angeles:20280521T200000
DTSTAMP:20260422T154156
CREATED:20260211T035305Z
LAST-MODIFIED:20260211T035307Z
UID:10008377-1842519600-1842552000@hangar24brewing.com
SUMMARY:Happy Hour - ALL DAY
DESCRIPTION:
URL:https://hangar24brewing.com/event/happy-hour-all-day-2/2028-05-21/
END:VEVENT
BEGIN:VEVENT
DTSTART;TZID=America/Los_Angeles:20280522T180000
DTEND;TZID=America/Los_Angeles:20280522T200000
DTSTAMP:20260422T154156
CREATED:20260207T153334Z
LAST-MODIFIED:20260211T105548Z
UID:10012357-1842631200-1842638400@hangar24brewing.com
SUMMARY:"Sing Your Heart Out" Karaoke Singles Night
DESCRIPTION:
URL:https://hangar24brewing.com/event/sing-your-heart-out-karaoke-singles-night-3/2028-05-22/
LOCATION:HANGAR 24 BREWING – ORANGE COUNTY\, CA
CATEGORIES:Orange County, CA Events
END:VEVENT
BEGIN:VEVENT
DTSTART;VALUE=DATE:20280523
DTEND;VALUE=DATE:20280524
DTSTAMP:20260422T154156
CREATED:20230411T060633Z
LAST-MODIFIED:20260207T151741Z
UID:10010095-1842652800-1842739199@hangar24brewing.com
SUMMARY:TEACHER TUESDAY (25% OFF)
DESCRIPTION:Mug Club Day & Teacher Tuesday (25% OFF!)
URL:https://hangar24brewing.com/event/mug-club-day-2/2028-05-23/
LOCATION:HANGAR 24 BREWING – REDLANDS\, CA
END:VEVENT
BEGIN:VEVENT
DTSTART;VALUE=DATE:20280523
DTEND;VALUE=DATE:20280524
DTSTAMP:20260422T154156
CREATED:20250904T174742Z
LAST-MODIFIED:20260207T151846Z
UID:10010356-1842652800-1842739199@hangar24brewing.com
SUMMARY:Mug Club Discount Tuesdays ($1 off mug pours\, $2 off growler pours)
DESCRIPTION:
URL:https://hangar24brewing.com/event/mug-club-discount-tuesdays-1-off-mug-pours-2-off-growler-pours/2028-05-23/
LOCATION:HANGAR 24 BREWING – REDLANDS\, CA
END:VEVENT
BEGIN:VEVENT
DTSTART;TZID=America/Los_Angeles:20280523T190000
DTEND;TZID=America/Los_Angeles:20280523T220000
DTSTAMP:20260422T154156
CREATED:20250108T063359Z
LAST-MODIFIED:20260219T194135Z
UID:10007569-1842721200-1842732000@hangar24brewing.com
SUMMARY:Trivia Tuesdays (Pour House Trivia!)
DESCRIPTION:
URL:https://hangar24brewing.com/event/trivia-tuesdays-geeks-who-drink-3/2028-05-23/
END:VEVENT
BEGIN:VEVENT
DTSTART;TZID=America/Los_Angeles:20280524T173000
DTEND;TZID=America/Los_Angeles:20280524T193000
DTSTAMP:20260422T154156
CREATED:20251223T204203Z
LAST-MODIFIED:20260220T182628Z
UID:10008114-1842802200-1842809400@hangar24brewing.com
SUMMARY:Bingo Wednesdays!!
DESCRIPTION:
URL:https://hangar24brewing.com/event/bingo-night-2-2/2028-05-24/
LOCATION:HANGAR 24 BREWING – LAKE HAVASU CITY\, CA
CATEGORIES:Lake Havasu City, CA Events
END:VEVENT
BEGIN:VEVENT
DTSTART;TZID=America/Los_Angeles:20280525T180000
DTEND;TZID=America/Los_Angeles:20280525T200000
DTSTAMP:20260422T154156
CREATED:20251223T205854Z
LAST-MODIFIED:20260219T200301Z
UID:10009798-1842890400-1842897600@hangar24brewing.com
SUMMARY:Trivia Thursdays
DESCRIPTION:
URL:https://hangar24brewing.com/event/trivia-night-geeks-who-drink-2-2/2028-05-25/
LOCATION:HANGAR 24 BREWING – LAKE HAVASU CITY\, CA
CATEGORIES:Lake Havasu City, CA Events
END:VEVENT
BEGIN:VEVENT
DTSTART;TZID=America/Los_Angeles:20280525T180000
DTEND;TZID=America/Los_Angeles:20280525T230000
DTSTAMP:20260422T154156
CREATED:20251223T210917Z
LAST-MODIFIED:20260219T194242Z
UID:10007302-1842890400-1842908400@hangar24brewing.com
SUMMARY:College Night (live DJ & games)
DESCRIPTION:
URL:https://hangar24brewing.com/event/college-night-live-dj-games-2/2028-05-25/
END:VEVENT
BEGIN:VEVENT
DTSTART;TZID=America/Los_Angeles:20280525T183000
DTEND;TZID=America/Los_Angeles:20280525T203000
DTSTAMP:20260422T154156
CREATED:20251223T210501Z
LAST-MODIFIED:20260219T195413Z
UID:10011469-1842892200-1842899400@hangar24brewing.com
SUMMARY:Trivia Night
DESCRIPTION:
URL:https://hangar24brewing.com/event/trivia-night-7-2/2028-05-25/
END:VEVENT
BEGIN:VEVENT
DTSTART;TZID=America/Los_Angeles:20280525T190000
DTEND;TZID=America/Los_Angeles:20280525T210000
DTSTAMP:20260422T154156
CREATED:20260207T154408Z
LAST-MODIFIED:20260211T110003Z
UID:10010617-1842894000-1842901200@hangar24brewing.com
SUMMARY:Trivia Night: Epic Pub Quiz
DESCRIPTION:
URL:https://hangar24brewing.com/event/trivia-night-epic-pub-quiz-2/2028-05-25/
LOCATION:HANGAR 24 BREWING – ORANGE COUNTY\, CA
CATEGORIES:Orange County, CA Events
END:VEVENT
END:VCALENDAR