BEGIN:VCALENDAR
VERSION:2.0
PRODID:-//Hangar 24 Craft Brewing - ECPv6.15.20//NONSGML v1.0//EN
CALSCALE:GREGORIAN
METHOD:PUBLISH
X-ORIGINAL-URL:https://hangar24brewing.com
X-WR-CALDESC:Events for Hangar 24 Craft Brewing
REFRESH-INTERVAL;VALUE=DURATION:PT1H
X-Robots-Tag:noindex
X-PUBLISHED-TTL:PT1H
BEGIN:VTIMEZONE
TZID:America/Los_Angeles
BEGIN:DAYLIGHT
TZOFFSETFROM:-0800
TZOFFSETTO:-0700
TZNAME:PDT
DTSTART:20270314T100000
END:DAYLIGHT
BEGIN:STANDARD
TZOFFSETFROM:-0700
TZOFFSETTO:-0800
TZNAME:PST
DTSTART:20271107T090000
END:STANDARD
BEGIN:DAYLIGHT
TZOFFSETFROM:-0800
TZOFFSETTO:-0700
TZNAME:PDT
DTSTART:20280312T100000
END:DAYLIGHT
BEGIN:STANDARD
TZOFFSETFROM:-0700
TZOFFSETTO:-0800
TZNAME:PST
DTSTART:20281105T090000
END:STANDARD
BEGIN:DAYLIGHT
TZOFFSETFROM:-0800
TZOFFSETTO:-0700
TZNAME:PDT
DTSTART:20290311T100000
END:DAYLIGHT
BEGIN:STANDARD
TZOFFSETFROM:-0700
TZOFFSETTO:-0800
TZNAME:PST
DTSTART:20291104T090000
END:STANDARD
END:VTIMEZONE
BEGIN:VEVENT
DTSTART;VALUE=DATE:20280104
DTEND;VALUE=DATE:20280105
DTSTAMP:20260422T182824
CREATED:20230411T060633Z
LAST-MODIFIED:20260207T151741Z
UID:10003356-1830556800-1830643199@hangar24brewing.com
SUMMARY:TEACHER TUESDAY (25% OFF)
DESCRIPTION:Mug Club Day & Teacher Tuesday (25% OFF!)
URL:https://hangar24brewing.com/event/mug-club-day-2/2028-01-04/
LOCATION:HANGAR 24 BREWING – REDLANDS\, CA
END:VEVENT
BEGIN:VEVENT
DTSTART;VALUE=DATE:20280104
DTEND;VALUE=DATE:20280105
DTSTAMP:20260422T182824
CREATED:20250904T174742Z
LAST-MODIFIED:20260207T151846Z
UID:10010336-1830556800-1830643199@hangar24brewing.com
SUMMARY:Mug Club Discount Tuesdays ($1 off mug pours\, $2 off growler pours)
DESCRIPTION:
URL:https://hangar24brewing.com/event/mug-club-discount-tuesdays-1-off-mug-pours-2-off-growler-pours/2028-01-04/
LOCATION:HANGAR 24 BREWING – REDLANDS\, CA
END:VEVENT
BEGIN:VEVENT
DTSTART;TZID=America/Los_Angeles:20280104T190000
DTEND;TZID=America/Los_Angeles:20280104T220000
DTSTAMP:20260422T182824
CREATED:20250108T063359Z
LAST-MODIFIED:20260219T194135Z
UID:10007549-1830625200-1830636000@hangar24brewing.com
SUMMARY:Trivia Tuesdays (Pour House Trivia!)
DESCRIPTION:
URL:https://hangar24brewing.com/event/trivia-tuesdays-geeks-who-drink-3/2028-01-04/
END:VEVENT
BEGIN:VEVENT
DTSTART;TZID=America/Los_Angeles:20280105T173000
DTEND;TZID=America/Los_Angeles:20280105T193000
DTSTAMP:20260422T182824
CREATED:20251223T204203Z
LAST-MODIFIED:20260220T182628Z
UID:10008094-1830706200-1830713400@hangar24brewing.com
SUMMARY:Bingo Wednesdays!!
DESCRIPTION:
URL:https://hangar24brewing.com/event/bingo-night-2-2/2028-01-05/
LOCATION:HANGAR 24 BREWING – LAKE HAVASU CITY\, CA
CATEGORIES:Lake Havasu City, CA Events
END:VEVENT
BEGIN:VEVENT
DTSTART;TZID=America/Los_Angeles:20280106T180000
DTEND;TZID=America/Los_Angeles:20280106T200000
DTSTAMP:20260422T182824
CREATED:20251223T205854Z
LAST-MODIFIED:20260219T200301Z
UID:10009778-1830794400-1830801600@hangar24brewing.com
SUMMARY:Trivia Thursdays
DESCRIPTION:
URL:https://hangar24brewing.com/event/trivia-night-geeks-who-drink-2-2/2028-01-06/
LOCATION:HANGAR 24 BREWING – LAKE HAVASU CITY\, CA
CATEGORIES:Lake Havasu City, CA Events
END:VEVENT
BEGIN:VEVENT
DTSTART;TZID=America/Los_Angeles:20280106T180000
DTEND;TZID=America/Los_Angeles:20280106T230000
DTSTAMP:20260422T182824
CREATED:20251223T210917Z
LAST-MODIFIED:20260219T194242Z
UID:10007282-1830794400-1830812400@hangar24brewing.com
SUMMARY:College Night (live DJ & games)
DESCRIPTION:
URL:https://hangar24brewing.com/event/college-night-live-dj-games-2/2028-01-06/
END:VEVENT
BEGIN:VEVENT
DTSTART;TZID=America/Los_Angeles:20280106T183000
DTEND;TZID=America/Los_Angeles:20280106T203000
DTSTAMP:20260422T182824
CREATED:20251223T210501Z
LAST-MODIFIED:20260219T195413Z
UID:10011449-1830796200-1830803400@hangar24brewing.com
SUMMARY:Trivia Night
DESCRIPTION:
URL:https://hangar24brewing.com/event/trivia-night-7-2/2028-01-06/
END:VEVENT
BEGIN:VEVENT
DTSTART;TZID=America/Los_Angeles:20280106T190000
DTEND;TZID=America/Los_Angeles:20280106T210000
DTSTAMP:20260422T182824
CREATED:20260207T154408Z
LAST-MODIFIED:20260211T110003Z
UID:10010597-1830798000-1830805200@hangar24brewing.com
SUMMARY:Trivia Night: Epic Pub Quiz
DESCRIPTION:
URL:https://hangar24brewing.com/event/trivia-night-epic-pub-quiz-2/2028-01-06/
LOCATION:HANGAR 24 BREWING – ORANGE COUNTY\, CA
CATEGORIES:Orange County, CA Events
END:VEVENT
BEGIN:VEVENT
DTSTART;TZID=America/Los_Angeles:20280109T110000
DTEND;TZID=America/Los_Angeles:20280109T200000
DTSTAMP:20260422T182824
CREATED:20260211T035305Z
LAST-MODIFIED:20260211T035307Z
UID:10008358-1831028400-1831060800@hangar24brewing.com
SUMMARY:Happy Hour - ALL DAY
DESCRIPTION:
URL:https://hangar24brewing.com/event/happy-hour-all-day-2/2028-01-09/
END:VEVENT
BEGIN:VEVENT
DTSTART;TZID=America/Los_Angeles:20280110T180000
DTEND;TZID=America/Los_Angeles:20280110T200000
DTSTAMP:20260422T182824
CREATED:20260207T153334Z
LAST-MODIFIED:20260211T105548Z
UID:10012338-1831140000-1831147200@hangar24brewing.com
SUMMARY:"Sing Your Heart Out" Karaoke Singles Night
DESCRIPTION:
URL:https://hangar24brewing.com/event/sing-your-heart-out-karaoke-singles-night-3/2028-01-10/
LOCATION:HANGAR 24 BREWING – ORANGE COUNTY\, CA
CATEGORIES:Orange County, CA Events
END:VEVENT
BEGIN:VEVENT
DTSTART;VALUE=DATE:20280111
DTEND;VALUE=DATE:20280112
DTSTAMP:20260422T182824
CREATED:20230411T060633Z
LAST-MODIFIED:20260207T151741Z
UID:10003357-1831161600-1831247999@hangar24brewing.com
SUMMARY:TEACHER TUESDAY (25% OFF)
DESCRIPTION:Mug Club Day & Teacher Tuesday (25% OFF!)
URL:https://hangar24brewing.com/event/mug-club-day-2/2028-01-11/
LOCATION:HANGAR 24 BREWING – REDLANDS\, CA
END:VEVENT
BEGIN:VEVENT
DTSTART;VALUE=DATE:20280111
DTEND;VALUE=DATE:20280112
DTSTAMP:20260422T182824
CREATED:20250904T174742Z
LAST-MODIFIED:20260207T151846Z
UID:10010337-1831161600-1831247999@hangar24brewing.com
SUMMARY:Mug Club Discount Tuesdays ($1 off mug pours\, $2 off growler pours)
DESCRIPTION:
URL:https://hangar24brewing.com/event/mug-club-discount-tuesdays-1-off-mug-pours-2-off-growler-pours/2028-01-11/
LOCATION:HANGAR 24 BREWING – REDLANDS\, CA
END:VEVENT
BEGIN:VEVENT
DTSTART;TZID=America/Los_Angeles:20280111T190000
DTEND;TZID=America/Los_Angeles:20280111T220000
DTSTAMP:20260422T182825
CREATED:20250108T063359Z
LAST-MODIFIED:20260219T194135Z
UID:10007550-1831230000-1831240800@hangar24brewing.com
SUMMARY:Trivia Tuesdays (Pour House Trivia!)
DESCRIPTION:
URL:https://hangar24brewing.com/event/trivia-tuesdays-geeks-who-drink-3/2028-01-11/
END:VEVENT
BEGIN:VEVENT
DTSTART;TZID=America/Los_Angeles:20280112T173000
DTEND;TZID=America/Los_Angeles:20280112T193000
DTSTAMP:20260422T182825
CREATED:20251223T204203Z
LAST-MODIFIED:20260220T182628Z
UID:10008095-1831311000-1831318200@hangar24brewing.com
SUMMARY:Bingo Wednesdays!!
DESCRIPTION:
URL:https://hangar24brewing.com/event/bingo-night-2-2/2028-01-12/
LOCATION:HANGAR 24 BREWING – LAKE HAVASU CITY\, CA
CATEGORIES:Lake Havasu City, CA Events
END:VEVENT
BEGIN:VEVENT
DTSTART;TZID=America/Los_Angeles:20280113T180000
DTEND;TZID=America/Los_Angeles:20280113T200000
DTSTAMP:20260422T182825
CREATED:20251223T205854Z
LAST-MODIFIED:20260219T200301Z
UID:10009779-1831399200-1831406400@hangar24brewing.com
SUMMARY:Trivia Thursdays
DESCRIPTION:
URL:https://hangar24brewing.com/event/trivia-night-geeks-who-drink-2-2/2028-01-13/
LOCATION:HANGAR 24 BREWING – LAKE HAVASU CITY\, CA
CATEGORIES:Lake Havasu City, CA Events
END:VEVENT
BEGIN:VEVENT
DTSTART;TZID=America/Los_Angeles:20280113T180000
DTEND;TZID=America/Los_Angeles:20280113T230000
DTSTAMP:20260422T182825
CREATED:20251223T210917Z
LAST-MODIFIED:20260219T194242Z
UID:10007283-1831399200-1831417200@hangar24brewing.com
SUMMARY:College Night (live DJ & games)
DESCRIPTION:
URL:https://hangar24brewing.com/event/college-night-live-dj-games-2/2028-01-13/
END:VEVENT
BEGIN:VEVENT
DTSTART;TZID=America/Los_Angeles:20280113T183000
DTEND;TZID=America/Los_Angeles:20280113T203000
DTSTAMP:20260422T182825
CREATED:20251223T210501Z
LAST-MODIFIED:20260219T195413Z
UID:10011450-1831401000-1831408200@hangar24brewing.com
SUMMARY:Trivia Night
DESCRIPTION:
URL:https://hangar24brewing.com/event/trivia-night-7-2/2028-01-13/
END:VEVENT
BEGIN:VEVENT
DTSTART;TZID=America/Los_Angeles:20280113T190000
DTEND;TZID=America/Los_Angeles:20280113T210000
DTSTAMP:20260422T182825
CREATED:20260207T154408Z
LAST-MODIFIED:20260211T110003Z
UID:10010598-1831402800-1831410000@hangar24brewing.com
SUMMARY:Trivia Night: Epic Pub Quiz
DESCRIPTION:
URL:https://hangar24brewing.com/event/trivia-night-epic-pub-quiz-2/2028-01-13/
LOCATION:HANGAR 24 BREWING – ORANGE COUNTY\, CA
CATEGORIES:Orange County, CA Events
END:VEVENT
BEGIN:VEVENT
DTSTART;TZID=America/Los_Angeles:20280116T110000
DTEND;TZID=America/Los_Angeles:20280116T200000
DTSTAMP:20260422T182825
CREATED:20260211T035305Z
LAST-MODIFIED:20260211T035307Z
UID:10008359-1831633200-1831665600@hangar24brewing.com
SUMMARY:Happy Hour - ALL DAY
DESCRIPTION:
URL:https://hangar24brewing.com/event/happy-hour-all-day-2/2028-01-16/
END:VEVENT
BEGIN:VEVENT
DTSTART;TZID=America/Los_Angeles:20280117T180000
DTEND;TZID=America/Los_Angeles:20280117T200000
DTSTAMP:20260422T182825
CREATED:20260207T153334Z
LAST-MODIFIED:20260211T105548Z
UID:10012339-1831744800-1831752000@hangar24brewing.com
SUMMARY:"Sing Your Heart Out" Karaoke Singles Night
DESCRIPTION:
URL:https://hangar24brewing.com/event/sing-your-heart-out-karaoke-singles-night-3/2028-01-17/
LOCATION:HANGAR 24 BREWING – ORANGE COUNTY\, CA
CATEGORIES:Orange County, CA Events
END:VEVENT
BEGIN:VEVENT
DTSTART;VALUE=DATE:20280118
DTEND;VALUE=DATE:20280119
DTSTAMP:20260422T182825
CREATED:20230411T060633Z
LAST-MODIFIED:20260207T151741Z
UID:10003358-1831766400-1831852799@hangar24brewing.com
SUMMARY:TEACHER TUESDAY (25% OFF)
DESCRIPTION:Mug Club Day & Teacher Tuesday (25% OFF!)
URL:https://hangar24brewing.com/event/mug-club-day-2/2028-01-18/
LOCATION:HANGAR 24 BREWING – REDLANDS\, CA
END:VEVENT
BEGIN:VEVENT
DTSTART;VALUE=DATE:20280118
DTEND;VALUE=DATE:20280119
DTSTAMP:20260422T182825
CREATED:20250904T174742Z
LAST-MODIFIED:20260207T151846Z
UID:10010338-1831766400-1831852799@hangar24brewing.com
SUMMARY:Mug Club Discount Tuesdays ($1 off mug pours\, $2 off growler pours)
DESCRIPTION:
URL:https://hangar24brewing.com/event/mug-club-discount-tuesdays-1-off-mug-pours-2-off-growler-pours/2028-01-18/
LOCATION:HANGAR 24 BREWING – REDLANDS\, CA
END:VEVENT
BEGIN:VEVENT
DTSTART;TZID=America/Los_Angeles:20280118T190000
DTEND;TZID=America/Los_Angeles:20280118T220000
DTSTAMP:20260422T182825
CREATED:20250108T063359Z
LAST-MODIFIED:20260219T194135Z
UID:10007551-1831834800-1831845600@hangar24brewing.com
SUMMARY:Trivia Tuesdays (Pour House Trivia!)
DESCRIPTION:
URL:https://hangar24brewing.com/event/trivia-tuesdays-geeks-who-drink-3/2028-01-18/
END:VEVENT
BEGIN:VEVENT
DTSTART;TZID=America/Los_Angeles:20280119T173000
DTEND;TZID=America/Los_Angeles:20280119T193000
DTSTAMP:20260422T182825
CREATED:20251223T204203Z
LAST-MODIFIED:20260220T182628Z
UID:10008096-1831915800-1831923000@hangar24brewing.com
SUMMARY:Bingo Wednesdays!!
DESCRIPTION:
URL:https://hangar24brewing.com/event/bingo-night-2-2/2028-01-19/
LOCATION:HANGAR 24 BREWING – LAKE HAVASU CITY\, CA
CATEGORIES:Lake Havasu City, CA Events
END:VEVENT
BEGIN:VEVENT
DTSTART;TZID=America/Los_Angeles:20280120T180000
DTEND;TZID=America/Los_Angeles:20280120T200000
DTSTAMP:20260422T182825
CREATED:20251223T205854Z
LAST-MODIFIED:20260219T200301Z
UID:10009780-1832004000-1832011200@hangar24brewing.com
SUMMARY:Trivia Thursdays
DESCRIPTION:
URL:https://hangar24brewing.com/event/trivia-night-geeks-who-drink-2-2/2028-01-20/
LOCATION:HANGAR 24 BREWING – LAKE HAVASU CITY\, CA
CATEGORIES:Lake Havasu City, CA Events
END:VEVENT
BEGIN:VEVENT
DTSTART;TZID=America/Los_Angeles:20280120T180000
DTEND;TZID=America/Los_Angeles:20280120T230000
DTSTAMP:20260422T182825
CREATED:20251223T210917Z
LAST-MODIFIED:20260219T194242Z
UID:10007284-1832004000-1832022000@hangar24brewing.com
SUMMARY:College Night (live DJ & games)
DESCRIPTION:
URL:https://hangar24brewing.com/event/college-night-live-dj-games-2/2028-01-20/
END:VEVENT
BEGIN:VEVENT
DTSTART;TZID=America/Los_Angeles:20280120T183000
DTEND;TZID=America/Los_Angeles:20280120T203000
DTSTAMP:20260422T182825
CREATED:20251223T210501Z
LAST-MODIFIED:20260219T195413Z
UID:10011451-1832005800-1832013000@hangar24brewing.com
SUMMARY:Trivia Night
DESCRIPTION:
URL:https://hangar24brewing.com/event/trivia-night-7-2/2028-01-20/
END:VEVENT
BEGIN:VEVENT
DTSTART;TZID=America/Los_Angeles:20280120T190000
DTEND;TZID=America/Los_Angeles:20280120T210000
DTSTAMP:20260422T182825
CREATED:20260207T154408Z
LAST-MODIFIED:20260211T110003Z
UID:10010599-1832007600-1832014800@hangar24brewing.com
SUMMARY:Trivia Night: Epic Pub Quiz
DESCRIPTION:
URL:https://hangar24brewing.com/event/trivia-night-epic-pub-quiz-2/2028-01-20/
LOCATION:HANGAR 24 BREWING – ORANGE COUNTY\, CA
CATEGORIES:Orange County, CA Events
END:VEVENT
BEGIN:VEVENT
DTSTART;TZID=America/Los_Angeles:20280123T110000
DTEND;TZID=America/Los_Angeles:20280123T200000
DTSTAMP:20260422T182825
CREATED:20260211T035305Z
LAST-MODIFIED:20260211T035307Z
UID:10008360-1832238000-1832270400@hangar24brewing.com
SUMMARY:Happy Hour - ALL DAY
DESCRIPTION:
URL:https://hangar24brewing.com/event/happy-hour-all-day-2/2028-01-23/
END:VEVENT
BEGIN:VEVENT
DTSTART;TZID=America/Los_Angeles:20280124T180000
DTEND;TZID=America/Los_Angeles:20280124T200000
DTSTAMP:20260422T182825
CREATED:20260207T153334Z
LAST-MODIFIED:20260211T105548Z
UID:10012340-1832349600-1832356800@hangar24brewing.com
SUMMARY:"Sing Your Heart Out" Karaoke Singles Night
DESCRIPTION:
URL:https://hangar24brewing.com/event/sing-your-heart-out-karaoke-singles-night-3/2028-01-24/
LOCATION:HANGAR 24 BREWING – ORANGE COUNTY\, CA
CATEGORIES:Orange County, CA Events
END:VEVENT
END:VCALENDAR