BEGIN:VCALENDAR
VERSION:2.0
PRODID:-//Hangar 24 Craft Brewing - ECPv6.15.20//NONSGML v1.0//EN
CALSCALE:GREGORIAN
METHOD:PUBLISH
X-WR-CALNAME:Hangar 24 Craft Brewing
X-ORIGINAL-URL:https://hangar24brewing.com
X-WR-CALDESC:Events for Hangar 24 Craft Brewing
REFRESH-INTERVAL;VALUE=DURATION:PT1H
X-Robots-Tag:noindex
X-PUBLISHED-TTL:PT1H
BEGIN:VTIMEZONE
TZID:America/Los_Angeles
BEGIN:DAYLIGHT
TZOFFSETFROM:-0800
TZOFFSETTO:-0700
TZNAME:PDT
DTSTART:20270314T100000
END:DAYLIGHT
BEGIN:STANDARD
TZOFFSETFROM:-0700
TZOFFSETTO:-0800
TZNAME:PST
DTSTART:20271107T090000
END:STANDARD
BEGIN:DAYLIGHT
TZOFFSETFROM:-0800
TZOFFSETTO:-0700
TZNAME:PDT
DTSTART:20280312T100000
END:DAYLIGHT
BEGIN:STANDARD
TZOFFSETFROM:-0700
TZOFFSETTO:-0800
TZNAME:PST
DTSTART:20281105T090000
END:STANDARD
BEGIN:DAYLIGHT
TZOFFSETFROM:-0800
TZOFFSETTO:-0700
TZNAME:PDT
DTSTART:20290311T100000
END:DAYLIGHT
BEGIN:STANDARD
TZOFFSETFROM:-0700
TZOFFSETTO:-0800
TZNAME:PST
DTSTART:20291104T090000
END:STANDARD
END:VTIMEZONE
BEGIN:VEVENT
DTSTART;TZID=America/Los_Angeles:20280521T110000
DTEND;TZID=America/Los_Angeles:20280521T200000
DTSTAMP:20260422T172857
CREATED:20260211T035305Z
LAST-MODIFIED:20260211T035307Z
UID:10008377-1842519600-1842552000@hangar24brewing.com
SUMMARY:Happy Hour - ALL DAY
DESCRIPTION:
URL:https://hangar24brewing.com/event/happy-hour-all-day-2/2028-05-21/
END:VEVENT
BEGIN:VEVENT
DTSTART;TZID=America/Los_Angeles:20280522T180000
DTEND;TZID=America/Los_Angeles:20280522T200000
DTSTAMP:20260422T172857
CREATED:20260207T153334Z
LAST-MODIFIED:20260211T105548Z
UID:10012357-1842631200-1842638400@hangar24brewing.com
SUMMARY:"Sing Your Heart Out" Karaoke Singles Night
DESCRIPTION:
URL:https://hangar24brewing.com/event/sing-your-heart-out-karaoke-singles-night-3/2028-05-22/
LOCATION:HANGAR 24 BREWING – ORANGE COUNTY\, CA
CATEGORIES:Orange County, CA Events
END:VEVENT
BEGIN:VEVENT
DTSTART;VALUE=DATE:20280523
DTEND;VALUE=DATE:20280524
DTSTAMP:20260422T172857
CREATED:20230411T060633Z
LAST-MODIFIED:20260207T151741Z
UID:10010095-1842652800-1842739199@hangar24brewing.com
SUMMARY:TEACHER TUESDAY (25% OFF)
DESCRIPTION:Mug Club Day & Teacher Tuesday (25% OFF!)
URL:https://hangar24brewing.com/event/mug-club-day-2/2028-05-23/
LOCATION:HANGAR 24 BREWING – REDLANDS\, CA
END:VEVENT
BEGIN:VEVENT
DTSTART;VALUE=DATE:20280523
DTEND;VALUE=DATE:20280524
DTSTAMP:20260422T172857
CREATED:20250904T174742Z
LAST-MODIFIED:20260207T151846Z
UID:10010356-1842652800-1842739199@hangar24brewing.com
SUMMARY:Mug Club Discount Tuesdays ($1 off mug pours\, $2 off growler pours)
DESCRIPTION:
URL:https://hangar24brewing.com/event/mug-club-discount-tuesdays-1-off-mug-pours-2-off-growler-pours/2028-05-23/
LOCATION:HANGAR 24 BREWING – REDLANDS\, CA
END:VEVENT
BEGIN:VEVENT
DTSTART;TZID=America/Los_Angeles:20280523T190000
DTEND;TZID=America/Los_Angeles:20280523T220000
DTSTAMP:20260422T172857
CREATED:20250108T063359Z
LAST-MODIFIED:20260219T194135Z
UID:10007569-1842721200-1842732000@hangar24brewing.com
SUMMARY:Trivia Tuesdays (Pour House Trivia!)
DESCRIPTION:
URL:https://hangar24brewing.com/event/trivia-tuesdays-geeks-who-drink-3/2028-05-23/
END:VEVENT
BEGIN:VEVENT
DTSTART;TZID=America/Los_Angeles:20280524T173000
DTEND;TZID=America/Los_Angeles:20280524T193000
DTSTAMP:20260422T172857
CREATED:20251223T204203Z
LAST-MODIFIED:20260220T182628Z
UID:10008114-1842802200-1842809400@hangar24brewing.com
SUMMARY:Bingo Wednesdays!!
DESCRIPTION:
URL:https://hangar24brewing.com/event/bingo-night-2-2/2028-05-24/
LOCATION:HANGAR 24 BREWING – LAKE HAVASU CITY\, CA
CATEGORIES:Lake Havasu City, CA Events
END:VEVENT
BEGIN:VEVENT
DTSTART;TZID=America/Los_Angeles:20280525T180000
DTEND;TZID=America/Los_Angeles:20280525T200000
DTSTAMP:20260422T172857
CREATED:20251223T205854Z
LAST-MODIFIED:20260219T200301Z
UID:10009798-1842890400-1842897600@hangar24brewing.com
SUMMARY:Trivia Thursdays
DESCRIPTION:
URL:https://hangar24brewing.com/event/trivia-night-geeks-who-drink-2-2/2028-05-25/
LOCATION:HANGAR 24 BREWING – LAKE HAVASU CITY\, CA
CATEGORIES:Lake Havasu City, CA Events
END:VEVENT
BEGIN:VEVENT
DTSTART;TZID=America/Los_Angeles:20280525T180000
DTEND;TZID=America/Los_Angeles:20280525T230000
DTSTAMP:20260422T172857
CREATED:20251223T210917Z
LAST-MODIFIED:20260219T194242Z
UID:10007302-1842890400-1842908400@hangar24brewing.com
SUMMARY:College Night (live DJ & games)
DESCRIPTION:
URL:https://hangar24brewing.com/event/college-night-live-dj-games-2/2028-05-25/
END:VEVENT
BEGIN:VEVENT
DTSTART;TZID=America/Los_Angeles:20280525T183000
DTEND;TZID=America/Los_Angeles:20280525T203000
DTSTAMP:20260422T172857
CREATED:20251223T210501Z
LAST-MODIFIED:20260219T195413Z
UID:10011469-1842892200-1842899400@hangar24brewing.com
SUMMARY:Trivia Night
DESCRIPTION:
URL:https://hangar24brewing.com/event/trivia-night-7-2/2028-05-25/
END:VEVENT
BEGIN:VEVENT
DTSTART;TZID=America/Los_Angeles:20280525T190000
DTEND;TZID=America/Los_Angeles:20280525T210000
DTSTAMP:20260422T172857
CREATED:20260207T154408Z
LAST-MODIFIED:20260211T110003Z
UID:10010617-1842894000-1842901200@hangar24brewing.com
SUMMARY:Trivia Night: Epic Pub Quiz
DESCRIPTION:
URL:https://hangar24brewing.com/event/trivia-night-epic-pub-quiz-2/2028-05-25/
LOCATION:HANGAR 24 BREWING – ORANGE COUNTY\, CA
CATEGORIES:Orange County, CA Events
END:VEVENT
BEGIN:VEVENT
DTSTART;TZID=America/Los_Angeles:20280528T110000
DTEND;TZID=America/Los_Angeles:20280528T200000
DTSTAMP:20260422T172857
CREATED:20260211T035305Z
LAST-MODIFIED:20260211T035307Z
UID:10008378-1843124400-1843156800@hangar24brewing.com
SUMMARY:Happy Hour - ALL DAY
DESCRIPTION:
URL:https://hangar24brewing.com/event/happy-hour-all-day-2/2028-05-28/
END:VEVENT
BEGIN:VEVENT
DTSTART;TZID=America/Los_Angeles:20280529T180000
DTEND;TZID=America/Los_Angeles:20280529T200000
DTSTAMP:20260422T172857
CREATED:20260207T153334Z
LAST-MODIFIED:20260211T105548Z
UID:10012358-1843236000-1843243200@hangar24brewing.com
SUMMARY:"Sing Your Heart Out" Karaoke Singles Night
DESCRIPTION:
URL:https://hangar24brewing.com/event/sing-your-heart-out-karaoke-singles-night-3/2028-05-29/
LOCATION:HANGAR 24 BREWING – ORANGE COUNTY\, CA
CATEGORIES:Orange County, CA Events
END:VEVENT
BEGIN:VEVENT
DTSTART;VALUE=DATE:20280530
DTEND;VALUE=DATE:20280531
DTSTAMP:20260422T172857
CREATED:20230411T060633Z
LAST-MODIFIED:20260207T151741Z
UID:10010096-1843257600-1843343999@hangar24brewing.com
SUMMARY:TEACHER TUESDAY (25% OFF)
DESCRIPTION:Mug Club Day & Teacher Tuesday (25% OFF!)
URL:https://hangar24brewing.com/event/mug-club-day-2/2028-05-30/
LOCATION:HANGAR 24 BREWING – REDLANDS\, CA
END:VEVENT
BEGIN:VEVENT
DTSTART;VALUE=DATE:20280530
DTEND;VALUE=DATE:20280531
DTSTAMP:20260422T172857
CREATED:20250904T174742Z
LAST-MODIFIED:20260207T151846Z
UID:10010357-1843257600-1843343999@hangar24brewing.com
SUMMARY:Mug Club Discount Tuesdays ($1 off mug pours\, $2 off growler pours)
DESCRIPTION:
URL:https://hangar24brewing.com/event/mug-club-discount-tuesdays-1-off-mug-pours-2-off-growler-pours/2028-05-30/
LOCATION:HANGAR 24 BREWING – REDLANDS\, CA
END:VEVENT
BEGIN:VEVENT
DTSTART;TZID=America/Los_Angeles:20280530T190000
DTEND;TZID=America/Los_Angeles:20280530T220000
DTSTAMP:20260422T172857
CREATED:20250108T063359Z
LAST-MODIFIED:20260219T194135Z
UID:10007570-1843326000-1843336800@hangar24brewing.com
SUMMARY:Trivia Tuesdays (Pour House Trivia!)
DESCRIPTION:
URL:https://hangar24brewing.com/event/trivia-tuesdays-geeks-who-drink-3/2028-05-30/
END:VEVENT
BEGIN:VEVENT
DTSTART;TZID=America/Los_Angeles:20280531T173000
DTEND;TZID=America/Los_Angeles:20280531T193000
DTSTAMP:20260422T172857
CREATED:20251223T204203Z
LAST-MODIFIED:20260220T182628Z
UID:10008115-1843407000-1843414200@hangar24brewing.com
SUMMARY:Bingo Wednesdays!!
DESCRIPTION:
URL:https://hangar24brewing.com/event/bingo-night-2-2/2028-05-31/
LOCATION:HANGAR 24 BREWING – LAKE HAVASU CITY\, CA
CATEGORIES:Lake Havasu City, CA Events
END:VEVENT
BEGIN:VEVENT
DTSTART;TZID=America/Los_Angeles:20280601T180000
DTEND;TZID=America/Los_Angeles:20280601T200000
DTSTAMP:20260422T172857
CREATED:20251223T205854Z
LAST-MODIFIED:20260219T200301Z
UID:10009799-1843495200-1843502400@hangar24brewing.com
SUMMARY:Trivia Thursdays
DESCRIPTION:
URL:https://hangar24brewing.com/event/trivia-night-geeks-who-drink-2-2/2028-06-01/
LOCATION:HANGAR 24 BREWING – LAKE HAVASU CITY\, CA
CATEGORIES:Lake Havasu City, CA Events
END:VEVENT
BEGIN:VEVENT
DTSTART;TZID=America/Los_Angeles:20280601T180000
DTEND;TZID=America/Los_Angeles:20280601T230000
DTSTAMP:20260422T172857
CREATED:20251223T210917Z
LAST-MODIFIED:20260219T194242Z
UID:10007303-1843495200-1843513200@hangar24brewing.com
SUMMARY:College Night (live DJ & games)
DESCRIPTION:
URL:https://hangar24brewing.com/event/college-night-live-dj-games-2/2028-06-01/
END:VEVENT
BEGIN:VEVENT
DTSTART;TZID=America/Los_Angeles:20280601T183000
DTEND;TZID=America/Los_Angeles:20280601T203000
DTSTAMP:20260422T172857
CREATED:20251223T210501Z
LAST-MODIFIED:20260219T195413Z
UID:10011470-1843497000-1843504200@hangar24brewing.com
SUMMARY:Trivia Night
DESCRIPTION:
URL:https://hangar24brewing.com/event/trivia-night-7-2/2028-06-01/
END:VEVENT
BEGIN:VEVENT
DTSTART;TZID=America/Los_Angeles:20280601T190000
DTEND;TZID=America/Los_Angeles:20280601T210000
DTSTAMP:20260422T172857
CREATED:20260207T154408Z
LAST-MODIFIED:20260211T110003Z
UID:10010618-1843498800-1843506000@hangar24brewing.com
SUMMARY:Trivia Night: Epic Pub Quiz
DESCRIPTION:
URL:https://hangar24brewing.com/event/trivia-night-epic-pub-quiz-2/2028-06-01/
LOCATION:HANGAR 24 BREWING – ORANGE COUNTY\, CA
CATEGORIES:Orange County, CA Events
END:VEVENT
BEGIN:VEVENT
DTSTART;TZID=America/Los_Angeles:20280604T110000
DTEND;TZID=America/Los_Angeles:20280604T200000
DTSTAMP:20260422T172857
CREATED:20260211T035305Z
LAST-MODIFIED:20260211T035307Z
UID:10008379-1843729200-1843761600@hangar24brewing.com
SUMMARY:Happy Hour - ALL DAY
DESCRIPTION:
URL:https://hangar24brewing.com/event/happy-hour-all-day-2/2028-06-04/
END:VEVENT
BEGIN:VEVENT
DTSTART;TZID=America/Los_Angeles:20280605T180000
DTEND;TZID=America/Los_Angeles:20280605T200000
DTSTAMP:20260422T172857
CREATED:20260207T153334Z
LAST-MODIFIED:20260211T105548Z
UID:10012359-1843840800-1843848000@hangar24brewing.com
SUMMARY:"Sing Your Heart Out" Karaoke Singles Night
DESCRIPTION:
URL:https://hangar24brewing.com/event/sing-your-heart-out-karaoke-singles-night-3/2028-06-05/
LOCATION:HANGAR 24 BREWING – ORANGE COUNTY\, CA
CATEGORIES:Orange County, CA Events
END:VEVENT
BEGIN:VEVENT
DTSTART;VALUE=DATE:20280606
DTEND;VALUE=DATE:20280607
DTSTAMP:20260422T172857
CREATED:20230411T060633Z
LAST-MODIFIED:20260207T151741Z
UID:10010097-1843862400-1843948799@hangar24brewing.com
SUMMARY:TEACHER TUESDAY (25% OFF)
DESCRIPTION:Mug Club Day & Teacher Tuesday (25% OFF!)
URL:https://hangar24brewing.com/event/mug-club-day-2/2028-06-06/
LOCATION:HANGAR 24 BREWING – REDLANDS\, CA
END:VEVENT
BEGIN:VEVENT
DTSTART;VALUE=DATE:20280606
DTEND;VALUE=DATE:20280607
DTSTAMP:20260422T172857
CREATED:20250904T174742Z
LAST-MODIFIED:20260207T151846Z
UID:10010358-1843862400-1843948799@hangar24brewing.com
SUMMARY:Mug Club Discount Tuesdays ($1 off mug pours\, $2 off growler pours)
DESCRIPTION:
URL:https://hangar24brewing.com/event/mug-club-discount-tuesdays-1-off-mug-pours-2-off-growler-pours/2028-06-06/
LOCATION:HANGAR 24 BREWING – REDLANDS\, CA
END:VEVENT
BEGIN:VEVENT
DTSTART;TZID=America/Los_Angeles:20280606T190000
DTEND;TZID=America/Los_Angeles:20280606T220000
DTSTAMP:20260422T172857
CREATED:20250108T063359Z
LAST-MODIFIED:20260219T194135Z
UID:10007571-1843930800-1843941600@hangar24brewing.com
SUMMARY:Trivia Tuesdays (Pour House Trivia!)
DESCRIPTION:
URL:https://hangar24brewing.com/event/trivia-tuesdays-geeks-who-drink-3/2028-06-06/
END:VEVENT
BEGIN:VEVENT
DTSTART;TZID=America/Los_Angeles:20280607T173000
DTEND;TZID=America/Los_Angeles:20280607T193000
DTSTAMP:20260422T172857
CREATED:20251223T204203Z
LAST-MODIFIED:20260220T182628Z
UID:10008116-1844011800-1844019000@hangar24brewing.com
SUMMARY:Bingo Wednesdays!!
DESCRIPTION:
URL:https://hangar24brewing.com/event/bingo-night-2-2/2028-06-07/
LOCATION:HANGAR 24 BREWING – LAKE HAVASU CITY\, CA
CATEGORIES:Lake Havasu City, CA Events
END:VEVENT
BEGIN:VEVENT
DTSTART;TZID=America/Los_Angeles:20280608T180000
DTEND;TZID=America/Los_Angeles:20280608T200000
DTSTAMP:20260422T172857
CREATED:20251223T205854Z
LAST-MODIFIED:20260219T200301Z
UID:10009800-1844100000-1844107200@hangar24brewing.com
SUMMARY:Trivia Thursdays
DESCRIPTION:
URL:https://hangar24brewing.com/event/trivia-night-geeks-who-drink-2-2/2028-06-08/
LOCATION:HANGAR 24 BREWING – LAKE HAVASU CITY\, CA
CATEGORIES:Lake Havasu City, CA Events
END:VEVENT
BEGIN:VEVENT
DTSTART;TZID=America/Los_Angeles:20280608T180000
DTEND;TZID=America/Los_Angeles:20280608T230000
DTSTAMP:20260422T172857
CREATED:20251223T210917Z
LAST-MODIFIED:20260219T194242Z
UID:10007304-1844100000-1844118000@hangar24brewing.com
SUMMARY:College Night (live DJ & games)
DESCRIPTION:
URL:https://hangar24brewing.com/event/college-night-live-dj-games-2/2028-06-08/
END:VEVENT
BEGIN:VEVENT
DTSTART;TZID=America/Los_Angeles:20280608T183000
DTEND;TZID=America/Los_Angeles:20280608T203000
DTSTAMP:20260422T172857
CREATED:20251223T210501Z
LAST-MODIFIED:20260219T195413Z
UID:10011471-1844101800-1844109000@hangar24brewing.com
SUMMARY:Trivia Night
DESCRIPTION:
URL:https://hangar24brewing.com/event/trivia-night-7-2/2028-06-08/
END:VEVENT
BEGIN:VEVENT
DTSTART;TZID=America/Los_Angeles:20280608T190000
DTEND;TZID=America/Los_Angeles:20280608T210000
DTSTAMP:20260422T172857
CREATED:20260207T154408Z
LAST-MODIFIED:20260211T110003Z
UID:10010619-1844103600-1844110800@hangar24brewing.com
SUMMARY:Trivia Night: Epic Pub Quiz
DESCRIPTION:
URL:https://hangar24brewing.com/event/trivia-night-epic-pub-quiz-2/2028-06-08/
LOCATION:HANGAR 24 BREWING – ORANGE COUNTY\, CA
CATEGORIES:Orange County, CA Events
END:VEVENT
END:VCALENDAR