BEGIN:VCALENDAR
VERSION:2.0
PRODID:-//Hangar 24 Craft Brewing - ECPv6.15.20//NONSGML v1.0//EN
CALSCALE:GREGORIAN
METHOD:PUBLISH
X-WR-CALNAME:Hangar 24 Craft Brewing
X-ORIGINAL-URL:https://hangar24brewing.com
X-WR-CALDESC:Events for Hangar 24 Craft Brewing
REFRESH-INTERVAL;VALUE=DURATION:PT1H
X-Robots-Tag:noindex
X-PUBLISHED-TTL:PT1H
BEGIN:VTIMEZONE
TZID:America/Los_Angeles
BEGIN:DAYLIGHT
TZOFFSETFROM:-0800
TZOFFSETTO:-0700
TZNAME:PDT
DTSTART:20270314T100000
END:DAYLIGHT
BEGIN:STANDARD
TZOFFSETFROM:-0700
TZOFFSETTO:-0800
TZNAME:PST
DTSTART:20271107T090000
END:STANDARD
BEGIN:DAYLIGHT
TZOFFSETFROM:-0800
TZOFFSETTO:-0700
TZNAME:PDT
DTSTART:20280312T100000
END:DAYLIGHT
BEGIN:STANDARD
TZOFFSETFROM:-0700
TZOFFSETTO:-0800
TZNAME:PST
DTSTART:20281105T090000
END:STANDARD
BEGIN:DAYLIGHT
TZOFFSETFROM:-0800
TZOFFSETTO:-0700
TZNAME:PDT
DTSTART:20290311T100000
END:DAYLIGHT
BEGIN:STANDARD
TZOFFSETFROM:-0700
TZOFFSETTO:-0800
TZNAME:PST
DTSTART:20291104T090000
END:STANDARD
END:VTIMEZONE
BEGIN:VEVENT
DTSTART;TZID=America/Los_Angeles:20280604T110000
DTEND;TZID=America/Los_Angeles:20280604T200000
DTSTAMP:20260422T190846
CREATED:20260211T035305Z
LAST-MODIFIED:20260211T035307Z
UID:10008379-1843729200-1843761600@hangar24brewing.com
SUMMARY:Happy Hour - ALL DAY
DESCRIPTION:
URL:https://hangar24brewing.com/event/happy-hour-all-day-2/2028-06-04/
END:VEVENT
BEGIN:VEVENT
DTSTART;TZID=America/Los_Angeles:20280605T180000
DTEND;TZID=America/Los_Angeles:20280605T200000
DTSTAMP:20260422T190846
CREATED:20260207T153334Z
LAST-MODIFIED:20260211T105548Z
UID:10012359-1843840800-1843848000@hangar24brewing.com
SUMMARY:"Sing Your Heart Out" Karaoke Singles Night
DESCRIPTION:
URL:https://hangar24brewing.com/event/sing-your-heart-out-karaoke-singles-night-3/2028-06-05/
LOCATION:HANGAR 24 BREWING – ORANGE COUNTY\, CA
CATEGORIES:Orange County, CA Events
END:VEVENT
BEGIN:VEVENT
DTSTART;VALUE=DATE:20280606
DTEND;VALUE=DATE:20280607
DTSTAMP:20260422T190846
CREATED:20230411T060633Z
LAST-MODIFIED:20260207T151741Z
UID:10010097-1843862400-1843948799@hangar24brewing.com
SUMMARY:TEACHER TUESDAY (25% OFF)
DESCRIPTION:Mug Club Day & Teacher Tuesday (25% OFF!)
URL:https://hangar24brewing.com/event/mug-club-day-2/2028-06-06/
LOCATION:HANGAR 24 BREWING – REDLANDS\, CA
END:VEVENT
BEGIN:VEVENT
DTSTART;VALUE=DATE:20280606
DTEND;VALUE=DATE:20280607
DTSTAMP:20260422T190846
CREATED:20250904T174742Z
LAST-MODIFIED:20260207T151846Z
UID:10010358-1843862400-1843948799@hangar24brewing.com
SUMMARY:Mug Club Discount Tuesdays ($1 off mug pours\, $2 off growler pours)
DESCRIPTION:
URL:https://hangar24brewing.com/event/mug-club-discount-tuesdays-1-off-mug-pours-2-off-growler-pours/2028-06-06/
LOCATION:HANGAR 24 BREWING – REDLANDS\, CA
END:VEVENT
BEGIN:VEVENT
DTSTART;TZID=America/Los_Angeles:20280606T190000
DTEND;TZID=America/Los_Angeles:20280606T220000
DTSTAMP:20260422T190846
CREATED:20250108T063359Z
LAST-MODIFIED:20260219T194135Z
UID:10007571-1843930800-1843941600@hangar24brewing.com
SUMMARY:Trivia Tuesdays (Pour House Trivia!)
DESCRIPTION:
URL:https://hangar24brewing.com/event/trivia-tuesdays-geeks-who-drink-3/2028-06-06/
END:VEVENT
BEGIN:VEVENT
DTSTART;TZID=America/Los_Angeles:20280607T173000
DTEND;TZID=America/Los_Angeles:20280607T193000
DTSTAMP:20260422T190846
CREATED:20251223T204203Z
LAST-MODIFIED:20260220T182628Z
UID:10008116-1844011800-1844019000@hangar24brewing.com
SUMMARY:Bingo Wednesdays!!
DESCRIPTION:
URL:https://hangar24brewing.com/event/bingo-night-2-2/2028-06-07/
LOCATION:HANGAR 24 BREWING – LAKE HAVASU CITY\, CA
CATEGORIES:Lake Havasu City, CA Events
END:VEVENT
BEGIN:VEVENT
DTSTART;TZID=America/Los_Angeles:20280608T180000
DTEND;TZID=America/Los_Angeles:20280608T200000
DTSTAMP:20260422T190846
CREATED:20251223T205854Z
LAST-MODIFIED:20260219T200301Z
UID:10009800-1844100000-1844107200@hangar24brewing.com
SUMMARY:Trivia Thursdays
DESCRIPTION:
URL:https://hangar24brewing.com/event/trivia-night-geeks-who-drink-2-2/2028-06-08/
LOCATION:HANGAR 24 BREWING – LAKE HAVASU CITY\, CA
CATEGORIES:Lake Havasu City, CA Events
END:VEVENT
BEGIN:VEVENT
DTSTART;TZID=America/Los_Angeles:20280608T180000
DTEND;TZID=America/Los_Angeles:20280608T230000
DTSTAMP:20260422T190846
CREATED:20251223T210917Z
LAST-MODIFIED:20260219T194242Z
UID:10007304-1844100000-1844118000@hangar24brewing.com
SUMMARY:College Night (live DJ & games)
DESCRIPTION:
URL:https://hangar24brewing.com/event/college-night-live-dj-games-2/2028-06-08/
END:VEVENT
BEGIN:VEVENT
DTSTART;TZID=America/Los_Angeles:20280608T183000
DTEND;TZID=America/Los_Angeles:20280608T203000
DTSTAMP:20260422T190846
CREATED:20251223T210501Z
LAST-MODIFIED:20260219T195413Z
UID:10011471-1844101800-1844109000@hangar24brewing.com
SUMMARY:Trivia Night
DESCRIPTION:
URL:https://hangar24brewing.com/event/trivia-night-7-2/2028-06-08/
END:VEVENT
BEGIN:VEVENT
DTSTART;TZID=America/Los_Angeles:20280608T190000
DTEND;TZID=America/Los_Angeles:20280608T210000
DTSTAMP:20260422T190846
CREATED:20260207T154408Z
LAST-MODIFIED:20260211T110003Z
UID:10010619-1844103600-1844110800@hangar24brewing.com
SUMMARY:Trivia Night: Epic Pub Quiz
DESCRIPTION:
URL:https://hangar24brewing.com/event/trivia-night-epic-pub-quiz-2/2028-06-08/
LOCATION:HANGAR 24 BREWING – ORANGE COUNTY\, CA
CATEGORIES:Orange County, CA Events
END:VEVENT
BEGIN:VEVENT
DTSTART;TZID=America/Los_Angeles:20280611T110000
DTEND;TZID=America/Los_Angeles:20280611T200000
DTSTAMP:20260422T190846
CREATED:20260211T035305Z
LAST-MODIFIED:20260211T035307Z
UID:10008380-1844334000-1844366400@hangar24brewing.com
SUMMARY:Happy Hour - ALL DAY
DESCRIPTION:
URL:https://hangar24brewing.com/event/happy-hour-all-day-2/2028-06-11/
END:VEVENT
BEGIN:VEVENT
DTSTART;TZID=America/Los_Angeles:20280612T180000
DTEND;TZID=America/Los_Angeles:20280612T200000
DTSTAMP:20260422T190846
CREATED:20260207T153334Z
LAST-MODIFIED:20260211T105548Z
UID:10012360-1844445600-1844452800@hangar24brewing.com
SUMMARY:"Sing Your Heart Out" Karaoke Singles Night
DESCRIPTION:
URL:https://hangar24brewing.com/event/sing-your-heart-out-karaoke-singles-night-3/2028-06-12/
LOCATION:HANGAR 24 BREWING – ORANGE COUNTY\, CA
CATEGORIES:Orange County, CA Events
END:VEVENT
BEGIN:VEVENT
DTSTART;VALUE=DATE:20280613
DTEND;VALUE=DATE:20280614
DTSTAMP:20260422T190846
CREATED:20230411T060633Z
LAST-MODIFIED:20260207T151741Z
UID:10010098-1844467200-1844553599@hangar24brewing.com
SUMMARY:TEACHER TUESDAY (25% OFF)
DESCRIPTION:Mug Club Day & Teacher Tuesday (25% OFF!)
URL:https://hangar24brewing.com/event/mug-club-day-2/2028-06-13/
LOCATION:HANGAR 24 BREWING – REDLANDS\, CA
END:VEVENT
BEGIN:VEVENT
DTSTART;VALUE=DATE:20280613
DTEND;VALUE=DATE:20280614
DTSTAMP:20260422T190846
CREATED:20250904T174742Z
LAST-MODIFIED:20260207T151846Z
UID:10010359-1844467200-1844553599@hangar24brewing.com
SUMMARY:Mug Club Discount Tuesdays ($1 off mug pours\, $2 off growler pours)
DESCRIPTION:
URL:https://hangar24brewing.com/event/mug-club-discount-tuesdays-1-off-mug-pours-2-off-growler-pours/2028-06-13/
LOCATION:HANGAR 24 BREWING – REDLANDS\, CA
END:VEVENT
BEGIN:VEVENT
DTSTART;TZID=America/Los_Angeles:20280613T190000
DTEND;TZID=America/Los_Angeles:20280613T220000
DTSTAMP:20260422T190846
CREATED:20250108T063359Z
LAST-MODIFIED:20260219T194135Z
UID:10007572-1844535600-1844546400@hangar24brewing.com
SUMMARY:Trivia Tuesdays (Pour House Trivia!)
DESCRIPTION:
URL:https://hangar24brewing.com/event/trivia-tuesdays-geeks-who-drink-3/2028-06-13/
END:VEVENT
BEGIN:VEVENT
DTSTART;TZID=America/Los_Angeles:20280614T173000
DTEND;TZID=America/Los_Angeles:20280614T193000
DTSTAMP:20260422T190846
CREATED:20251223T204203Z
LAST-MODIFIED:20260220T182628Z
UID:10008117-1844616600-1844623800@hangar24brewing.com
SUMMARY:Bingo Wednesdays!!
DESCRIPTION:
URL:https://hangar24brewing.com/event/bingo-night-2-2/2028-06-14/
LOCATION:HANGAR 24 BREWING – LAKE HAVASU CITY\, CA
CATEGORIES:Lake Havasu City, CA Events
END:VEVENT
BEGIN:VEVENT
DTSTART;TZID=America/Los_Angeles:20280615T180000
DTEND;TZID=America/Los_Angeles:20280615T200000
DTSTAMP:20260422T190846
CREATED:20251223T205854Z
LAST-MODIFIED:20260219T200301Z
UID:10009801-1844704800-1844712000@hangar24brewing.com
SUMMARY:Trivia Thursdays
DESCRIPTION:
URL:https://hangar24brewing.com/event/trivia-night-geeks-who-drink-2-2/2028-06-15/
LOCATION:HANGAR 24 BREWING – LAKE HAVASU CITY\, CA
CATEGORIES:Lake Havasu City, CA Events
END:VEVENT
BEGIN:VEVENT
DTSTART;TZID=America/Los_Angeles:20280615T180000
DTEND;TZID=America/Los_Angeles:20280615T230000
DTSTAMP:20260422T190846
CREATED:20251223T210917Z
LAST-MODIFIED:20260219T194242Z
UID:10007305-1844704800-1844722800@hangar24brewing.com
SUMMARY:College Night (live DJ & games)
DESCRIPTION:
URL:https://hangar24brewing.com/event/college-night-live-dj-games-2/2028-06-15/
END:VEVENT
BEGIN:VEVENT
DTSTART;TZID=America/Los_Angeles:20280615T183000
DTEND;TZID=America/Los_Angeles:20280615T203000
DTSTAMP:20260422T190846
CREATED:20251223T210501Z
LAST-MODIFIED:20260219T195413Z
UID:10011472-1844706600-1844713800@hangar24brewing.com
SUMMARY:Trivia Night
DESCRIPTION:
URL:https://hangar24brewing.com/event/trivia-night-7-2/2028-06-15/
END:VEVENT
BEGIN:VEVENT
DTSTART;TZID=America/Los_Angeles:20280615T190000
DTEND;TZID=America/Los_Angeles:20280615T210000
DTSTAMP:20260422T190846
CREATED:20260207T154408Z
LAST-MODIFIED:20260211T110003Z
UID:10010620-1844708400-1844715600@hangar24brewing.com
SUMMARY:Trivia Night: Epic Pub Quiz
DESCRIPTION:
URL:https://hangar24brewing.com/event/trivia-night-epic-pub-quiz-2/2028-06-15/
LOCATION:HANGAR 24 BREWING – ORANGE COUNTY\, CA
CATEGORIES:Orange County, CA Events
END:VEVENT
BEGIN:VEVENT
DTSTART;TZID=America/Los_Angeles:20280618T110000
DTEND;TZID=America/Los_Angeles:20280618T200000
DTSTAMP:20260422T190846
CREATED:20260211T035305Z
LAST-MODIFIED:20260211T035307Z
UID:10008381-1844938800-1844971200@hangar24brewing.com
SUMMARY:Happy Hour - ALL DAY
DESCRIPTION:
URL:https://hangar24brewing.com/event/happy-hour-all-day-2/2028-06-18/
END:VEVENT
BEGIN:VEVENT
DTSTART;TZID=America/Los_Angeles:20280619T180000
DTEND;TZID=America/Los_Angeles:20280619T200000
DTSTAMP:20260422T190846
CREATED:20260207T153334Z
LAST-MODIFIED:20260211T105548Z
UID:10012361-1845050400-1845057600@hangar24brewing.com
SUMMARY:"Sing Your Heart Out" Karaoke Singles Night
DESCRIPTION:
URL:https://hangar24brewing.com/event/sing-your-heart-out-karaoke-singles-night-3/2028-06-19/
LOCATION:HANGAR 24 BREWING – ORANGE COUNTY\, CA
CATEGORIES:Orange County, CA Events
END:VEVENT
BEGIN:VEVENT
DTSTART;VALUE=DATE:20280620
DTEND;VALUE=DATE:20280621
DTSTAMP:20260422T190846
CREATED:20230411T060633Z
LAST-MODIFIED:20260207T151741Z
UID:10010099-1845072000-1845158399@hangar24brewing.com
SUMMARY:TEACHER TUESDAY (25% OFF)
DESCRIPTION:Mug Club Day & Teacher Tuesday (25% OFF!)
URL:https://hangar24brewing.com/event/mug-club-day-2/2028-06-20/
LOCATION:HANGAR 24 BREWING – REDLANDS\, CA
END:VEVENT
BEGIN:VEVENT
DTSTART;VALUE=DATE:20280620
DTEND;VALUE=DATE:20280621
DTSTAMP:20260422T190846
CREATED:20250904T174742Z
LAST-MODIFIED:20260207T151846Z
UID:10010360-1845072000-1845158399@hangar24brewing.com
SUMMARY:Mug Club Discount Tuesdays ($1 off mug pours\, $2 off growler pours)
DESCRIPTION:
URL:https://hangar24brewing.com/event/mug-club-discount-tuesdays-1-off-mug-pours-2-off-growler-pours/2028-06-20/
LOCATION:HANGAR 24 BREWING – REDLANDS\, CA
END:VEVENT
BEGIN:VEVENT
DTSTART;TZID=America/Los_Angeles:20280620T190000
DTEND;TZID=America/Los_Angeles:20280620T220000
DTSTAMP:20260422T190846
CREATED:20250108T063359Z
LAST-MODIFIED:20260219T194135Z
UID:10007573-1845140400-1845151200@hangar24brewing.com
SUMMARY:Trivia Tuesdays (Pour House Trivia!)
DESCRIPTION:
URL:https://hangar24brewing.com/event/trivia-tuesdays-geeks-who-drink-3/2028-06-20/
END:VEVENT
BEGIN:VEVENT
DTSTART;TZID=America/Los_Angeles:20280621T173000
DTEND;TZID=America/Los_Angeles:20280621T193000
DTSTAMP:20260422T190846
CREATED:20251223T204203Z
LAST-MODIFIED:20260220T182628Z
UID:10008118-1845221400-1845228600@hangar24brewing.com
SUMMARY:Bingo Wednesdays!!
DESCRIPTION:
URL:https://hangar24brewing.com/event/bingo-night-2-2/2028-06-21/
LOCATION:HANGAR 24 BREWING – LAKE HAVASU CITY\, CA
CATEGORIES:Lake Havasu City, CA Events
END:VEVENT
BEGIN:VEVENT
DTSTART;TZID=America/Los_Angeles:20280622T180000
DTEND;TZID=America/Los_Angeles:20280622T200000
DTSTAMP:20260422T190846
CREATED:20251223T205854Z
LAST-MODIFIED:20260219T200301Z
UID:10009802-1845309600-1845316800@hangar24brewing.com
SUMMARY:Trivia Thursdays
DESCRIPTION:
URL:https://hangar24brewing.com/event/trivia-night-geeks-who-drink-2-2/2028-06-22/
LOCATION:HANGAR 24 BREWING – LAKE HAVASU CITY\, CA
CATEGORIES:Lake Havasu City, CA Events
END:VEVENT
BEGIN:VEVENT
DTSTART;TZID=America/Los_Angeles:20280622T180000
DTEND;TZID=America/Los_Angeles:20280622T230000
DTSTAMP:20260422T190846
CREATED:20251223T210917Z
LAST-MODIFIED:20260219T194242Z
UID:10007306-1845309600-1845327600@hangar24brewing.com
SUMMARY:College Night (live DJ & games)
DESCRIPTION:
URL:https://hangar24brewing.com/event/college-night-live-dj-games-2/2028-06-22/
END:VEVENT
BEGIN:VEVENT
DTSTART;TZID=America/Los_Angeles:20280622T183000
DTEND;TZID=America/Los_Angeles:20280622T203000
DTSTAMP:20260422T190846
CREATED:20251223T210501Z
LAST-MODIFIED:20260219T195413Z
UID:10011473-1845311400-1845318600@hangar24brewing.com
SUMMARY:Trivia Night
DESCRIPTION:
URL:https://hangar24brewing.com/event/trivia-night-7-2/2028-06-22/
END:VEVENT
BEGIN:VEVENT
DTSTART;TZID=America/Los_Angeles:20280622T190000
DTEND;TZID=America/Los_Angeles:20280622T210000
DTSTAMP:20260422T190846
CREATED:20260207T154408Z
LAST-MODIFIED:20260211T110003Z
UID:10010621-1845313200-1845320400@hangar24brewing.com
SUMMARY:Trivia Night: Epic Pub Quiz
DESCRIPTION:
URL:https://hangar24brewing.com/event/trivia-night-epic-pub-quiz-2/2028-06-22/
LOCATION:HANGAR 24 BREWING – ORANGE COUNTY\, CA
CATEGORIES:Orange County, CA Events
END:VEVENT
END:VCALENDAR