BEGIN:VCALENDAR
VERSION:2.0
PRODID:-//Hangar 24 Craft Brewing - ECPv6.15.20//NONSGML v1.0//EN
CALSCALE:GREGORIAN
METHOD:PUBLISH
X-WR-CALNAME:Hangar 24 Craft Brewing
X-ORIGINAL-URL:https://hangar24brewing.com
X-WR-CALDESC:Events for Hangar 24 Craft Brewing
REFRESH-INTERVAL;VALUE=DURATION:PT1H
X-Robots-Tag:noindex
X-PUBLISHED-TTL:PT1H
BEGIN:VTIMEZONE
TZID:America/Los_Angeles
BEGIN:DAYLIGHT
TZOFFSETFROM:-0800
TZOFFSETTO:-0700
TZNAME:PDT
DTSTART:20270314T100000
END:DAYLIGHT
BEGIN:STANDARD
TZOFFSETFROM:-0700
TZOFFSETTO:-0800
TZNAME:PST
DTSTART:20271107T090000
END:STANDARD
BEGIN:DAYLIGHT
TZOFFSETFROM:-0800
TZOFFSETTO:-0700
TZNAME:PDT
DTSTART:20280312T100000
END:DAYLIGHT
BEGIN:STANDARD
TZOFFSETFROM:-0700
TZOFFSETTO:-0800
TZNAME:PST
DTSTART:20281105T090000
END:STANDARD
BEGIN:DAYLIGHT
TZOFFSETFROM:-0800
TZOFFSETTO:-0700
TZNAME:PDT
DTSTART:20290311T100000
END:DAYLIGHT
BEGIN:STANDARD
TZOFFSETFROM:-0700
TZOFFSETTO:-0800
TZNAME:PST
DTSTART:20291104T090000
END:STANDARD
END:VTIMEZONE
BEGIN:VEVENT
DTSTART;VALUE=DATE:20280201
DTEND;VALUE=DATE:20280202
DTSTAMP:20260422T221152
CREATED:20230411T060633Z
LAST-MODIFIED:20260207T151741Z
UID:10003360-1832976000-1833062399@hangar24brewing.com
SUMMARY:TEACHER TUESDAY (25% OFF)
DESCRIPTION:Mug Club Day & Teacher Tuesday (25% OFF!)
URL:https://hangar24brewing.com/event/mug-club-day-2/2028-02-01/
LOCATION:HANGAR 24 BREWING – REDLANDS\, CA
END:VEVENT
BEGIN:VEVENT
DTSTART;VALUE=DATE:20280201
DTEND;VALUE=DATE:20280202
DTSTAMP:20260422T221152
CREATED:20250904T174742Z
LAST-MODIFIED:20260207T151846Z
UID:10010340-1832976000-1833062399@hangar24brewing.com
SUMMARY:Mug Club Discount Tuesdays ($1 off mug pours\, $2 off growler pours)
DESCRIPTION:
URL:https://hangar24brewing.com/event/mug-club-discount-tuesdays-1-off-mug-pours-2-off-growler-pours/2028-02-01/
LOCATION:HANGAR 24 BREWING – REDLANDS\, CA
END:VEVENT
BEGIN:VEVENT
DTSTART;TZID=America/Los_Angeles:20280201T190000
DTEND;TZID=America/Los_Angeles:20280201T220000
DTSTAMP:20260422T221152
CREATED:20250108T063359Z
LAST-MODIFIED:20260219T194135Z
UID:10007553-1833044400-1833055200@hangar24brewing.com
SUMMARY:Trivia Tuesdays (Pour House Trivia!)
DESCRIPTION:
URL:https://hangar24brewing.com/event/trivia-tuesdays-geeks-who-drink-3/2028-02-01/
END:VEVENT
BEGIN:VEVENT
DTSTART;TZID=America/Los_Angeles:20280202T173000
DTEND;TZID=America/Los_Angeles:20280202T193000
DTSTAMP:20260422T221152
CREATED:20251223T204203Z
LAST-MODIFIED:20260220T182628Z
UID:10008098-1833125400-1833132600@hangar24brewing.com
SUMMARY:Bingo Wednesdays!!
DESCRIPTION:
URL:https://hangar24brewing.com/event/bingo-night-2-2/2028-02-02/
LOCATION:HANGAR 24 BREWING – LAKE HAVASU CITY\, CA
CATEGORIES:Lake Havasu City, CA Events
END:VEVENT
BEGIN:VEVENT
DTSTART;TZID=America/Los_Angeles:20280203T180000
DTEND;TZID=America/Los_Angeles:20280203T200000
DTSTAMP:20260422T221152
CREATED:20251223T205854Z
LAST-MODIFIED:20260219T200301Z
UID:10009782-1833213600-1833220800@hangar24brewing.com
SUMMARY:Trivia Thursdays
DESCRIPTION:
URL:https://hangar24brewing.com/event/trivia-night-geeks-who-drink-2-2/2028-02-03/
LOCATION:HANGAR 24 BREWING – LAKE HAVASU CITY\, CA
CATEGORIES:Lake Havasu City, CA Events
END:VEVENT
BEGIN:VEVENT
DTSTART;TZID=America/Los_Angeles:20280203T180000
DTEND;TZID=America/Los_Angeles:20280203T230000
DTSTAMP:20260422T221152
CREATED:20251223T210917Z
LAST-MODIFIED:20260219T194242Z
UID:10007286-1833213600-1833231600@hangar24brewing.com
SUMMARY:College Night (live DJ & games)
DESCRIPTION:
URL:https://hangar24brewing.com/event/college-night-live-dj-games-2/2028-02-03/
END:VEVENT
BEGIN:VEVENT
DTSTART;TZID=America/Los_Angeles:20280203T183000
DTEND;TZID=America/Los_Angeles:20280203T203000
DTSTAMP:20260422T221152
CREATED:20251223T210501Z
LAST-MODIFIED:20260219T195413Z
UID:10011453-1833215400-1833222600@hangar24brewing.com
SUMMARY:Trivia Night
DESCRIPTION:
URL:https://hangar24brewing.com/event/trivia-night-7-2/2028-02-03/
END:VEVENT
BEGIN:VEVENT
DTSTART;TZID=America/Los_Angeles:20280203T190000
DTEND;TZID=America/Los_Angeles:20280203T210000
DTSTAMP:20260422T221152
CREATED:20260207T154408Z
LAST-MODIFIED:20260211T110003Z
UID:10010601-1833217200-1833224400@hangar24brewing.com
SUMMARY:Trivia Night: Epic Pub Quiz
DESCRIPTION:
URL:https://hangar24brewing.com/event/trivia-night-epic-pub-quiz-2/2028-02-03/
LOCATION:HANGAR 24 BREWING – ORANGE COUNTY\, CA
CATEGORIES:Orange County, CA Events
END:VEVENT
BEGIN:VEVENT
DTSTART;TZID=America/Los_Angeles:20280206T110000
DTEND;TZID=America/Los_Angeles:20280206T200000
DTSTAMP:20260422T221152
CREATED:20260211T035305Z
LAST-MODIFIED:20260211T035307Z
UID:10008362-1833447600-1833480000@hangar24brewing.com
SUMMARY:Happy Hour - ALL DAY
DESCRIPTION:
URL:https://hangar24brewing.com/event/happy-hour-all-day-2/2028-02-06/
END:VEVENT
BEGIN:VEVENT
DTSTART;TZID=America/Los_Angeles:20280207T180000
DTEND;TZID=America/Los_Angeles:20280207T200000
DTSTAMP:20260422T221152
CREATED:20260207T153334Z
LAST-MODIFIED:20260211T105548Z
UID:10012342-1833559200-1833566400@hangar24brewing.com
SUMMARY:"Sing Your Heart Out" Karaoke Singles Night
DESCRIPTION:
URL:https://hangar24brewing.com/event/sing-your-heart-out-karaoke-singles-night-3/2028-02-07/
LOCATION:HANGAR 24 BREWING – ORANGE COUNTY\, CA
CATEGORIES:Orange County, CA Events
END:VEVENT
BEGIN:VEVENT
DTSTART;VALUE=DATE:20280208
DTEND;VALUE=DATE:20280209
DTSTAMP:20260422T221152
CREATED:20230411T060633Z
LAST-MODIFIED:20260207T151741Z
UID:10003361-1833580800-1833667199@hangar24brewing.com
SUMMARY:TEACHER TUESDAY (25% OFF)
DESCRIPTION:Mug Club Day & Teacher Tuesday (25% OFF!)
URL:https://hangar24brewing.com/event/mug-club-day-2/2028-02-08/
LOCATION:HANGAR 24 BREWING – REDLANDS\, CA
END:VEVENT
BEGIN:VEVENT
DTSTART;VALUE=DATE:20280208
DTEND;VALUE=DATE:20280209
DTSTAMP:20260422T221152
CREATED:20250904T174742Z
LAST-MODIFIED:20260207T151846Z
UID:10010341-1833580800-1833667199@hangar24brewing.com
SUMMARY:Mug Club Discount Tuesdays ($1 off mug pours\, $2 off growler pours)
DESCRIPTION:
URL:https://hangar24brewing.com/event/mug-club-discount-tuesdays-1-off-mug-pours-2-off-growler-pours/2028-02-08/
LOCATION:HANGAR 24 BREWING – REDLANDS\, CA
END:VEVENT
BEGIN:VEVENT
DTSTART;TZID=America/Los_Angeles:20280208T190000
DTEND;TZID=America/Los_Angeles:20280208T220000
DTSTAMP:20260422T221152
CREATED:20250108T063359Z
LAST-MODIFIED:20260219T194135Z
UID:10007554-1833649200-1833660000@hangar24brewing.com
SUMMARY:Trivia Tuesdays (Pour House Trivia!)
DESCRIPTION:
URL:https://hangar24brewing.com/event/trivia-tuesdays-geeks-who-drink-3/2028-02-08/
END:VEVENT
BEGIN:VEVENT
DTSTART;TZID=America/Los_Angeles:20280209T173000
DTEND;TZID=America/Los_Angeles:20280209T193000
DTSTAMP:20260422T221152
CREATED:20251223T204203Z
LAST-MODIFIED:20260220T182628Z
UID:10008099-1833730200-1833737400@hangar24brewing.com
SUMMARY:Bingo Wednesdays!!
DESCRIPTION:
URL:https://hangar24brewing.com/event/bingo-night-2-2/2028-02-09/
LOCATION:HANGAR 24 BREWING – LAKE HAVASU CITY\, CA
CATEGORIES:Lake Havasu City, CA Events
END:VEVENT
BEGIN:VEVENT
DTSTART;TZID=America/Los_Angeles:20280210T180000
DTEND;TZID=America/Los_Angeles:20280210T200000
DTSTAMP:20260422T221152
CREATED:20251223T205854Z
LAST-MODIFIED:20260219T200301Z
UID:10009783-1833818400-1833825600@hangar24brewing.com
SUMMARY:Trivia Thursdays
DESCRIPTION:
URL:https://hangar24brewing.com/event/trivia-night-geeks-who-drink-2-2/2028-02-10/
LOCATION:HANGAR 24 BREWING – LAKE HAVASU CITY\, CA
CATEGORIES:Lake Havasu City, CA Events
END:VEVENT
BEGIN:VEVENT
DTSTART;TZID=America/Los_Angeles:20280210T180000
DTEND;TZID=America/Los_Angeles:20280210T230000
DTSTAMP:20260422T221152
CREATED:20251223T210917Z
LAST-MODIFIED:20260219T194242Z
UID:10007287-1833818400-1833836400@hangar24brewing.com
SUMMARY:College Night (live DJ & games)
DESCRIPTION:
URL:https://hangar24brewing.com/event/college-night-live-dj-games-2/2028-02-10/
END:VEVENT
BEGIN:VEVENT
DTSTART;TZID=America/Los_Angeles:20280210T183000
DTEND;TZID=America/Los_Angeles:20280210T203000
DTSTAMP:20260422T221152
CREATED:20251223T210501Z
LAST-MODIFIED:20260219T195413Z
UID:10011454-1833820200-1833827400@hangar24brewing.com
SUMMARY:Trivia Night
DESCRIPTION:
URL:https://hangar24brewing.com/event/trivia-night-7-2/2028-02-10/
END:VEVENT
BEGIN:VEVENT
DTSTART;TZID=America/Los_Angeles:20280210T190000
DTEND;TZID=America/Los_Angeles:20280210T210000
DTSTAMP:20260422T221152
CREATED:20260207T154408Z
LAST-MODIFIED:20260211T110003Z
UID:10010602-1833822000-1833829200@hangar24brewing.com
SUMMARY:Trivia Night: Epic Pub Quiz
DESCRIPTION:
URL:https://hangar24brewing.com/event/trivia-night-epic-pub-quiz-2/2028-02-10/
LOCATION:HANGAR 24 BREWING – ORANGE COUNTY\, CA
CATEGORIES:Orange County, CA Events
END:VEVENT
BEGIN:VEVENT
DTSTART;TZID=America/Los_Angeles:20280213T110000
DTEND;TZID=America/Los_Angeles:20280213T200000
DTSTAMP:20260422T221152
CREATED:20260211T035305Z
LAST-MODIFIED:20260211T035307Z
UID:10008363-1834052400-1834084800@hangar24brewing.com
SUMMARY:Happy Hour - ALL DAY
DESCRIPTION:
URL:https://hangar24brewing.com/event/happy-hour-all-day-2/2028-02-13/
END:VEVENT
BEGIN:VEVENT
DTSTART;TZID=America/Los_Angeles:20280214T180000
DTEND;TZID=America/Los_Angeles:20280214T200000
DTSTAMP:20260422T221152
CREATED:20260207T153334Z
LAST-MODIFIED:20260211T105548Z
UID:10012343-1834164000-1834171200@hangar24brewing.com
SUMMARY:"Sing Your Heart Out" Karaoke Singles Night
DESCRIPTION:
URL:https://hangar24brewing.com/event/sing-your-heart-out-karaoke-singles-night-3/2028-02-14/
LOCATION:HANGAR 24 BREWING – ORANGE COUNTY\, CA
CATEGORIES:Orange County, CA Events
END:VEVENT
BEGIN:VEVENT
DTSTART;VALUE=DATE:20280215
DTEND;VALUE=DATE:20280216
DTSTAMP:20260422T221152
CREATED:20230411T060633Z
LAST-MODIFIED:20260207T151741Z
UID:10003362-1834185600-1834271999@hangar24brewing.com
SUMMARY:TEACHER TUESDAY (25% OFF)
DESCRIPTION:Mug Club Day & Teacher Tuesday (25% OFF!)
URL:https://hangar24brewing.com/event/mug-club-day-2/2028-02-15/
LOCATION:HANGAR 24 BREWING – REDLANDS\, CA
END:VEVENT
BEGIN:VEVENT
DTSTART;VALUE=DATE:20280215
DTEND;VALUE=DATE:20280216
DTSTAMP:20260422T221152
CREATED:20250904T174742Z
LAST-MODIFIED:20260207T151846Z
UID:10010342-1834185600-1834271999@hangar24brewing.com
SUMMARY:Mug Club Discount Tuesdays ($1 off mug pours\, $2 off growler pours)
DESCRIPTION:
URL:https://hangar24brewing.com/event/mug-club-discount-tuesdays-1-off-mug-pours-2-off-growler-pours/2028-02-15/
LOCATION:HANGAR 24 BREWING – REDLANDS\, CA
END:VEVENT
BEGIN:VEVENT
DTSTART;TZID=America/Los_Angeles:20280215T190000
DTEND;TZID=America/Los_Angeles:20280215T220000
DTSTAMP:20260422T221152
CREATED:20250108T063359Z
LAST-MODIFIED:20260219T194135Z
UID:10007555-1834254000-1834264800@hangar24brewing.com
SUMMARY:Trivia Tuesdays (Pour House Trivia!)
DESCRIPTION:
URL:https://hangar24brewing.com/event/trivia-tuesdays-geeks-who-drink-3/2028-02-15/
END:VEVENT
BEGIN:VEVENT
DTSTART;TZID=America/Los_Angeles:20280216T173000
DTEND;TZID=America/Los_Angeles:20280216T193000
DTSTAMP:20260422T221152
CREATED:20251223T204203Z
LAST-MODIFIED:20260220T182628Z
UID:10008100-1834335000-1834342200@hangar24brewing.com
SUMMARY:Bingo Wednesdays!!
DESCRIPTION:
URL:https://hangar24brewing.com/event/bingo-night-2-2/2028-02-16/
LOCATION:HANGAR 24 BREWING – LAKE HAVASU CITY\, CA
CATEGORIES:Lake Havasu City, CA Events
END:VEVENT
BEGIN:VEVENT
DTSTART;TZID=America/Los_Angeles:20280217T180000
DTEND;TZID=America/Los_Angeles:20280217T200000
DTSTAMP:20260422T221152
CREATED:20251223T205854Z
LAST-MODIFIED:20260219T200301Z
UID:10009784-1834423200-1834430400@hangar24brewing.com
SUMMARY:Trivia Thursdays
DESCRIPTION:
URL:https://hangar24brewing.com/event/trivia-night-geeks-who-drink-2-2/2028-02-17/
LOCATION:HANGAR 24 BREWING – LAKE HAVASU CITY\, CA
CATEGORIES:Lake Havasu City, CA Events
END:VEVENT
BEGIN:VEVENT
DTSTART;TZID=America/Los_Angeles:20280217T180000
DTEND;TZID=America/Los_Angeles:20280217T230000
DTSTAMP:20260422T221152
CREATED:20251223T210917Z
LAST-MODIFIED:20260219T194242Z
UID:10007288-1834423200-1834441200@hangar24brewing.com
SUMMARY:College Night (live DJ & games)
DESCRIPTION:
URL:https://hangar24brewing.com/event/college-night-live-dj-games-2/2028-02-17/
END:VEVENT
BEGIN:VEVENT
DTSTART;TZID=America/Los_Angeles:20280217T183000
DTEND;TZID=America/Los_Angeles:20280217T203000
DTSTAMP:20260422T221152
CREATED:20251223T210501Z
LAST-MODIFIED:20260219T195413Z
UID:10011455-1834425000-1834432200@hangar24brewing.com
SUMMARY:Trivia Night
DESCRIPTION:
URL:https://hangar24brewing.com/event/trivia-night-7-2/2028-02-17/
END:VEVENT
BEGIN:VEVENT
DTSTART;TZID=America/Los_Angeles:20280217T190000
DTEND;TZID=America/Los_Angeles:20280217T210000
DTSTAMP:20260422T221152
CREATED:20260207T154408Z
LAST-MODIFIED:20260211T110003Z
UID:10010603-1834426800-1834434000@hangar24brewing.com
SUMMARY:Trivia Night: Epic Pub Quiz
DESCRIPTION:
URL:https://hangar24brewing.com/event/trivia-night-epic-pub-quiz-2/2028-02-17/
LOCATION:HANGAR 24 BREWING – ORANGE COUNTY\, CA
CATEGORIES:Orange County, CA Events
END:VEVENT
BEGIN:VEVENT
DTSTART;TZID=America/Los_Angeles:20280220T110000
DTEND;TZID=America/Los_Angeles:20280220T200000
DTSTAMP:20260422T221152
CREATED:20260211T035305Z
LAST-MODIFIED:20260211T035307Z
UID:10008364-1834657200-1834689600@hangar24brewing.com
SUMMARY:Happy Hour - ALL DAY
DESCRIPTION:
URL:https://hangar24brewing.com/event/happy-hour-all-day-2/2028-02-20/
END:VEVENT
BEGIN:VEVENT
DTSTART;TZID=America/Los_Angeles:20280221T180000
DTEND;TZID=America/Los_Angeles:20280221T200000
DTSTAMP:20260422T221152
CREATED:20260207T153334Z
LAST-MODIFIED:20260211T105548Z
UID:10012344-1834768800-1834776000@hangar24brewing.com
SUMMARY:"Sing Your Heart Out" Karaoke Singles Night
DESCRIPTION:
URL:https://hangar24brewing.com/event/sing-your-heart-out-karaoke-singles-night-3/2028-02-21/
LOCATION:HANGAR 24 BREWING – ORANGE COUNTY\, CA
CATEGORIES:Orange County, CA Events
END:VEVENT
END:VCALENDAR