BEGIN:VCALENDAR
VERSION:2.0
PRODID:-//Hangar 24 Craft Brewing - ECPv6.15.20//NONSGML v1.0//EN
CALSCALE:GREGORIAN
METHOD:PUBLISH
X-ORIGINAL-URL:https://hangar24brewing.com
X-WR-CALDESC:Events for Hangar 24 Craft Brewing
REFRESH-INTERVAL;VALUE=DURATION:PT1H
X-Robots-Tag:noindex
X-PUBLISHED-TTL:PT1H
BEGIN:VTIMEZONE
TZID:America/Los_Angeles
BEGIN:DAYLIGHT
TZOFFSETFROM:-0800
TZOFFSETTO:-0700
TZNAME:PDT
DTSTART:20270314T100000
END:DAYLIGHT
BEGIN:STANDARD
TZOFFSETFROM:-0700
TZOFFSETTO:-0800
TZNAME:PST
DTSTART:20271107T090000
END:STANDARD
BEGIN:DAYLIGHT
TZOFFSETFROM:-0800
TZOFFSETTO:-0700
TZNAME:PDT
DTSTART:20280312T100000
END:DAYLIGHT
BEGIN:STANDARD
TZOFFSETFROM:-0700
TZOFFSETTO:-0800
TZNAME:PST
DTSTART:20281105T090000
END:STANDARD
BEGIN:DAYLIGHT
TZOFFSETFROM:-0800
TZOFFSETTO:-0700
TZNAME:PDT
DTSTART:20290311T100000
END:DAYLIGHT
BEGIN:STANDARD
TZOFFSETFROM:-0700
TZOFFSETTO:-0800
TZNAME:PST
DTSTART:20291104T090000
END:STANDARD
END:VTIMEZONE
BEGIN:VEVENT
DTSTART;TZID=America/Los_Angeles:20280704T190000
DTEND;TZID=America/Los_Angeles:20280704T220000
DTSTAMP:20260422T225727
CREATED:20250108T063359Z
LAST-MODIFIED:20260219T194135Z
UID:10007575-1846350000-1846360800@hangar24brewing.com
SUMMARY:Trivia Tuesdays (Pour House Trivia!)
DESCRIPTION:
URL:https://hangar24brewing.com/event/trivia-tuesdays-geeks-who-drink-3/2028-07-04/
END:VEVENT
BEGIN:VEVENT
DTSTART;TZID=America/Los_Angeles:20280705T173000
DTEND;TZID=America/Los_Angeles:20280705T193000
DTSTAMP:20260422T225727
CREATED:20251223T204203Z
LAST-MODIFIED:20260220T182628Z
UID:10008120-1846431000-1846438200@hangar24brewing.com
SUMMARY:Bingo Wednesdays!!
DESCRIPTION:
URL:https://hangar24brewing.com/event/bingo-night-2-2/2028-07-05/
LOCATION:HANGAR 24 BREWING – LAKE HAVASU CITY\, CA
CATEGORIES:Lake Havasu City, CA Events
END:VEVENT
BEGIN:VEVENT
DTSTART;TZID=America/Los_Angeles:20280706T180000
DTEND;TZID=America/Los_Angeles:20280706T200000
DTSTAMP:20260422T225727
CREATED:20251223T205854Z
LAST-MODIFIED:20260219T200301Z
UID:10009804-1846519200-1846526400@hangar24brewing.com
SUMMARY:Trivia Thursdays
DESCRIPTION:
URL:https://hangar24brewing.com/event/trivia-night-geeks-who-drink-2-2/2028-07-06/
LOCATION:HANGAR 24 BREWING – LAKE HAVASU CITY\, CA
CATEGORIES:Lake Havasu City, CA Events
END:VEVENT
BEGIN:VEVENT
DTSTART;TZID=America/Los_Angeles:20280706T180000
DTEND;TZID=America/Los_Angeles:20280706T230000
DTSTAMP:20260422T225727
CREATED:20251223T210917Z
LAST-MODIFIED:20260219T194242Z
UID:10007308-1846519200-1846537200@hangar24brewing.com
SUMMARY:College Night (live DJ & games)
DESCRIPTION:
URL:https://hangar24brewing.com/event/college-night-live-dj-games-2/2028-07-06/
END:VEVENT
BEGIN:VEVENT
DTSTART;TZID=America/Los_Angeles:20280706T183000
DTEND;TZID=America/Los_Angeles:20280706T203000
DTSTAMP:20260422T225727
CREATED:20251223T210501Z
LAST-MODIFIED:20260219T195413Z
UID:10011475-1846521000-1846528200@hangar24brewing.com
SUMMARY:Trivia Night
DESCRIPTION:
URL:https://hangar24brewing.com/event/trivia-night-7-2/2028-07-06/
END:VEVENT
BEGIN:VEVENT
DTSTART;TZID=America/Los_Angeles:20280706T190000
DTEND;TZID=America/Los_Angeles:20280706T210000
DTSTAMP:20260422T225727
CREATED:20260207T154408Z
LAST-MODIFIED:20260211T110003Z
UID:10010623-1846522800-1846530000@hangar24brewing.com
SUMMARY:Trivia Night: Epic Pub Quiz
DESCRIPTION:
URL:https://hangar24brewing.com/event/trivia-night-epic-pub-quiz-2/2028-07-06/
LOCATION:HANGAR 24 BREWING – ORANGE COUNTY\, CA
CATEGORIES:Orange County, CA Events
END:VEVENT
BEGIN:VEVENT
DTSTART;TZID=America/Los_Angeles:20280709T110000
DTEND;TZID=America/Los_Angeles:20280709T200000
DTSTAMP:20260422T225727
CREATED:20260211T035305Z
LAST-MODIFIED:20260211T035307Z
UID:10008384-1846753200-1846785600@hangar24brewing.com
SUMMARY:Happy Hour - ALL DAY
DESCRIPTION:
URL:https://hangar24brewing.com/event/happy-hour-all-day-2/2028-07-09/
END:VEVENT
BEGIN:VEVENT
DTSTART;TZID=America/Los_Angeles:20280710T180000
DTEND;TZID=America/Los_Angeles:20280710T200000
DTSTAMP:20260422T225727
CREATED:20260207T153334Z
LAST-MODIFIED:20260211T105548Z
UID:10012364-1846864800-1846872000@hangar24brewing.com
SUMMARY:"Sing Your Heart Out" Karaoke Singles Night
DESCRIPTION:
URL:https://hangar24brewing.com/event/sing-your-heart-out-karaoke-singles-night-3/2028-07-10/
LOCATION:HANGAR 24 BREWING – ORANGE COUNTY\, CA
CATEGORIES:Orange County, CA Events
END:VEVENT
BEGIN:VEVENT
DTSTART;VALUE=DATE:20280711
DTEND;VALUE=DATE:20280712
DTSTAMP:20260422T225727
CREATED:20230411T060633Z
LAST-MODIFIED:20260207T151741Z
UID:10010102-1846886400-1846972799@hangar24brewing.com
SUMMARY:TEACHER TUESDAY (25% OFF)
DESCRIPTION:Mug Club Day & Teacher Tuesday (25% OFF!)
URL:https://hangar24brewing.com/event/mug-club-day-2/2028-07-11/
LOCATION:HANGAR 24 BREWING – REDLANDS\, CA
END:VEVENT
BEGIN:VEVENT
DTSTART;VALUE=DATE:20280711
DTEND;VALUE=DATE:20280712
DTSTAMP:20260422T225727
CREATED:20250904T174742Z
LAST-MODIFIED:20260207T151846Z
UID:10010363-1846886400-1846972799@hangar24brewing.com
SUMMARY:Mug Club Discount Tuesdays ($1 off mug pours\, $2 off growler pours)
DESCRIPTION:
URL:https://hangar24brewing.com/event/mug-club-discount-tuesdays-1-off-mug-pours-2-off-growler-pours/2028-07-11/
LOCATION:HANGAR 24 BREWING – REDLANDS\, CA
END:VEVENT
BEGIN:VEVENT
DTSTART;TZID=America/Los_Angeles:20280711T190000
DTEND;TZID=America/Los_Angeles:20280711T220000
DTSTAMP:20260422T225727
CREATED:20250108T063359Z
LAST-MODIFIED:20260219T194135Z
UID:10007576-1846954800-1846965600@hangar24brewing.com
SUMMARY:Trivia Tuesdays (Pour House Trivia!)
DESCRIPTION:
URL:https://hangar24brewing.com/event/trivia-tuesdays-geeks-who-drink-3/2028-07-11/
END:VEVENT
BEGIN:VEVENT
DTSTART;TZID=America/Los_Angeles:20280712T173000
DTEND;TZID=America/Los_Angeles:20280712T193000
DTSTAMP:20260422T225727
CREATED:20251223T204203Z
LAST-MODIFIED:20260220T182628Z
UID:10008121-1847035800-1847043000@hangar24brewing.com
SUMMARY:Bingo Wednesdays!!
DESCRIPTION:
URL:https://hangar24brewing.com/event/bingo-night-2-2/2028-07-12/
LOCATION:HANGAR 24 BREWING – LAKE HAVASU CITY\, CA
CATEGORIES:Lake Havasu City, CA Events
END:VEVENT
BEGIN:VEVENT
DTSTART;TZID=America/Los_Angeles:20280713T180000
DTEND;TZID=America/Los_Angeles:20280713T200000
DTSTAMP:20260422T225727
CREATED:20251223T205854Z
LAST-MODIFIED:20260219T200301Z
UID:10009805-1847124000-1847131200@hangar24brewing.com
SUMMARY:Trivia Thursdays
DESCRIPTION:
URL:https://hangar24brewing.com/event/trivia-night-geeks-who-drink-2-2/2028-07-13/
LOCATION:HANGAR 24 BREWING – LAKE HAVASU CITY\, CA
CATEGORIES:Lake Havasu City, CA Events
END:VEVENT
BEGIN:VEVENT
DTSTART;TZID=America/Los_Angeles:20280713T180000
DTEND;TZID=America/Los_Angeles:20280713T230000
DTSTAMP:20260422T225727
CREATED:20251223T210917Z
LAST-MODIFIED:20260219T194242Z
UID:10007309-1847124000-1847142000@hangar24brewing.com
SUMMARY:College Night (live DJ & games)
DESCRIPTION:
URL:https://hangar24brewing.com/event/college-night-live-dj-games-2/2028-07-13/
END:VEVENT
BEGIN:VEVENT
DTSTART;TZID=America/Los_Angeles:20280713T183000
DTEND;TZID=America/Los_Angeles:20280713T203000
DTSTAMP:20260422T225727
CREATED:20251223T210501Z
LAST-MODIFIED:20260219T195413Z
UID:10011476-1847125800-1847133000@hangar24brewing.com
SUMMARY:Trivia Night
DESCRIPTION:
URL:https://hangar24brewing.com/event/trivia-night-7-2/2028-07-13/
END:VEVENT
BEGIN:VEVENT
DTSTART;TZID=America/Los_Angeles:20280713T190000
DTEND;TZID=America/Los_Angeles:20280713T210000
DTSTAMP:20260422T225727
CREATED:20260207T154408Z
LAST-MODIFIED:20260211T110003Z
UID:10010624-1847127600-1847134800@hangar24brewing.com
SUMMARY:Trivia Night: Epic Pub Quiz
DESCRIPTION:
URL:https://hangar24brewing.com/event/trivia-night-epic-pub-quiz-2/2028-07-13/
LOCATION:HANGAR 24 BREWING – ORANGE COUNTY\, CA
CATEGORIES:Orange County, CA Events
END:VEVENT
BEGIN:VEVENT
DTSTART;TZID=America/Los_Angeles:20280716T110000
DTEND;TZID=America/Los_Angeles:20280716T200000
DTSTAMP:20260422T225727
CREATED:20260211T035305Z
LAST-MODIFIED:20260211T035307Z
UID:10008385-1847358000-1847390400@hangar24brewing.com
SUMMARY:Happy Hour - ALL DAY
DESCRIPTION:
URL:https://hangar24brewing.com/event/happy-hour-all-day-2/2028-07-16/
END:VEVENT
BEGIN:VEVENT
DTSTART;TZID=America/Los_Angeles:20280717T180000
DTEND;TZID=America/Los_Angeles:20280717T200000
DTSTAMP:20260422T225727
CREATED:20260207T153334Z
LAST-MODIFIED:20260211T105548Z
UID:10012365-1847469600-1847476800@hangar24brewing.com
SUMMARY:"Sing Your Heart Out" Karaoke Singles Night
DESCRIPTION:
URL:https://hangar24brewing.com/event/sing-your-heart-out-karaoke-singles-night-3/2028-07-17/
LOCATION:HANGAR 24 BREWING – ORANGE COUNTY\, CA
CATEGORIES:Orange County, CA Events
END:VEVENT
BEGIN:VEVENT
DTSTART;VALUE=DATE:20280718
DTEND;VALUE=DATE:20280719
DTSTAMP:20260422T225727
CREATED:20230411T060633Z
LAST-MODIFIED:20260207T151741Z
UID:10010103-1847491200-1847577599@hangar24brewing.com
SUMMARY:TEACHER TUESDAY (25% OFF)
DESCRIPTION:Mug Club Day & Teacher Tuesday (25% OFF!)
URL:https://hangar24brewing.com/event/mug-club-day-2/2028-07-18/
LOCATION:HANGAR 24 BREWING – REDLANDS\, CA
END:VEVENT
BEGIN:VEVENT
DTSTART;VALUE=DATE:20280718
DTEND;VALUE=DATE:20280719
DTSTAMP:20260422T225727
CREATED:20250904T174742Z
LAST-MODIFIED:20260207T151846Z
UID:10010364-1847491200-1847577599@hangar24brewing.com
SUMMARY:Mug Club Discount Tuesdays ($1 off mug pours\, $2 off growler pours)
DESCRIPTION:
URL:https://hangar24brewing.com/event/mug-club-discount-tuesdays-1-off-mug-pours-2-off-growler-pours/2028-07-18/
LOCATION:HANGAR 24 BREWING – REDLANDS\, CA
END:VEVENT
BEGIN:VEVENT
DTSTART;TZID=America/Los_Angeles:20280718T190000
DTEND;TZID=America/Los_Angeles:20280718T220000
DTSTAMP:20260422T225727
CREATED:20250108T063359Z
LAST-MODIFIED:20260219T194135Z
UID:10007577-1847559600-1847570400@hangar24brewing.com
SUMMARY:Trivia Tuesdays (Pour House Trivia!)
DESCRIPTION:
URL:https://hangar24brewing.com/event/trivia-tuesdays-geeks-who-drink-3/2028-07-18/
END:VEVENT
BEGIN:VEVENT
DTSTART;TZID=America/Los_Angeles:20280719T173000
DTEND;TZID=America/Los_Angeles:20280719T193000
DTSTAMP:20260422T225727
CREATED:20251223T204203Z
LAST-MODIFIED:20260220T182628Z
UID:10008122-1847640600-1847647800@hangar24brewing.com
SUMMARY:Bingo Wednesdays!!
DESCRIPTION:
URL:https://hangar24brewing.com/event/bingo-night-2-2/2028-07-19/
LOCATION:HANGAR 24 BREWING – LAKE HAVASU CITY\, CA
CATEGORIES:Lake Havasu City, CA Events
END:VEVENT
BEGIN:VEVENT
DTSTART;TZID=America/Los_Angeles:20280720T180000
DTEND;TZID=America/Los_Angeles:20280720T200000
DTSTAMP:20260422T225727
CREATED:20251223T205854Z
LAST-MODIFIED:20260219T200301Z
UID:10009806-1847728800-1847736000@hangar24brewing.com
SUMMARY:Trivia Thursdays
DESCRIPTION:
URL:https://hangar24brewing.com/event/trivia-night-geeks-who-drink-2-2/2028-07-20/
LOCATION:HANGAR 24 BREWING – LAKE HAVASU CITY\, CA
CATEGORIES:Lake Havasu City, CA Events
END:VEVENT
BEGIN:VEVENT
DTSTART;TZID=America/Los_Angeles:20280720T180000
DTEND;TZID=America/Los_Angeles:20280720T230000
DTSTAMP:20260422T225727
CREATED:20251223T210917Z
LAST-MODIFIED:20260219T194242Z
UID:10007310-1847728800-1847746800@hangar24brewing.com
SUMMARY:College Night (live DJ & games)
DESCRIPTION:
URL:https://hangar24brewing.com/event/college-night-live-dj-games-2/2028-07-20/
END:VEVENT
BEGIN:VEVENT
DTSTART;TZID=America/Los_Angeles:20280720T183000
DTEND;TZID=America/Los_Angeles:20280720T203000
DTSTAMP:20260422T225727
CREATED:20251223T210501Z
LAST-MODIFIED:20260219T195413Z
UID:10011477-1847730600-1847737800@hangar24brewing.com
SUMMARY:Trivia Night
DESCRIPTION:
URL:https://hangar24brewing.com/event/trivia-night-7-2/2028-07-20/
END:VEVENT
BEGIN:VEVENT
DTSTART;TZID=America/Los_Angeles:20280720T190000
DTEND;TZID=America/Los_Angeles:20280720T210000
DTSTAMP:20260422T225727
CREATED:20260207T154408Z
LAST-MODIFIED:20260211T110003Z
UID:10010625-1847732400-1847739600@hangar24brewing.com
SUMMARY:Trivia Night: Epic Pub Quiz
DESCRIPTION:
URL:https://hangar24brewing.com/event/trivia-night-epic-pub-quiz-2/2028-07-20/
LOCATION:HANGAR 24 BREWING – ORANGE COUNTY\, CA
CATEGORIES:Orange County, CA Events
END:VEVENT
BEGIN:VEVENT
DTSTART;TZID=America/Los_Angeles:20280723T110000
DTEND;TZID=America/Los_Angeles:20280723T200000
DTSTAMP:20260422T225727
CREATED:20260211T035305Z
LAST-MODIFIED:20260211T035307Z
UID:10008386-1847962800-1847995200@hangar24brewing.com
SUMMARY:Happy Hour - ALL DAY
DESCRIPTION:
URL:https://hangar24brewing.com/event/happy-hour-all-day-2/2028-07-23/
END:VEVENT
BEGIN:VEVENT
DTSTART;TZID=America/Los_Angeles:20280724T180000
DTEND;TZID=America/Los_Angeles:20280724T200000
DTSTAMP:20260422T225727
CREATED:20260207T153334Z
LAST-MODIFIED:20260211T105548Z
UID:10012366-1848074400-1848081600@hangar24brewing.com
SUMMARY:"Sing Your Heart Out" Karaoke Singles Night
DESCRIPTION:
URL:https://hangar24brewing.com/event/sing-your-heart-out-karaoke-singles-night-3/2028-07-24/
LOCATION:HANGAR 24 BREWING – ORANGE COUNTY\, CA
CATEGORIES:Orange County, CA Events
END:VEVENT
BEGIN:VEVENT
DTSTART;VALUE=DATE:20280725
DTEND;VALUE=DATE:20280726
DTSTAMP:20260422T225727
CREATED:20230411T060633Z
LAST-MODIFIED:20260207T151741Z
UID:10010104-1848096000-1848182399@hangar24brewing.com
SUMMARY:TEACHER TUESDAY (25% OFF)
DESCRIPTION:Mug Club Day & Teacher Tuesday (25% OFF!)
URL:https://hangar24brewing.com/event/mug-club-day-2/2028-07-25/
LOCATION:HANGAR 24 BREWING – REDLANDS\, CA
END:VEVENT
BEGIN:VEVENT
DTSTART;VALUE=DATE:20280725
DTEND;VALUE=DATE:20280726
DTSTAMP:20260422T225727
CREATED:20250904T174742Z
LAST-MODIFIED:20260207T151846Z
UID:10010365-1848096000-1848182399@hangar24brewing.com
SUMMARY:Mug Club Discount Tuesdays ($1 off mug pours\, $2 off growler pours)
DESCRIPTION:
URL:https://hangar24brewing.com/event/mug-club-discount-tuesdays-1-off-mug-pours-2-off-growler-pours/2028-07-25/
LOCATION:HANGAR 24 BREWING – REDLANDS\, CA
END:VEVENT
END:VCALENDAR