BEGIN:VCALENDAR
VERSION:2.0
PRODID:-//Hangar 24 Craft Brewing - ECPv6.15.20//NONSGML v1.0//EN
CALSCALE:GREGORIAN
METHOD:PUBLISH
X-ORIGINAL-URL:https://hangar24brewing.com
X-WR-CALDESC:Events for Hangar 24 Craft Brewing
REFRESH-INTERVAL;VALUE=DURATION:PT1H
X-Robots-Tag:noindex
X-PUBLISHED-TTL:PT1H
BEGIN:VTIMEZONE
TZID:America/Los_Angeles
BEGIN:DAYLIGHT
TZOFFSETFROM:-0800
TZOFFSETTO:-0700
TZNAME:PDT
DTSTART:20270314T100000
END:DAYLIGHT
BEGIN:STANDARD
TZOFFSETFROM:-0700
TZOFFSETTO:-0800
TZNAME:PST
DTSTART:20271107T090000
END:STANDARD
BEGIN:DAYLIGHT
TZOFFSETFROM:-0800
TZOFFSETTO:-0700
TZNAME:PDT
DTSTART:20280312T100000
END:DAYLIGHT
BEGIN:STANDARD
TZOFFSETFROM:-0700
TZOFFSETTO:-0800
TZNAME:PST
DTSTART:20281105T090000
END:STANDARD
BEGIN:DAYLIGHT
TZOFFSETFROM:-0800
TZOFFSETTO:-0700
TZNAME:PDT
DTSTART:20290311T100000
END:DAYLIGHT
BEGIN:STANDARD
TZOFFSETFROM:-0700
TZOFFSETTO:-0800
TZNAME:PST
DTSTART:20291104T090000
END:STANDARD
END:VTIMEZONE
BEGIN:VEVENT
DTSTART;VALUE=DATE:20280229
DTEND;VALUE=DATE:20280301
DTSTAMP:20260423T021735
CREATED:20230411T060633Z
LAST-MODIFIED:20260207T151741Z
UID:10003364-1835395200-1835481599@hangar24brewing.com
SUMMARY:TEACHER TUESDAY (25% OFF)
DESCRIPTION:Mug Club Day & Teacher Tuesday (25% OFF!)
URL:https://hangar24brewing.com/event/mug-club-day-2/2028-02-29/
LOCATION:HANGAR 24 BREWING – REDLANDS\, CA
END:VEVENT
BEGIN:VEVENT
DTSTART;VALUE=DATE:20280229
DTEND;VALUE=DATE:20280301
DTSTAMP:20260423T021735
CREATED:20250904T174742Z
LAST-MODIFIED:20260207T151846Z
UID:10010344-1835395200-1835481599@hangar24brewing.com
SUMMARY:Mug Club Discount Tuesdays ($1 off mug pours\, $2 off growler pours)
DESCRIPTION:
URL:https://hangar24brewing.com/event/mug-club-discount-tuesdays-1-off-mug-pours-2-off-growler-pours/2028-02-29/
LOCATION:HANGAR 24 BREWING – REDLANDS\, CA
END:VEVENT
BEGIN:VEVENT
DTSTART;TZID=America/Los_Angeles:20280229T190000
DTEND;TZID=America/Los_Angeles:20280229T220000
DTSTAMP:20260423T021735
CREATED:20250108T063359Z
LAST-MODIFIED:20260219T194135Z
UID:10007557-1835463600-1835474400@hangar24brewing.com
SUMMARY:Trivia Tuesdays (Pour House Trivia!)
DESCRIPTION:
URL:https://hangar24brewing.com/event/trivia-tuesdays-geeks-who-drink-3/2028-02-29/
END:VEVENT
BEGIN:VEVENT
DTSTART;TZID=America/Los_Angeles:20280301T173000
DTEND;TZID=America/Los_Angeles:20280301T193000
DTSTAMP:20260423T021735
CREATED:20251223T204203Z
LAST-MODIFIED:20260220T182628Z
UID:10008102-1835544600-1835551800@hangar24brewing.com
SUMMARY:Bingo Wednesdays!!
DESCRIPTION:
URL:https://hangar24brewing.com/event/bingo-night-2-2/2028-03-01/
LOCATION:HANGAR 24 BREWING – LAKE HAVASU CITY\, CA
CATEGORIES:Lake Havasu City, CA Events
END:VEVENT
BEGIN:VEVENT
DTSTART;TZID=America/Los_Angeles:20280302T180000
DTEND;TZID=America/Los_Angeles:20280302T200000
DTSTAMP:20260423T021735
CREATED:20251223T205854Z
LAST-MODIFIED:20260219T200301Z
UID:10009786-1835632800-1835640000@hangar24brewing.com
SUMMARY:Trivia Thursdays
DESCRIPTION:
URL:https://hangar24brewing.com/event/trivia-night-geeks-who-drink-2-2/2028-03-02/
LOCATION:HANGAR 24 BREWING – LAKE HAVASU CITY\, CA
CATEGORIES:Lake Havasu City, CA Events
END:VEVENT
BEGIN:VEVENT
DTSTART;TZID=America/Los_Angeles:20280302T180000
DTEND;TZID=America/Los_Angeles:20280302T230000
DTSTAMP:20260423T021736
CREATED:20251223T210917Z
LAST-MODIFIED:20260219T194242Z
UID:10007290-1835632800-1835650800@hangar24brewing.com
SUMMARY:College Night (live DJ & games)
DESCRIPTION:
URL:https://hangar24brewing.com/event/college-night-live-dj-games-2/2028-03-02/
END:VEVENT
BEGIN:VEVENT
DTSTART;TZID=America/Los_Angeles:20280302T183000
DTEND;TZID=America/Los_Angeles:20280302T203000
DTSTAMP:20260423T021736
CREATED:20251223T210501Z
LAST-MODIFIED:20260219T195413Z
UID:10011457-1835634600-1835641800@hangar24brewing.com
SUMMARY:Trivia Night
DESCRIPTION:
URL:https://hangar24brewing.com/event/trivia-night-7-2/2028-03-02/
END:VEVENT
BEGIN:VEVENT
DTSTART;TZID=America/Los_Angeles:20280302T190000
DTEND;TZID=America/Los_Angeles:20280302T210000
DTSTAMP:20260423T021736
CREATED:20260207T154408Z
LAST-MODIFIED:20260211T110003Z
UID:10010605-1835636400-1835643600@hangar24brewing.com
SUMMARY:Trivia Night: Epic Pub Quiz
DESCRIPTION:
URL:https://hangar24brewing.com/event/trivia-night-epic-pub-quiz-2/2028-03-02/
LOCATION:HANGAR 24 BREWING – ORANGE COUNTY\, CA
CATEGORIES:Orange County, CA Events
END:VEVENT
BEGIN:VEVENT
DTSTART;TZID=America/Los_Angeles:20280305T110000
DTEND;TZID=America/Los_Angeles:20280305T200000
DTSTAMP:20260423T021736
CREATED:20260211T035305Z
LAST-MODIFIED:20260211T035307Z
UID:10008366-1835866800-1835899200@hangar24brewing.com
SUMMARY:Happy Hour - ALL DAY
DESCRIPTION:
URL:https://hangar24brewing.com/event/happy-hour-all-day-2/2028-03-05/
END:VEVENT
BEGIN:VEVENT
DTSTART;TZID=America/Los_Angeles:20280306T180000
DTEND;TZID=America/Los_Angeles:20280306T200000
DTSTAMP:20260423T021736
CREATED:20260207T153334Z
LAST-MODIFIED:20260211T105548Z
UID:10012346-1835978400-1835985600@hangar24brewing.com
SUMMARY:"Sing Your Heart Out" Karaoke Singles Night
DESCRIPTION:
URL:https://hangar24brewing.com/event/sing-your-heart-out-karaoke-singles-night-3/2028-03-06/
LOCATION:HANGAR 24 BREWING – ORANGE COUNTY\, CA
CATEGORIES:Orange County, CA Events
END:VEVENT
BEGIN:VEVENT
DTSTART;VALUE=DATE:20280307
DTEND;VALUE=DATE:20280308
DTSTAMP:20260423T021736
CREATED:20230411T060633Z
LAST-MODIFIED:20260207T151741Z
UID:10003365-1836000000-1836086399@hangar24brewing.com
SUMMARY:TEACHER TUESDAY (25% OFF)
DESCRIPTION:Mug Club Day & Teacher Tuesday (25% OFF!)
URL:https://hangar24brewing.com/event/mug-club-day-2/2028-03-07/
LOCATION:HANGAR 24 BREWING – REDLANDS\, CA
END:VEVENT
BEGIN:VEVENT
DTSTART;VALUE=DATE:20280307
DTEND;VALUE=DATE:20280308
DTSTAMP:20260423T021736
CREATED:20250904T174742Z
LAST-MODIFIED:20260207T151846Z
UID:10010345-1836000000-1836086399@hangar24brewing.com
SUMMARY:Mug Club Discount Tuesdays ($1 off mug pours\, $2 off growler pours)
DESCRIPTION:
URL:https://hangar24brewing.com/event/mug-club-discount-tuesdays-1-off-mug-pours-2-off-growler-pours/2028-03-07/
LOCATION:HANGAR 24 BREWING – REDLANDS\, CA
END:VEVENT
BEGIN:VEVENT
DTSTART;TZID=America/Los_Angeles:20280307T190000
DTEND;TZID=America/Los_Angeles:20280307T220000
DTSTAMP:20260423T021736
CREATED:20250108T063359Z
LAST-MODIFIED:20260219T194135Z
UID:10007558-1836068400-1836079200@hangar24brewing.com
SUMMARY:Trivia Tuesdays (Pour House Trivia!)
DESCRIPTION:
URL:https://hangar24brewing.com/event/trivia-tuesdays-geeks-who-drink-3/2028-03-07/
END:VEVENT
BEGIN:VEVENT
DTSTART;TZID=America/Los_Angeles:20280308T173000
DTEND;TZID=America/Los_Angeles:20280308T193000
DTSTAMP:20260423T021736
CREATED:20251223T204203Z
LAST-MODIFIED:20260220T182628Z
UID:10008103-1836149400-1836156600@hangar24brewing.com
SUMMARY:Bingo Wednesdays!!
DESCRIPTION:
URL:https://hangar24brewing.com/event/bingo-night-2-2/2028-03-08/
LOCATION:HANGAR 24 BREWING – LAKE HAVASU CITY\, CA
CATEGORIES:Lake Havasu City, CA Events
END:VEVENT
BEGIN:VEVENT
DTSTART;TZID=America/Los_Angeles:20280309T180000
DTEND;TZID=America/Los_Angeles:20280309T200000
DTSTAMP:20260423T021736
CREATED:20251223T205854Z
LAST-MODIFIED:20260219T200301Z
UID:10009787-1836237600-1836244800@hangar24brewing.com
SUMMARY:Trivia Thursdays
DESCRIPTION:
URL:https://hangar24brewing.com/event/trivia-night-geeks-who-drink-2-2/2028-03-09/
LOCATION:HANGAR 24 BREWING – LAKE HAVASU CITY\, CA
CATEGORIES:Lake Havasu City, CA Events
END:VEVENT
BEGIN:VEVENT
DTSTART;TZID=America/Los_Angeles:20280309T180000
DTEND;TZID=America/Los_Angeles:20280309T230000
DTSTAMP:20260423T021736
CREATED:20251223T210917Z
LAST-MODIFIED:20260219T194242Z
UID:10007291-1836237600-1836255600@hangar24brewing.com
SUMMARY:College Night (live DJ & games)
DESCRIPTION:
URL:https://hangar24brewing.com/event/college-night-live-dj-games-2/2028-03-09/
END:VEVENT
BEGIN:VEVENT
DTSTART;TZID=America/Los_Angeles:20280309T183000
DTEND;TZID=America/Los_Angeles:20280309T203000
DTSTAMP:20260423T021736
CREATED:20251223T210501Z
LAST-MODIFIED:20260219T195413Z
UID:10011458-1836239400-1836246600@hangar24brewing.com
SUMMARY:Trivia Night
DESCRIPTION:
URL:https://hangar24brewing.com/event/trivia-night-7-2/2028-03-09/
END:VEVENT
BEGIN:VEVENT
DTSTART;TZID=America/Los_Angeles:20280309T190000
DTEND;TZID=America/Los_Angeles:20280309T210000
DTSTAMP:20260423T021736
CREATED:20260207T154408Z
LAST-MODIFIED:20260211T110003Z
UID:10010606-1836241200-1836248400@hangar24brewing.com
SUMMARY:Trivia Night: Epic Pub Quiz
DESCRIPTION:
URL:https://hangar24brewing.com/event/trivia-night-epic-pub-quiz-2/2028-03-09/
LOCATION:HANGAR 24 BREWING – ORANGE COUNTY\, CA
CATEGORIES:Orange County, CA Events
END:VEVENT
BEGIN:VEVENT
DTSTART;TZID=America/Los_Angeles:20280312T110000
DTEND;TZID=America/Los_Angeles:20280312T200000
DTSTAMP:20260423T021736
CREATED:20260211T035305Z
LAST-MODIFIED:20260211T035307Z
UID:10008367-1836471600-1836504000@hangar24brewing.com
SUMMARY:Happy Hour - ALL DAY
DESCRIPTION:
URL:https://hangar24brewing.com/event/happy-hour-all-day-2/2028-03-12/
END:VEVENT
BEGIN:VEVENT
DTSTART;TZID=America/Los_Angeles:20280313T180000
DTEND;TZID=America/Los_Angeles:20280313T200000
DTSTAMP:20260423T021736
CREATED:20260207T153334Z
LAST-MODIFIED:20260211T105548Z
UID:10012347-1836583200-1836590400@hangar24brewing.com
SUMMARY:"Sing Your Heart Out" Karaoke Singles Night
DESCRIPTION:
URL:https://hangar24brewing.com/event/sing-your-heart-out-karaoke-singles-night-3/2028-03-13/
LOCATION:HANGAR 24 BREWING – ORANGE COUNTY\, CA
CATEGORIES:Orange County, CA Events
END:VEVENT
BEGIN:VEVENT
DTSTART;VALUE=DATE:20280314
DTEND;VALUE=DATE:20280315
DTSTAMP:20260423T021736
CREATED:20230411T060633Z
LAST-MODIFIED:20260207T151741Z
UID:10003366-1836604800-1836691199@hangar24brewing.com
SUMMARY:TEACHER TUESDAY (25% OFF)
DESCRIPTION:Mug Club Day & Teacher Tuesday (25% OFF!)
URL:https://hangar24brewing.com/event/mug-club-day-2/2028-03-14/
LOCATION:HANGAR 24 BREWING – REDLANDS\, CA
END:VEVENT
BEGIN:VEVENT
DTSTART;VALUE=DATE:20280314
DTEND;VALUE=DATE:20280315
DTSTAMP:20260423T021736
CREATED:20250904T174742Z
LAST-MODIFIED:20260207T151846Z
UID:10010346-1836604800-1836691199@hangar24brewing.com
SUMMARY:Mug Club Discount Tuesdays ($1 off mug pours\, $2 off growler pours)
DESCRIPTION:
URL:https://hangar24brewing.com/event/mug-club-discount-tuesdays-1-off-mug-pours-2-off-growler-pours/2028-03-14/
LOCATION:HANGAR 24 BREWING – REDLANDS\, CA
END:VEVENT
BEGIN:VEVENT
DTSTART;TZID=America/Los_Angeles:20280314T190000
DTEND;TZID=America/Los_Angeles:20280314T220000
DTSTAMP:20260423T021736
CREATED:20250108T063359Z
LAST-MODIFIED:20260219T194135Z
UID:10007559-1836673200-1836684000@hangar24brewing.com
SUMMARY:Trivia Tuesdays (Pour House Trivia!)
DESCRIPTION:
URL:https://hangar24brewing.com/event/trivia-tuesdays-geeks-who-drink-3/2028-03-14/
END:VEVENT
BEGIN:VEVENT
DTSTART;TZID=America/Los_Angeles:20280315T173000
DTEND;TZID=America/Los_Angeles:20280315T193000
DTSTAMP:20260423T021736
CREATED:20251223T204203Z
LAST-MODIFIED:20260220T182628Z
UID:10008104-1836754200-1836761400@hangar24brewing.com
SUMMARY:Bingo Wednesdays!!
DESCRIPTION:
URL:https://hangar24brewing.com/event/bingo-night-2-2/2028-03-15/
LOCATION:HANGAR 24 BREWING – LAKE HAVASU CITY\, CA
CATEGORIES:Lake Havasu City, CA Events
END:VEVENT
BEGIN:VEVENT
DTSTART;TZID=America/Los_Angeles:20280316T180000
DTEND;TZID=America/Los_Angeles:20280316T200000
DTSTAMP:20260423T021736
CREATED:20251223T205854Z
LAST-MODIFIED:20260219T200301Z
UID:10009788-1836842400-1836849600@hangar24brewing.com
SUMMARY:Trivia Thursdays
DESCRIPTION:
URL:https://hangar24brewing.com/event/trivia-night-geeks-who-drink-2-2/2028-03-16/
LOCATION:HANGAR 24 BREWING – LAKE HAVASU CITY\, CA
CATEGORIES:Lake Havasu City, CA Events
END:VEVENT
BEGIN:VEVENT
DTSTART;TZID=America/Los_Angeles:20280316T180000
DTEND;TZID=America/Los_Angeles:20280316T230000
DTSTAMP:20260423T021736
CREATED:20251223T210917Z
LAST-MODIFIED:20260219T194242Z
UID:10007292-1836842400-1836860400@hangar24brewing.com
SUMMARY:College Night (live DJ & games)
DESCRIPTION:
URL:https://hangar24brewing.com/event/college-night-live-dj-games-2/2028-03-16/
END:VEVENT
BEGIN:VEVENT
DTSTART;TZID=America/Los_Angeles:20280316T183000
DTEND;TZID=America/Los_Angeles:20280316T203000
DTSTAMP:20260423T021736
CREATED:20251223T210501Z
LAST-MODIFIED:20260219T195413Z
UID:10011459-1836844200-1836851400@hangar24brewing.com
SUMMARY:Trivia Night
DESCRIPTION:
URL:https://hangar24brewing.com/event/trivia-night-7-2/2028-03-16/
END:VEVENT
BEGIN:VEVENT
DTSTART;TZID=America/Los_Angeles:20280316T190000
DTEND;TZID=America/Los_Angeles:20280316T210000
DTSTAMP:20260423T021736
CREATED:20260207T154408Z
LAST-MODIFIED:20260211T110003Z
UID:10010607-1836846000-1836853200@hangar24brewing.com
SUMMARY:Trivia Night: Epic Pub Quiz
DESCRIPTION:
URL:https://hangar24brewing.com/event/trivia-night-epic-pub-quiz-2/2028-03-16/
LOCATION:HANGAR 24 BREWING – ORANGE COUNTY\, CA
CATEGORIES:Orange County, CA Events
END:VEVENT
BEGIN:VEVENT
DTSTART;TZID=America/Los_Angeles:20280319T110000
DTEND;TZID=America/Los_Angeles:20280319T200000
DTSTAMP:20260423T021736
CREATED:20260211T035305Z
LAST-MODIFIED:20260211T035307Z
UID:10008368-1837076400-1837108800@hangar24brewing.com
SUMMARY:Happy Hour - ALL DAY
DESCRIPTION:
URL:https://hangar24brewing.com/event/happy-hour-all-day-2/2028-03-19/
END:VEVENT
BEGIN:VEVENT
DTSTART;TZID=America/Los_Angeles:20280320T180000
DTEND;TZID=America/Los_Angeles:20280320T200000
DTSTAMP:20260423T021736
CREATED:20260207T153334Z
LAST-MODIFIED:20260211T105548Z
UID:10012348-1837188000-1837195200@hangar24brewing.com
SUMMARY:"Sing Your Heart Out" Karaoke Singles Night
DESCRIPTION:
URL:https://hangar24brewing.com/event/sing-your-heart-out-karaoke-singles-night-3/2028-03-20/
LOCATION:HANGAR 24 BREWING – ORANGE COUNTY\, CA
CATEGORIES:Orange County, CA Events
END:VEVENT
END:VCALENDAR