BEGIN:VCALENDAR
VERSION:2.0
PRODID:-//Hangar 24 Craft Brewing - ECPv6.15.20//NONSGML v1.0//EN
CALSCALE:GREGORIAN
METHOD:PUBLISH
X-WR-CALNAME:Hangar 24 Craft Brewing
X-ORIGINAL-URL:https://hangar24brewing.com
X-WR-CALDESC:Events for Hangar 24 Craft Brewing
REFRESH-INTERVAL;VALUE=DURATION:PT1H
X-Robots-Tag:noindex
X-PUBLISHED-TTL:PT1H
BEGIN:VTIMEZONE
TZID:America/Los_Angeles
BEGIN:DAYLIGHT
TZOFFSETFROM:-0800
TZOFFSETTO:-0700
TZNAME:PDT
DTSTART:20270314T100000
END:DAYLIGHT
BEGIN:STANDARD
TZOFFSETFROM:-0700
TZOFFSETTO:-0800
TZNAME:PST
DTSTART:20271107T090000
END:STANDARD
BEGIN:DAYLIGHT
TZOFFSETFROM:-0800
TZOFFSETTO:-0700
TZNAME:PDT
DTSTART:20280312T100000
END:DAYLIGHT
BEGIN:STANDARD
TZOFFSETFROM:-0700
TZOFFSETTO:-0800
TZNAME:PST
DTSTART:20281105T090000
END:STANDARD
BEGIN:DAYLIGHT
TZOFFSETFROM:-0800
TZOFFSETTO:-0700
TZNAME:PDT
DTSTART:20290311T100000
END:DAYLIGHT
BEGIN:STANDARD
TZOFFSETFROM:-0700
TZOFFSETTO:-0800
TZNAME:PST
DTSTART:20291104T090000
END:STANDARD
END:VTIMEZONE
BEGIN:VEVENT
DTSTART;TZID=America/Los_Angeles:20281002T180000
DTEND;TZID=America/Los_Angeles:20281002T200000
DTSTAMP:20260425T040915
CREATED:20260207T153334Z
LAST-MODIFIED:20260211T105548Z
UID:10012376-1854122400-1854129600@hangar24brewing.com
SUMMARY:"Sing Your Heart Out" Karaoke Singles Night
DESCRIPTION:
URL:https://hangar24brewing.com/event/sing-your-heart-out-karaoke-singles-night-3/2028-10-02/
LOCATION:HANGAR 24 BREWING – ORANGE COUNTY\, CA
CATEGORIES:Orange County, CA Events
END:VEVENT
BEGIN:VEVENT
DTSTART;VALUE=DATE:20281003
DTEND;VALUE=DATE:20281004
DTSTAMP:20260425T040915
CREATED:20230411T060633Z
LAST-MODIFIED:20260207T151741Z
UID:10010114-1854144000-1854230399@hangar24brewing.com
SUMMARY:TEACHER TUESDAY (25% OFF)
DESCRIPTION:Mug Club Day & Teacher Tuesday (25% OFF!)
URL:https://hangar24brewing.com/event/mug-club-day-2/2028-10-03/
LOCATION:HANGAR 24 BREWING – REDLANDS\, CA
END:VEVENT
BEGIN:VEVENT
DTSTART;VALUE=DATE:20281003
DTEND;VALUE=DATE:20281004
DTSTAMP:20260425T040915
CREATED:20250904T174742Z
LAST-MODIFIED:20260207T151846Z
UID:10010375-1854144000-1854230399@hangar24brewing.com
SUMMARY:Mug Club Discount Tuesdays ($1 off mug pours\, $2 off growler pours)
DESCRIPTION:
URL:https://hangar24brewing.com/event/mug-club-discount-tuesdays-1-off-mug-pours-2-off-growler-pours/2028-10-03/
LOCATION:HANGAR 24 BREWING – REDLANDS\, CA
END:VEVENT
BEGIN:VEVENT
DTSTART;TZID=America/Los_Angeles:20281003T190000
DTEND;TZID=America/Los_Angeles:20281003T220000
DTSTAMP:20260425T040915
CREATED:20250108T063359Z
LAST-MODIFIED:20260219T194135Z
UID:10007588-1854212400-1854223200@hangar24brewing.com
SUMMARY:Trivia Tuesdays (Pour House Trivia!)
DESCRIPTION:
URL:https://hangar24brewing.com/event/trivia-tuesdays-geeks-who-drink-3/2028-10-03/
END:VEVENT
BEGIN:VEVENT
DTSTART;TZID=America/Los_Angeles:20281004T173000
DTEND;TZID=America/Los_Angeles:20281004T193000
DTSTAMP:20260425T040915
CREATED:20251223T204203Z
LAST-MODIFIED:20260220T182628Z
UID:10008133-1854293400-1854300600@hangar24brewing.com
SUMMARY:Bingo Wednesdays!!
DESCRIPTION:
URL:https://hangar24brewing.com/event/bingo-night-2-2/2028-10-04/
LOCATION:HANGAR 24 BREWING – LAKE HAVASU CITY\, CA
CATEGORIES:Lake Havasu City, CA Events
END:VEVENT
BEGIN:VEVENT
DTSTART;TZID=America/Los_Angeles:20281005T180000
DTEND;TZID=America/Los_Angeles:20281005T200000
DTSTAMP:20260425T040915
CREATED:20251223T205854Z
LAST-MODIFIED:20260219T200301Z
UID:10009817-1854381600-1854388800@hangar24brewing.com
SUMMARY:Trivia Thursdays
DESCRIPTION:
URL:https://hangar24brewing.com/event/trivia-night-geeks-who-drink-2-2/2028-10-05/
LOCATION:HANGAR 24 BREWING – LAKE HAVASU CITY\, CA
CATEGORIES:Lake Havasu City, CA Events
END:VEVENT
BEGIN:VEVENT
DTSTART;TZID=America/Los_Angeles:20281005T180000
DTEND;TZID=America/Los_Angeles:20281005T230000
DTSTAMP:20260425T040915
CREATED:20251223T210917Z
LAST-MODIFIED:20260219T194242Z
UID:10007321-1854381600-1854399600@hangar24brewing.com
SUMMARY:College Night (live DJ & games)
DESCRIPTION:
URL:https://hangar24brewing.com/event/college-night-live-dj-games-2/2028-10-05/
END:VEVENT
BEGIN:VEVENT
DTSTART;TZID=America/Los_Angeles:20281005T183000
DTEND;TZID=America/Los_Angeles:20281005T203000
DTSTAMP:20260425T040915
CREATED:20251223T210501Z
LAST-MODIFIED:20260219T195413Z
UID:10011488-1854383400-1854390600@hangar24brewing.com
SUMMARY:Trivia Night
DESCRIPTION:
URL:https://hangar24brewing.com/event/trivia-night-7-2/2028-10-05/
END:VEVENT
BEGIN:VEVENT
DTSTART;TZID=America/Los_Angeles:20281005T190000
DTEND;TZID=America/Los_Angeles:20281005T210000
DTSTAMP:20260425T040915
CREATED:20260207T154408Z
LAST-MODIFIED:20260211T110003Z
UID:10010636-1854385200-1854392400@hangar24brewing.com
SUMMARY:Trivia Night: Epic Pub Quiz
DESCRIPTION:
URL:https://hangar24brewing.com/event/trivia-night-epic-pub-quiz-2/2028-10-05/
LOCATION:HANGAR 24 BREWING – ORANGE COUNTY\, CA
CATEGORIES:Orange County, CA Events
END:VEVENT
BEGIN:VEVENT
DTSTART;TZID=America/Los_Angeles:20281008T110000
DTEND;TZID=America/Los_Angeles:20281008T200000
DTSTAMP:20260425T040915
CREATED:20260211T035305Z
LAST-MODIFIED:20260211T035307Z
UID:10008397-1854615600-1854648000@hangar24brewing.com
SUMMARY:Happy Hour - ALL DAY
DESCRIPTION:
URL:https://hangar24brewing.com/event/happy-hour-all-day-2/2028-10-08/
END:VEVENT
BEGIN:VEVENT
DTSTART;TZID=America/Los_Angeles:20281009T180000
DTEND;TZID=America/Los_Angeles:20281009T200000
DTSTAMP:20260425T040915
CREATED:20260207T153334Z
LAST-MODIFIED:20260211T105548Z
UID:10012377-1854727200-1854734400@hangar24brewing.com
SUMMARY:"Sing Your Heart Out" Karaoke Singles Night
DESCRIPTION:
URL:https://hangar24brewing.com/event/sing-your-heart-out-karaoke-singles-night-3/2028-10-09/
LOCATION:HANGAR 24 BREWING – ORANGE COUNTY\, CA
CATEGORIES:Orange County, CA Events
END:VEVENT
BEGIN:VEVENT
DTSTART;VALUE=DATE:20281010
DTEND;VALUE=DATE:20281011
DTSTAMP:20260425T040915
CREATED:20230411T060633Z
LAST-MODIFIED:20260207T151741Z
UID:10010115-1854748800-1854835199@hangar24brewing.com
SUMMARY:TEACHER TUESDAY (25% OFF)
DESCRIPTION:Mug Club Day & Teacher Tuesday (25% OFF!)
URL:https://hangar24brewing.com/event/mug-club-day-2/2028-10-10/
LOCATION:HANGAR 24 BREWING – REDLANDS\, CA
END:VEVENT
BEGIN:VEVENT
DTSTART;VALUE=DATE:20281010
DTEND;VALUE=DATE:20281011
DTSTAMP:20260425T040915
CREATED:20250904T174742Z
LAST-MODIFIED:20260207T151846Z
UID:10010376-1854748800-1854835199@hangar24brewing.com
SUMMARY:Mug Club Discount Tuesdays ($1 off mug pours\, $2 off growler pours)
DESCRIPTION:
URL:https://hangar24brewing.com/event/mug-club-discount-tuesdays-1-off-mug-pours-2-off-growler-pours/2028-10-10/
LOCATION:HANGAR 24 BREWING – REDLANDS\, CA
END:VEVENT
BEGIN:VEVENT
DTSTART;TZID=America/Los_Angeles:20281010T190000
DTEND;TZID=America/Los_Angeles:20281010T220000
DTSTAMP:20260425T040915
CREATED:20250108T063359Z
LAST-MODIFIED:20260219T194135Z
UID:10007589-1854817200-1854828000@hangar24brewing.com
SUMMARY:Trivia Tuesdays (Pour House Trivia!)
DESCRIPTION:
URL:https://hangar24brewing.com/event/trivia-tuesdays-geeks-who-drink-3/2028-10-10/
END:VEVENT
BEGIN:VEVENT
DTSTART;TZID=America/Los_Angeles:20281011T173000
DTEND;TZID=America/Los_Angeles:20281011T193000
DTSTAMP:20260425T040915
CREATED:20251223T204203Z
LAST-MODIFIED:20260220T182628Z
UID:10008134-1854898200-1854905400@hangar24brewing.com
SUMMARY:Bingo Wednesdays!!
DESCRIPTION:
URL:https://hangar24brewing.com/event/bingo-night-2-2/2028-10-11/
LOCATION:HANGAR 24 BREWING – LAKE HAVASU CITY\, CA
CATEGORIES:Lake Havasu City, CA Events
END:VEVENT
BEGIN:VEVENT
DTSTART;TZID=America/Los_Angeles:20281012T180000
DTEND;TZID=America/Los_Angeles:20281012T200000
DTSTAMP:20260425T040915
CREATED:20251223T205854Z
LAST-MODIFIED:20260219T200301Z
UID:10009818-1854986400-1854993600@hangar24brewing.com
SUMMARY:Trivia Thursdays
DESCRIPTION:
URL:https://hangar24brewing.com/event/trivia-night-geeks-who-drink-2-2/2028-10-12/
LOCATION:HANGAR 24 BREWING – LAKE HAVASU CITY\, CA
CATEGORIES:Lake Havasu City, CA Events
END:VEVENT
BEGIN:VEVENT
DTSTART;TZID=America/Los_Angeles:20281012T180000
DTEND;TZID=America/Los_Angeles:20281012T230000
DTSTAMP:20260425T040915
CREATED:20251223T210917Z
LAST-MODIFIED:20260219T194242Z
UID:10007322-1854986400-1855004400@hangar24brewing.com
SUMMARY:College Night (live DJ & games)
DESCRIPTION:
URL:https://hangar24brewing.com/event/college-night-live-dj-games-2/2028-10-12/
END:VEVENT
BEGIN:VEVENT
DTSTART;TZID=America/Los_Angeles:20281012T183000
DTEND;TZID=America/Los_Angeles:20281012T203000
DTSTAMP:20260425T040915
CREATED:20251223T210501Z
LAST-MODIFIED:20260219T195413Z
UID:10011489-1854988200-1854995400@hangar24brewing.com
SUMMARY:Trivia Night
DESCRIPTION:
URL:https://hangar24brewing.com/event/trivia-night-7-2/2028-10-12/
END:VEVENT
BEGIN:VEVENT
DTSTART;TZID=America/Los_Angeles:20281012T190000
DTEND;TZID=America/Los_Angeles:20281012T210000
DTSTAMP:20260425T040915
CREATED:20260207T154408Z
LAST-MODIFIED:20260211T110003Z
UID:10010637-1854990000-1854997200@hangar24brewing.com
SUMMARY:Trivia Night: Epic Pub Quiz
DESCRIPTION:
URL:https://hangar24brewing.com/event/trivia-night-epic-pub-quiz-2/2028-10-12/
LOCATION:HANGAR 24 BREWING – ORANGE COUNTY\, CA
CATEGORIES:Orange County, CA Events
END:VEVENT
BEGIN:VEVENT
DTSTART;TZID=America/Los_Angeles:20281015T110000
DTEND;TZID=America/Los_Angeles:20281015T200000
DTSTAMP:20260425T040915
CREATED:20260211T035305Z
LAST-MODIFIED:20260211T035307Z
UID:10008398-1855220400-1855252800@hangar24brewing.com
SUMMARY:Happy Hour - ALL DAY
DESCRIPTION:
URL:https://hangar24brewing.com/event/happy-hour-all-day-2/2028-10-15/
END:VEVENT
BEGIN:VEVENT
DTSTART;TZID=America/Los_Angeles:20281016T180000
DTEND;TZID=America/Los_Angeles:20281016T200000
DTSTAMP:20260425T040915
CREATED:20260207T153334Z
LAST-MODIFIED:20260211T105548Z
UID:10012378-1855332000-1855339200@hangar24brewing.com
SUMMARY:"Sing Your Heart Out" Karaoke Singles Night
DESCRIPTION:
URL:https://hangar24brewing.com/event/sing-your-heart-out-karaoke-singles-night-3/2028-10-16/
LOCATION:HANGAR 24 BREWING – ORANGE COUNTY\, CA
CATEGORIES:Orange County, CA Events
END:VEVENT
BEGIN:VEVENT
DTSTART;VALUE=DATE:20281017
DTEND;VALUE=DATE:20281018
DTSTAMP:20260425T040915
CREATED:20230411T060633Z
LAST-MODIFIED:20260207T151741Z
UID:10010116-1855353600-1855439999@hangar24brewing.com
SUMMARY:TEACHER TUESDAY (25% OFF)
DESCRIPTION:Mug Club Day & Teacher Tuesday (25% OFF!)
URL:https://hangar24brewing.com/event/mug-club-day-2/2028-10-17/
LOCATION:HANGAR 24 BREWING – REDLANDS\, CA
END:VEVENT
BEGIN:VEVENT
DTSTART;VALUE=DATE:20281017
DTEND;VALUE=DATE:20281018
DTSTAMP:20260425T040915
CREATED:20250904T174742Z
LAST-MODIFIED:20260207T151846Z
UID:10010377-1855353600-1855439999@hangar24brewing.com
SUMMARY:Mug Club Discount Tuesdays ($1 off mug pours\, $2 off growler pours)
DESCRIPTION:
URL:https://hangar24brewing.com/event/mug-club-discount-tuesdays-1-off-mug-pours-2-off-growler-pours/2028-10-17/
LOCATION:HANGAR 24 BREWING – REDLANDS\, CA
END:VEVENT
BEGIN:VEVENT
DTSTART;TZID=America/Los_Angeles:20281017T190000
DTEND;TZID=America/Los_Angeles:20281017T220000
DTSTAMP:20260425T040915
CREATED:20250108T063359Z
LAST-MODIFIED:20260219T194135Z
UID:10007590-1855422000-1855432800@hangar24brewing.com
SUMMARY:Trivia Tuesdays (Pour House Trivia!)
DESCRIPTION:
URL:https://hangar24brewing.com/event/trivia-tuesdays-geeks-who-drink-3/2028-10-17/
END:VEVENT
BEGIN:VEVENT
DTSTART;TZID=America/Los_Angeles:20281018T173000
DTEND;TZID=America/Los_Angeles:20281018T193000
DTSTAMP:20260425T040915
CREATED:20251223T204203Z
LAST-MODIFIED:20260220T182628Z
UID:10008135-1855503000-1855510200@hangar24brewing.com
SUMMARY:Bingo Wednesdays!!
DESCRIPTION:
URL:https://hangar24brewing.com/event/bingo-night-2-2/2028-10-18/
LOCATION:HANGAR 24 BREWING – LAKE HAVASU CITY\, CA
CATEGORIES:Lake Havasu City, CA Events
END:VEVENT
BEGIN:VEVENT
DTSTART;TZID=America/Los_Angeles:20281019T180000
DTEND;TZID=America/Los_Angeles:20281019T200000
DTSTAMP:20260425T040915
CREATED:20251223T205854Z
LAST-MODIFIED:20260219T200301Z
UID:10009819-1855591200-1855598400@hangar24brewing.com
SUMMARY:Trivia Thursdays
DESCRIPTION:
URL:https://hangar24brewing.com/event/trivia-night-geeks-who-drink-2-2/2028-10-19/
LOCATION:HANGAR 24 BREWING – LAKE HAVASU CITY\, CA
CATEGORIES:Lake Havasu City, CA Events
END:VEVENT
BEGIN:VEVENT
DTSTART;TZID=America/Los_Angeles:20281019T180000
DTEND;TZID=America/Los_Angeles:20281019T230000
DTSTAMP:20260425T040915
CREATED:20251223T210917Z
LAST-MODIFIED:20260219T194242Z
UID:10007323-1855591200-1855609200@hangar24brewing.com
SUMMARY:College Night (live DJ & games)
DESCRIPTION:
URL:https://hangar24brewing.com/event/college-night-live-dj-games-2/2028-10-19/
END:VEVENT
BEGIN:VEVENT
DTSTART;TZID=America/Los_Angeles:20281019T183000
DTEND;TZID=America/Los_Angeles:20281019T203000
DTSTAMP:20260425T040915
CREATED:20251223T210501Z
LAST-MODIFIED:20260219T195413Z
UID:10011490-1855593000-1855600200@hangar24brewing.com
SUMMARY:Trivia Night
DESCRIPTION:
URL:https://hangar24brewing.com/event/trivia-night-7-2/2028-10-19/
END:VEVENT
BEGIN:VEVENT
DTSTART;TZID=America/Los_Angeles:20281019T190000
DTEND;TZID=America/Los_Angeles:20281019T210000
DTSTAMP:20260425T040915
CREATED:20260207T154408Z
LAST-MODIFIED:20260211T110003Z
UID:10010638-1855594800-1855602000@hangar24brewing.com
SUMMARY:Trivia Night: Epic Pub Quiz
DESCRIPTION:
URL:https://hangar24brewing.com/event/trivia-night-epic-pub-quiz-2/2028-10-19/
LOCATION:HANGAR 24 BREWING – ORANGE COUNTY\, CA
CATEGORIES:Orange County, CA Events
END:VEVENT
BEGIN:VEVENT
DTSTART;TZID=America/Los_Angeles:20281022T110000
DTEND;TZID=America/Los_Angeles:20281022T200000
DTSTAMP:20260425T040915
CREATED:20260211T035305Z
LAST-MODIFIED:20260211T035307Z
UID:10008399-1855825200-1855857600@hangar24brewing.com
SUMMARY:Happy Hour - ALL DAY
DESCRIPTION:
URL:https://hangar24brewing.com/event/happy-hour-all-day-2/2028-10-22/
END:VEVENT
END:VCALENDAR