BEGIN:VCALENDAR
VERSION:2.0
PRODID:-//Hangar 24 Craft Brewing - ECPv6.15.20//NONSGML v1.0//EN
CALSCALE:GREGORIAN
METHOD:PUBLISH
X-ORIGINAL-URL:https://hangar24brewing.com
X-WR-CALDESC:Events for Hangar 24 Craft Brewing
REFRESH-INTERVAL;VALUE=DURATION:PT1H
X-Robots-Tag:noindex
X-PUBLISHED-TTL:PT1H
BEGIN:VTIMEZONE
TZID:America/Los_Angeles
BEGIN:DAYLIGHT
TZOFFSETFROM:-0800
TZOFFSETTO:-0700
TZNAME:PDT
DTSTART:20270314T100000
END:DAYLIGHT
BEGIN:STANDARD
TZOFFSETFROM:-0700
TZOFFSETTO:-0800
TZNAME:PST
DTSTART:20271107T090000
END:STANDARD
BEGIN:DAYLIGHT
TZOFFSETFROM:-0800
TZOFFSETTO:-0700
TZNAME:PDT
DTSTART:20280312T100000
END:DAYLIGHT
BEGIN:STANDARD
TZOFFSETFROM:-0700
TZOFFSETTO:-0800
TZNAME:PST
DTSTART:20281105T090000
END:STANDARD
BEGIN:DAYLIGHT
TZOFFSETFROM:-0800
TZOFFSETTO:-0700
TZNAME:PDT
DTSTART:20290311T100000
END:DAYLIGHT
BEGIN:STANDARD
TZOFFSETFROM:-0700
TZOFFSETTO:-0800
TZNAME:PST
DTSTART:20291104T090000
END:STANDARD
END:VTIMEZONE
BEGIN:VEVENT
DTSTART;TZID=America/Los_Angeles:20280718T190000
DTEND;TZID=America/Los_Angeles:20280718T220000
DTSTAMP:20260423T004202
CREATED:20250108T063359Z
LAST-MODIFIED:20260219T194135Z
UID:10007577-1847559600-1847570400@hangar24brewing.com
SUMMARY:Trivia Tuesdays (Pour House Trivia!)
DESCRIPTION:
URL:https://hangar24brewing.com/event/trivia-tuesdays-geeks-who-drink-3/2028-07-18/
END:VEVENT
BEGIN:VEVENT
DTSTART;TZID=America/Los_Angeles:20280719T173000
DTEND;TZID=America/Los_Angeles:20280719T193000
DTSTAMP:20260423T004202
CREATED:20251223T204203Z
LAST-MODIFIED:20260220T182628Z
UID:10008122-1847640600-1847647800@hangar24brewing.com
SUMMARY:Bingo Wednesdays!!
DESCRIPTION:
URL:https://hangar24brewing.com/event/bingo-night-2-2/2028-07-19/
LOCATION:HANGAR 24 BREWING – LAKE HAVASU CITY\, CA
CATEGORIES:Lake Havasu City, CA Events
END:VEVENT
BEGIN:VEVENT
DTSTART;TZID=America/Los_Angeles:20280720T180000
DTEND;TZID=America/Los_Angeles:20280720T200000
DTSTAMP:20260423T004202
CREATED:20251223T205854Z
LAST-MODIFIED:20260219T200301Z
UID:10009806-1847728800-1847736000@hangar24brewing.com
SUMMARY:Trivia Thursdays
DESCRIPTION:
URL:https://hangar24brewing.com/event/trivia-night-geeks-who-drink-2-2/2028-07-20/
LOCATION:HANGAR 24 BREWING – LAKE HAVASU CITY\, CA
CATEGORIES:Lake Havasu City, CA Events
END:VEVENT
BEGIN:VEVENT
DTSTART;TZID=America/Los_Angeles:20280720T180000
DTEND;TZID=America/Los_Angeles:20280720T230000
DTSTAMP:20260423T004202
CREATED:20251223T210917Z
LAST-MODIFIED:20260219T194242Z
UID:10007310-1847728800-1847746800@hangar24brewing.com
SUMMARY:College Night (live DJ & games)
DESCRIPTION:
URL:https://hangar24brewing.com/event/college-night-live-dj-games-2/2028-07-20/
END:VEVENT
BEGIN:VEVENT
DTSTART;TZID=America/Los_Angeles:20280720T183000
DTEND;TZID=America/Los_Angeles:20280720T203000
DTSTAMP:20260423T004202
CREATED:20251223T210501Z
LAST-MODIFIED:20260219T195413Z
UID:10011477-1847730600-1847737800@hangar24brewing.com
SUMMARY:Trivia Night
DESCRIPTION:
URL:https://hangar24brewing.com/event/trivia-night-7-2/2028-07-20/
END:VEVENT
BEGIN:VEVENT
DTSTART;TZID=America/Los_Angeles:20280720T190000
DTEND;TZID=America/Los_Angeles:20280720T210000
DTSTAMP:20260423T004202
CREATED:20260207T154408Z
LAST-MODIFIED:20260211T110003Z
UID:10010625-1847732400-1847739600@hangar24brewing.com
SUMMARY:Trivia Night: Epic Pub Quiz
DESCRIPTION:
URL:https://hangar24brewing.com/event/trivia-night-epic-pub-quiz-2/2028-07-20/
LOCATION:HANGAR 24 BREWING – ORANGE COUNTY\, CA
CATEGORIES:Orange County, CA Events
END:VEVENT
BEGIN:VEVENT
DTSTART;TZID=America/Los_Angeles:20280723T110000
DTEND;TZID=America/Los_Angeles:20280723T200000
DTSTAMP:20260423T004202
CREATED:20260211T035305Z
LAST-MODIFIED:20260211T035307Z
UID:10008386-1847962800-1847995200@hangar24brewing.com
SUMMARY:Happy Hour - ALL DAY
DESCRIPTION:
URL:https://hangar24brewing.com/event/happy-hour-all-day-2/2028-07-23/
END:VEVENT
BEGIN:VEVENT
DTSTART;TZID=America/Los_Angeles:20280724T180000
DTEND;TZID=America/Los_Angeles:20280724T200000
DTSTAMP:20260423T004202
CREATED:20260207T153334Z
LAST-MODIFIED:20260211T105548Z
UID:10012366-1848074400-1848081600@hangar24brewing.com
SUMMARY:"Sing Your Heart Out" Karaoke Singles Night
DESCRIPTION:
URL:https://hangar24brewing.com/event/sing-your-heart-out-karaoke-singles-night-3/2028-07-24/
LOCATION:HANGAR 24 BREWING – ORANGE COUNTY\, CA
CATEGORIES:Orange County, CA Events
END:VEVENT
BEGIN:VEVENT
DTSTART;VALUE=DATE:20280725
DTEND;VALUE=DATE:20280726
DTSTAMP:20260423T004202
CREATED:20230411T060633Z
LAST-MODIFIED:20260207T151741Z
UID:10010104-1848096000-1848182399@hangar24brewing.com
SUMMARY:TEACHER TUESDAY (25% OFF)
DESCRIPTION:Mug Club Day & Teacher Tuesday (25% OFF!)
URL:https://hangar24brewing.com/event/mug-club-day-2/2028-07-25/
LOCATION:HANGAR 24 BREWING – REDLANDS\, CA
END:VEVENT
BEGIN:VEVENT
DTSTART;VALUE=DATE:20280725
DTEND;VALUE=DATE:20280726
DTSTAMP:20260423T004202
CREATED:20250904T174742Z
LAST-MODIFIED:20260207T151846Z
UID:10010365-1848096000-1848182399@hangar24brewing.com
SUMMARY:Mug Club Discount Tuesdays ($1 off mug pours\, $2 off growler pours)
DESCRIPTION:
URL:https://hangar24brewing.com/event/mug-club-discount-tuesdays-1-off-mug-pours-2-off-growler-pours/2028-07-25/
LOCATION:HANGAR 24 BREWING – REDLANDS\, CA
END:VEVENT
BEGIN:VEVENT
DTSTART;TZID=America/Los_Angeles:20280725T190000
DTEND;TZID=America/Los_Angeles:20280725T220000
DTSTAMP:20260423T004202
CREATED:20250108T063359Z
LAST-MODIFIED:20260219T194135Z
UID:10007578-1848164400-1848175200@hangar24brewing.com
SUMMARY:Trivia Tuesdays (Pour House Trivia!)
DESCRIPTION:
URL:https://hangar24brewing.com/event/trivia-tuesdays-geeks-who-drink-3/2028-07-25/
END:VEVENT
BEGIN:VEVENT
DTSTART;TZID=America/Los_Angeles:20280726T173000
DTEND;TZID=America/Los_Angeles:20280726T193000
DTSTAMP:20260423T004202
CREATED:20251223T204203Z
LAST-MODIFIED:20260220T182628Z
UID:10008123-1848245400-1848252600@hangar24brewing.com
SUMMARY:Bingo Wednesdays!!
DESCRIPTION:
URL:https://hangar24brewing.com/event/bingo-night-2-2/2028-07-26/
LOCATION:HANGAR 24 BREWING – LAKE HAVASU CITY\, CA
CATEGORIES:Lake Havasu City, CA Events
END:VEVENT
BEGIN:VEVENT
DTSTART;TZID=America/Los_Angeles:20280727T180000
DTEND;TZID=America/Los_Angeles:20280727T200000
DTSTAMP:20260423T004202
CREATED:20251223T205854Z
LAST-MODIFIED:20260219T200301Z
UID:10009807-1848333600-1848340800@hangar24brewing.com
SUMMARY:Trivia Thursdays
DESCRIPTION:
URL:https://hangar24brewing.com/event/trivia-night-geeks-who-drink-2-2/2028-07-27/
LOCATION:HANGAR 24 BREWING – LAKE HAVASU CITY\, CA
CATEGORIES:Lake Havasu City, CA Events
END:VEVENT
BEGIN:VEVENT
DTSTART;TZID=America/Los_Angeles:20280727T180000
DTEND;TZID=America/Los_Angeles:20280727T230000
DTSTAMP:20260423T004202
CREATED:20251223T210917Z
LAST-MODIFIED:20260219T194242Z
UID:10007311-1848333600-1848351600@hangar24brewing.com
SUMMARY:College Night (live DJ & games)
DESCRIPTION:
URL:https://hangar24brewing.com/event/college-night-live-dj-games-2/2028-07-27/
END:VEVENT
BEGIN:VEVENT
DTSTART;TZID=America/Los_Angeles:20280727T183000
DTEND;TZID=America/Los_Angeles:20280727T203000
DTSTAMP:20260423T004202
CREATED:20251223T210501Z
LAST-MODIFIED:20260219T195413Z
UID:10011478-1848335400-1848342600@hangar24brewing.com
SUMMARY:Trivia Night
DESCRIPTION:
URL:https://hangar24brewing.com/event/trivia-night-7-2/2028-07-27/
END:VEVENT
BEGIN:VEVENT
DTSTART;TZID=America/Los_Angeles:20280727T190000
DTEND;TZID=America/Los_Angeles:20280727T210000
DTSTAMP:20260423T004202
CREATED:20260207T154408Z
LAST-MODIFIED:20260211T110003Z
UID:10010626-1848337200-1848344400@hangar24brewing.com
SUMMARY:Trivia Night: Epic Pub Quiz
DESCRIPTION:
URL:https://hangar24brewing.com/event/trivia-night-epic-pub-quiz-2/2028-07-27/
LOCATION:HANGAR 24 BREWING – ORANGE COUNTY\, CA
CATEGORIES:Orange County, CA Events
END:VEVENT
BEGIN:VEVENT
DTSTART;TZID=America/Los_Angeles:20280730T110000
DTEND;TZID=America/Los_Angeles:20280730T200000
DTSTAMP:20260423T004202
CREATED:20260211T035305Z
LAST-MODIFIED:20260211T035307Z
UID:10008387-1848567600-1848600000@hangar24brewing.com
SUMMARY:Happy Hour - ALL DAY
DESCRIPTION:
URL:https://hangar24brewing.com/event/happy-hour-all-day-2/2028-07-30/
END:VEVENT
BEGIN:VEVENT
DTSTART;TZID=America/Los_Angeles:20280731T180000
DTEND;TZID=America/Los_Angeles:20280731T200000
DTSTAMP:20260423T004202
CREATED:20260207T153334Z
LAST-MODIFIED:20260211T105548Z
UID:10012367-1848679200-1848686400@hangar24brewing.com
SUMMARY:"Sing Your Heart Out" Karaoke Singles Night
DESCRIPTION:
URL:https://hangar24brewing.com/event/sing-your-heart-out-karaoke-singles-night-3/2028-07-31/
LOCATION:HANGAR 24 BREWING – ORANGE COUNTY\, CA
CATEGORIES:Orange County, CA Events
END:VEVENT
BEGIN:VEVENT
DTSTART;VALUE=DATE:20280801
DTEND;VALUE=DATE:20280802
DTSTAMP:20260423T004202
CREATED:20230411T060633Z
LAST-MODIFIED:20260207T151741Z
UID:10010105-1848700800-1848787199@hangar24brewing.com
SUMMARY:TEACHER TUESDAY (25% OFF)
DESCRIPTION:Mug Club Day & Teacher Tuesday (25% OFF!)
URL:https://hangar24brewing.com/event/mug-club-day-2/2028-08-01/
LOCATION:HANGAR 24 BREWING – REDLANDS\, CA
END:VEVENT
BEGIN:VEVENT
DTSTART;VALUE=DATE:20280801
DTEND;VALUE=DATE:20280802
DTSTAMP:20260423T004202
CREATED:20250904T174742Z
LAST-MODIFIED:20260207T151846Z
UID:10010366-1848700800-1848787199@hangar24brewing.com
SUMMARY:Mug Club Discount Tuesdays ($1 off mug pours\, $2 off growler pours)
DESCRIPTION:
URL:https://hangar24brewing.com/event/mug-club-discount-tuesdays-1-off-mug-pours-2-off-growler-pours/2028-08-01/
LOCATION:HANGAR 24 BREWING – REDLANDS\, CA
END:VEVENT
BEGIN:VEVENT
DTSTART;TZID=America/Los_Angeles:20280801T190000
DTEND;TZID=America/Los_Angeles:20280801T220000
DTSTAMP:20260423T004202
CREATED:20250108T063359Z
LAST-MODIFIED:20260219T194135Z
UID:10007579-1848769200-1848780000@hangar24brewing.com
SUMMARY:Trivia Tuesdays (Pour House Trivia!)
DESCRIPTION:
URL:https://hangar24brewing.com/event/trivia-tuesdays-geeks-who-drink-3/2028-08-01/
END:VEVENT
BEGIN:VEVENT
DTSTART;TZID=America/Los_Angeles:20280802T173000
DTEND;TZID=America/Los_Angeles:20280802T193000
DTSTAMP:20260423T004202
CREATED:20251223T204203Z
LAST-MODIFIED:20260220T182628Z
UID:10008124-1848850200-1848857400@hangar24brewing.com
SUMMARY:Bingo Wednesdays!!
DESCRIPTION:
URL:https://hangar24brewing.com/event/bingo-night-2-2/2028-08-02/
LOCATION:HANGAR 24 BREWING – LAKE HAVASU CITY\, CA
CATEGORIES:Lake Havasu City, CA Events
END:VEVENT
BEGIN:VEVENT
DTSTART;TZID=America/Los_Angeles:20280803T180000
DTEND;TZID=America/Los_Angeles:20280803T200000
DTSTAMP:20260423T004202
CREATED:20251223T205854Z
LAST-MODIFIED:20260219T200301Z
UID:10009808-1848938400-1848945600@hangar24brewing.com
SUMMARY:Trivia Thursdays
DESCRIPTION:
URL:https://hangar24brewing.com/event/trivia-night-geeks-who-drink-2-2/2028-08-03/
LOCATION:HANGAR 24 BREWING – LAKE HAVASU CITY\, CA
CATEGORIES:Lake Havasu City, CA Events
END:VEVENT
BEGIN:VEVENT
DTSTART;TZID=America/Los_Angeles:20280803T180000
DTEND;TZID=America/Los_Angeles:20280803T230000
DTSTAMP:20260423T004202
CREATED:20251223T210917Z
LAST-MODIFIED:20260219T194242Z
UID:10007312-1848938400-1848956400@hangar24brewing.com
SUMMARY:College Night (live DJ & games)
DESCRIPTION:
URL:https://hangar24brewing.com/event/college-night-live-dj-games-2/2028-08-03/
END:VEVENT
BEGIN:VEVENT
DTSTART;TZID=America/Los_Angeles:20280803T183000
DTEND;TZID=America/Los_Angeles:20280803T203000
DTSTAMP:20260423T004202
CREATED:20251223T210501Z
LAST-MODIFIED:20260219T195413Z
UID:10011479-1848940200-1848947400@hangar24brewing.com
SUMMARY:Trivia Night
DESCRIPTION:
URL:https://hangar24brewing.com/event/trivia-night-7-2/2028-08-03/
END:VEVENT
BEGIN:VEVENT
DTSTART;TZID=America/Los_Angeles:20280803T190000
DTEND;TZID=America/Los_Angeles:20280803T210000
DTSTAMP:20260423T004202
CREATED:20260207T154408Z
LAST-MODIFIED:20260211T110003Z
UID:10010627-1848942000-1848949200@hangar24brewing.com
SUMMARY:Trivia Night: Epic Pub Quiz
DESCRIPTION:
URL:https://hangar24brewing.com/event/trivia-night-epic-pub-quiz-2/2028-08-03/
LOCATION:HANGAR 24 BREWING – ORANGE COUNTY\, CA
CATEGORIES:Orange County, CA Events
END:VEVENT
BEGIN:VEVENT
DTSTART;TZID=America/Los_Angeles:20280806T110000
DTEND;TZID=America/Los_Angeles:20280806T200000
DTSTAMP:20260423T004202
CREATED:20260211T035305Z
LAST-MODIFIED:20260211T035307Z
UID:10008388-1849172400-1849204800@hangar24brewing.com
SUMMARY:Happy Hour - ALL DAY
DESCRIPTION:
URL:https://hangar24brewing.com/event/happy-hour-all-day-2/2028-08-06/
END:VEVENT
BEGIN:VEVENT
DTSTART;TZID=America/Los_Angeles:20280807T180000
DTEND;TZID=America/Los_Angeles:20280807T200000
DTSTAMP:20260423T004202
CREATED:20260207T153334Z
LAST-MODIFIED:20260211T105548Z
UID:10012368-1849284000-1849291200@hangar24brewing.com
SUMMARY:"Sing Your Heart Out" Karaoke Singles Night
DESCRIPTION:
URL:https://hangar24brewing.com/event/sing-your-heart-out-karaoke-singles-night-3/2028-08-07/
LOCATION:HANGAR 24 BREWING – ORANGE COUNTY\, CA
CATEGORIES:Orange County, CA Events
END:VEVENT
BEGIN:VEVENT
DTSTART;VALUE=DATE:20280808
DTEND;VALUE=DATE:20280809
DTSTAMP:20260423T004202
CREATED:20230411T060633Z
LAST-MODIFIED:20260207T151741Z
UID:10010106-1849305600-1849391999@hangar24brewing.com
SUMMARY:TEACHER TUESDAY (25% OFF)
DESCRIPTION:Mug Club Day & Teacher Tuesday (25% OFF!)
URL:https://hangar24brewing.com/event/mug-club-day-2/2028-08-08/
LOCATION:HANGAR 24 BREWING – REDLANDS\, CA
END:VEVENT
BEGIN:VEVENT
DTSTART;VALUE=DATE:20280808
DTEND;VALUE=DATE:20280809
DTSTAMP:20260423T004202
CREATED:20250904T174742Z
LAST-MODIFIED:20260207T151846Z
UID:10010367-1849305600-1849391999@hangar24brewing.com
SUMMARY:Mug Club Discount Tuesdays ($1 off mug pours\, $2 off growler pours)
DESCRIPTION:
URL:https://hangar24brewing.com/event/mug-club-discount-tuesdays-1-off-mug-pours-2-off-growler-pours/2028-08-08/
LOCATION:HANGAR 24 BREWING – REDLANDS\, CA
END:VEVENT
END:VCALENDAR