BEGIN:VCALENDAR
VERSION:2.0
PRODID:-//Hangar 24 Craft Brewing - ECPv6.15.20//NONSGML v1.0//EN
CALSCALE:GREGORIAN
METHOD:PUBLISH
X-WR-CALNAME:Hangar 24 Craft Brewing
X-ORIGINAL-URL:https://hangar24brewing.com
X-WR-CALDESC:Events for Hangar 24 Craft Brewing
REFRESH-INTERVAL;VALUE=DURATION:PT1H
X-Robots-Tag:noindex
X-PUBLISHED-TTL:PT1H
BEGIN:VTIMEZONE
TZID:America/Los_Angeles
BEGIN:DAYLIGHT
TZOFFSETFROM:-0800
TZOFFSETTO:-0700
TZNAME:PDT
DTSTART:20270314T100000
END:DAYLIGHT
BEGIN:STANDARD
TZOFFSETFROM:-0700
TZOFFSETTO:-0800
TZNAME:PST
DTSTART:20271107T090000
END:STANDARD
BEGIN:DAYLIGHT
TZOFFSETFROM:-0800
TZOFFSETTO:-0700
TZNAME:PDT
DTSTART:20280312T100000
END:DAYLIGHT
BEGIN:STANDARD
TZOFFSETFROM:-0700
TZOFFSETTO:-0800
TZNAME:PST
DTSTART:20281105T090000
END:STANDARD
BEGIN:DAYLIGHT
TZOFFSETFROM:-0800
TZOFFSETTO:-0700
TZNAME:PDT
DTSTART:20290311T100000
END:DAYLIGHT
BEGIN:STANDARD
TZOFFSETFROM:-0700
TZOFFSETTO:-0800
TZNAME:PST
DTSTART:20291104T090000
END:STANDARD
END:VTIMEZONE
BEGIN:VEVENT
DTSTART;TZID=America/Los_Angeles:20281030T180000
DTEND;TZID=America/Los_Angeles:20281030T200000
DTSTAMP:20260425T072059
CREATED:20260207T153334Z
LAST-MODIFIED:20260211T105548Z
UID:10012380-1856541600-1856548800@hangar24brewing.com
SUMMARY:"Sing Your Heart Out" Karaoke Singles Night
DESCRIPTION:
URL:https://hangar24brewing.com/event/sing-your-heart-out-karaoke-singles-night-3/2028-10-30/
LOCATION:HANGAR 24 BREWING – ORANGE COUNTY\, CA
CATEGORIES:Orange County, CA Events
END:VEVENT
BEGIN:VEVENT
DTSTART;VALUE=DATE:20281031
DTEND;VALUE=DATE:20281101
DTSTAMP:20260425T072059
CREATED:20230411T060633Z
LAST-MODIFIED:20260207T151741Z
UID:10010118-1856563200-1856649599@hangar24brewing.com
SUMMARY:TEACHER TUESDAY (25% OFF)
DESCRIPTION:Mug Club Day & Teacher Tuesday (25% OFF!)
URL:https://hangar24brewing.com/event/mug-club-day-2/2028-10-31/
LOCATION:HANGAR 24 BREWING – REDLANDS\, CA
END:VEVENT
BEGIN:VEVENT
DTSTART;VALUE=DATE:20281031
DTEND;VALUE=DATE:20281101
DTSTAMP:20260425T072059
CREATED:20250904T174742Z
LAST-MODIFIED:20260207T151846Z
UID:10010379-1856563200-1856649599@hangar24brewing.com
SUMMARY:Mug Club Discount Tuesdays ($1 off mug pours\, $2 off growler pours)
DESCRIPTION:
URL:https://hangar24brewing.com/event/mug-club-discount-tuesdays-1-off-mug-pours-2-off-growler-pours/2028-10-31/
LOCATION:HANGAR 24 BREWING – REDLANDS\, CA
END:VEVENT
BEGIN:VEVENT
DTSTART;TZID=America/Los_Angeles:20281031T190000
DTEND;TZID=America/Los_Angeles:20281031T220000
DTSTAMP:20260425T072059
CREATED:20250108T063359Z
LAST-MODIFIED:20260219T194135Z
UID:10007592-1856631600-1856642400@hangar24brewing.com
SUMMARY:Trivia Tuesdays (Pour House Trivia!)
DESCRIPTION:
URL:https://hangar24brewing.com/event/trivia-tuesdays-geeks-who-drink-3/2028-10-31/
END:VEVENT
BEGIN:VEVENT
DTSTART;TZID=America/Los_Angeles:20281101T173000
DTEND;TZID=America/Los_Angeles:20281101T193000
DTSTAMP:20260425T072059
CREATED:20251223T204203Z
LAST-MODIFIED:20260220T182628Z
UID:10008137-1856712600-1856719800@hangar24brewing.com
SUMMARY:Bingo Wednesdays!!
DESCRIPTION:
URL:https://hangar24brewing.com/event/bingo-night-2-2/2028-11-01/
LOCATION:HANGAR 24 BREWING – LAKE HAVASU CITY\, CA
CATEGORIES:Lake Havasu City, CA Events
END:VEVENT
BEGIN:VEVENT
DTSTART;TZID=America/Los_Angeles:20281102T180000
DTEND;TZID=America/Los_Angeles:20281102T200000
DTSTAMP:20260425T072059
CREATED:20251223T205854Z
LAST-MODIFIED:20260219T200301Z
UID:10009821-1856800800-1856808000@hangar24brewing.com
SUMMARY:Trivia Thursdays
DESCRIPTION:
URL:https://hangar24brewing.com/event/trivia-night-geeks-who-drink-2-2/2028-11-02/
LOCATION:HANGAR 24 BREWING – LAKE HAVASU CITY\, CA
CATEGORIES:Lake Havasu City, CA Events
END:VEVENT
BEGIN:VEVENT
DTSTART;TZID=America/Los_Angeles:20281102T180000
DTEND;TZID=America/Los_Angeles:20281102T230000
DTSTAMP:20260425T072059
CREATED:20251223T210917Z
LAST-MODIFIED:20260219T194242Z
UID:10007325-1856800800-1856818800@hangar24brewing.com
SUMMARY:College Night (live DJ & games)
DESCRIPTION:
URL:https://hangar24brewing.com/event/college-night-live-dj-games-2/2028-11-02/
END:VEVENT
BEGIN:VEVENT
DTSTART;TZID=America/Los_Angeles:20281102T183000
DTEND;TZID=America/Los_Angeles:20281102T203000
DTSTAMP:20260425T072059
CREATED:20251223T210501Z
LAST-MODIFIED:20260219T195413Z
UID:10011492-1856802600-1856809800@hangar24brewing.com
SUMMARY:Trivia Night
DESCRIPTION:
URL:https://hangar24brewing.com/event/trivia-night-7-2/2028-11-02/
END:VEVENT
BEGIN:VEVENT
DTSTART;TZID=America/Los_Angeles:20281102T190000
DTEND;TZID=America/Los_Angeles:20281102T210000
DTSTAMP:20260425T072059
CREATED:20260207T154408Z
LAST-MODIFIED:20260211T110003Z
UID:10010640-1856804400-1856811600@hangar24brewing.com
SUMMARY:Trivia Night: Epic Pub Quiz
DESCRIPTION:
URL:https://hangar24brewing.com/event/trivia-night-epic-pub-quiz-2/2028-11-02/
LOCATION:HANGAR 24 BREWING – ORANGE COUNTY\, CA
CATEGORIES:Orange County, CA Events
END:VEVENT
BEGIN:VEVENT
DTSTART;TZID=America/Los_Angeles:20281105T110000
DTEND;TZID=America/Los_Angeles:20281105T200000
DTSTAMP:20260425T072059
CREATED:20260211T035305Z
LAST-MODIFIED:20260211T035307Z
UID:10008401-1857034800-1857067200@hangar24brewing.com
SUMMARY:Happy Hour - ALL DAY
DESCRIPTION:
URL:https://hangar24brewing.com/event/happy-hour-all-day-2/2028-11-05/
END:VEVENT
BEGIN:VEVENT
DTSTART;TZID=America/Los_Angeles:20281106T180000
DTEND;TZID=America/Los_Angeles:20281106T200000
DTSTAMP:20260425T072059
CREATED:20260207T153334Z
LAST-MODIFIED:20260211T105548Z
UID:10012381-1857146400-1857153600@hangar24brewing.com
SUMMARY:"Sing Your Heart Out" Karaoke Singles Night
DESCRIPTION:
URL:https://hangar24brewing.com/event/sing-your-heart-out-karaoke-singles-night-3/2028-11-06/
LOCATION:HANGAR 24 BREWING – ORANGE COUNTY\, CA
CATEGORIES:Orange County, CA Events
END:VEVENT
BEGIN:VEVENT
DTSTART;VALUE=DATE:20281107
DTEND;VALUE=DATE:20281108
DTSTAMP:20260425T072059
CREATED:20230411T060633Z
LAST-MODIFIED:20260207T151741Z
UID:10010119-1857168000-1857254399@hangar24brewing.com
SUMMARY:TEACHER TUESDAY (25% OFF)
DESCRIPTION:Mug Club Day & Teacher Tuesday (25% OFF!)
URL:https://hangar24brewing.com/event/mug-club-day-2/2028-11-07/
LOCATION:HANGAR 24 BREWING – REDLANDS\, CA
END:VEVENT
BEGIN:VEVENT
DTSTART;VALUE=DATE:20281107
DTEND;VALUE=DATE:20281108
DTSTAMP:20260425T072059
CREATED:20250904T174742Z
LAST-MODIFIED:20260207T151846Z
UID:10010380-1857168000-1857254399@hangar24brewing.com
SUMMARY:Mug Club Discount Tuesdays ($1 off mug pours\, $2 off growler pours)
DESCRIPTION:
URL:https://hangar24brewing.com/event/mug-club-discount-tuesdays-1-off-mug-pours-2-off-growler-pours/2028-11-07/
LOCATION:HANGAR 24 BREWING – REDLANDS\, CA
END:VEVENT
BEGIN:VEVENT
DTSTART;TZID=America/Los_Angeles:20281107T190000
DTEND;TZID=America/Los_Angeles:20281107T220000
DTSTAMP:20260425T072059
CREATED:20250108T063359Z
LAST-MODIFIED:20260219T194135Z
UID:10007593-1857236400-1857247200@hangar24brewing.com
SUMMARY:Trivia Tuesdays (Pour House Trivia!)
DESCRIPTION:
URL:https://hangar24brewing.com/event/trivia-tuesdays-geeks-who-drink-3/2028-11-07/
END:VEVENT
BEGIN:VEVENT
DTSTART;TZID=America/Los_Angeles:20281108T173000
DTEND;TZID=America/Los_Angeles:20281108T193000
DTSTAMP:20260425T072059
CREATED:20251223T204203Z
LAST-MODIFIED:20260220T182628Z
UID:10008138-1857317400-1857324600@hangar24brewing.com
SUMMARY:Bingo Wednesdays!!
DESCRIPTION:
URL:https://hangar24brewing.com/event/bingo-night-2-2/2028-11-08/
LOCATION:HANGAR 24 BREWING – LAKE HAVASU CITY\, CA
CATEGORIES:Lake Havasu City, CA Events
END:VEVENT
BEGIN:VEVENT
DTSTART;TZID=America/Los_Angeles:20281109T180000
DTEND;TZID=America/Los_Angeles:20281109T200000
DTSTAMP:20260425T072059
CREATED:20251223T205854Z
LAST-MODIFIED:20260219T200301Z
UID:10009822-1857405600-1857412800@hangar24brewing.com
SUMMARY:Trivia Thursdays
DESCRIPTION:
URL:https://hangar24brewing.com/event/trivia-night-geeks-who-drink-2-2/2028-11-09/
LOCATION:HANGAR 24 BREWING – LAKE HAVASU CITY\, CA
CATEGORIES:Lake Havasu City, CA Events
END:VEVENT
BEGIN:VEVENT
DTSTART;TZID=America/Los_Angeles:20281109T180000
DTEND;TZID=America/Los_Angeles:20281109T230000
DTSTAMP:20260425T072059
CREATED:20251223T210917Z
LAST-MODIFIED:20260219T194242Z
UID:10007326-1857405600-1857423600@hangar24brewing.com
SUMMARY:College Night (live DJ & games)
DESCRIPTION:
URL:https://hangar24brewing.com/event/college-night-live-dj-games-2/2028-11-09/
END:VEVENT
BEGIN:VEVENT
DTSTART;TZID=America/Los_Angeles:20281109T183000
DTEND;TZID=America/Los_Angeles:20281109T203000
DTSTAMP:20260425T072059
CREATED:20251223T210501Z
LAST-MODIFIED:20260219T195413Z
UID:10011493-1857407400-1857414600@hangar24brewing.com
SUMMARY:Trivia Night
DESCRIPTION:
URL:https://hangar24brewing.com/event/trivia-night-7-2/2028-11-09/
END:VEVENT
BEGIN:VEVENT
DTSTART;TZID=America/Los_Angeles:20281109T190000
DTEND;TZID=America/Los_Angeles:20281109T210000
DTSTAMP:20260425T072059
CREATED:20260207T154408Z
LAST-MODIFIED:20260211T110003Z
UID:10010641-1857409200-1857416400@hangar24brewing.com
SUMMARY:Trivia Night: Epic Pub Quiz
DESCRIPTION:
URL:https://hangar24brewing.com/event/trivia-night-epic-pub-quiz-2/2028-11-09/
LOCATION:HANGAR 24 BREWING – ORANGE COUNTY\, CA
CATEGORIES:Orange County, CA Events
END:VEVENT
BEGIN:VEVENT
DTSTART;TZID=America/Los_Angeles:20281112T110000
DTEND;TZID=America/Los_Angeles:20281112T200000
DTSTAMP:20260425T072059
CREATED:20260211T035305Z
LAST-MODIFIED:20260211T035307Z
UID:10008402-1857639600-1857672000@hangar24brewing.com
SUMMARY:Happy Hour - ALL DAY
DESCRIPTION:
URL:https://hangar24brewing.com/event/happy-hour-all-day-2/2028-11-12/
END:VEVENT
BEGIN:VEVENT
DTSTART;TZID=America/Los_Angeles:20281113T180000
DTEND;TZID=America/Los_Angeles:20281113T200000
DTSTAMP:20260425T072059
CREATED:20260207T153334Z
LAST-MODIFIED:20260211T105548Z
UID:10012382-1857751200-1857758400@hangar24brewing.com
SUMMARY:"Sing Your Heart Out" Karaoke Singles Night
DESCRIPTION:
URL:https://hangar24brewing.com/event/sing-your-heart-out-karaoke-singles-night-3/2028-11-13/
LOCATION:HANGAR 24 BREWING – ORANGE COUNTY\, CA
CATEGORIES:Orange County, CA Events
END:VEVENT
BEGIN:VEVENT
DTSTART;VALUE=DATE:20281114
DTEND;VALUE=DATE:20281115
DTSTAMP:20260425T072059
CREATED:20230411T060633Z
LAST-MODIFIED:20260207T151741Z
UID:10010120-1857772800-1857859199@hangar24brewing.com
SUMMARY:TEACHER TUESDAY (25% OFF)
DESCRIPTION:Mug Club Day & Teacher Tuesday (25% OFF!)
URL:https://hangar24brewing.com/event/mug-club-day-2/2028-11-14/
LOCATION:HANGAR 24 BREWING – REDLANDS\, CA
END:VEVENT
BEGIN:VEVENT
DTSTART;VALUE=DATE:20281114
DTEND;VALUE=DATE:20281115
DTSTAMP:20260425T072059
CREATED:20250904T174742Z
LAST-MODIFIED:20260207T151846Z
UID:10010381-1857772800-1857859199@hangar24brewing.com
SUMMARY:Mug Club Discount Tuesdays ($1 off mug pours\, $2 off growler pours)
DESCRIPTION:
URL:https://hangar24brewing.com/event/mug-club-discount-tuesdays-1-off-mug-pours-2-off-growler-pours/2028-11-14/
LOCATION:HANGAR 24 BREWING – REDLANDS\, CA
END:VEVENT
BEGIN:VEVENT
DTSTART;TZID=America/Los_Angeles:20281114T190000
DTEND;TZID=America/Los_Angeles:20281114T220000
DTSTAMP:20260425T072059
CREATED:20250108T063359Z
LAST-MODIFIED:20260219T194135Z
UID:10007594-1857841200-1857852000@hangar24brewing.com
SUMMARY:Trivia Tuesdays (Pour House Trivia!)
DESCRIPTION:
URL:https://hangar24brewing.com/event/trivia-tuesdays-geeks-who-drink-3/2028-11-14/
END:VEVENT
BEGIN:VEVENT
DTSTART;TZID=America/Los_Angeles:20281115T173000
DTEND;TZID=America/Los_Angeles:20281115T193000
DTSTAMP:20260425T072059
CREATED:20251223T204203Z
LAST-MODIFIED:20260220T182628Z
UID:10008139-1857922200-1857929400@hangar24brewing.com
SUMMARY:Bingo Wednesdays!!
DESCRIPTION:
URL:https://hangar24brewing.com/event/bingo-night-2-2/2028-11-15/
LOCATION:HANGAR 24 BREWING – LAKE HAVASU CITY\, CA
CATEGORIES:Lake Havasu City, CA Events
END:VEVENT
BEGIN:VEVENT
DTSTART;TZID=America/Los_Angeles:20281116T180000
DTEND;TZID=America/Los_Angeles:20281116T200000
DTSTAMP:20260425T072059
CREATED:20251223T205854Z
LAST-MODIFIED:20260219T200301Z
UID:10009823-1858010400-1858017600@hangar24brewing.com
SUMMARY:Trivia Thursdays
DESCRIPTION:
URL:https://hangar24brewing.com/event/trivia-night-geeks-who-drink-2-2/2028-11-16/
LOCATION:HANGAR 24 BREWING – LAKE HAVASU CITY\, CA
CATEGORIES:Lake Havasu City, CA Events
END:VEVENT
BEGIN:VEVENT
DTSTART;TZID=America/Los_Angeles:20281116T180000
DTEND;TZID=America/Los_Angeles:20281116T230000
DTSTAMP:20260425T072100
CREATED:20251223T210917Z
LAST-MODIFIED:20260219T194242Z
UID:10007327-1858010400-1858028400@hangar24brewing.com
SUMMARY:College Night (live DJ & games)
DESCRIPTION:
URL:https://hangar24brewing.com/event/college-night-live-dj-games-2/2028-11-16/
END:VEVENT
BEGIN:VEVENT
DTSTART;TZID=America/Los_Angeles:20281116T183000
DTEND;TZID=America/Los_Angeles:20281116T203000
DTSTAMP:20260425T072100
CREATED:20251223T210501Z
LAST-MODIFIED:20260219T195413Z
UID:10011494-1858012200-1858019400@hangar24brewing.com
SUMMARY:Trivia Night
DESCRIPTION:
URL:https://hangar24brewing.com/event/trivia-night-7-2/2028-11-16/
END:VEVENT
BEGIN:VEVENT
DTSTART;TZID=America/Los_Angeles:20281116T190000
DTEND;TZID=America/Los_Angeles:20281116T210000
DTSTAMP:20260425T072100
CREATED:20260207T154408Z
LAST-MODIFIED:20260211T110003Z
UID:10010642-1858014000-1858021200@hangar24brewing.com
SUMMARY:Trivia Night: Epic Pub Quiz
DESCRIPTION:
URL:https://hangar24brewing.com/event/trivia-night-epic-pub-quiz-2/2028-11-16/
LOCATION:HANGAR 24 BREWING – ORANGE COUNTY\, CA
CATEGORIES:Orange County, CA Events
END:VEVENT
BEGIN:VEVENT
DTSTART;TZID=America/Los_Angeles:20281119T110000
DTEND;TZID=America/Los_Angeles:20281119T200000
DTSTAMP:20260425T072100
CREATED:20260211T035305Z
LAST-MODIFIED:20260211T035307Z
UID:10008403-1858244400-1858276800@hangar24brewing.com
SUMMARY:Happy Hour - ALL DAY
DESCRIPTION:
URL:https://hangar24brewing.com/event/happy-hour-all-day-2/2028-11-19/
END:VEVENT
END:VCALENDAR