BEGIN:VCALENDAR
VERSION:2.0
PRODID:-//Hangar 24 Craft Brewing - ECPv6.15.20//NONSGML v1.0//EN
CALSCALE:GREGORIAN
METHOD:PUBLISH
X-WR-CALNAME:Hangar 24 Craft Brewing
X-ORIGINAL-URL:https://hangar24brewing.com
X-WR-CALDESC:Events for Hangar 24 Craft Brewing
REFRESH-INTERVAL;VALUE=DURATION:PT1H
X-Robots-Tag:noindex
X-PUBLISHED-TTL:PT1H
BEGIN:VTIMEZONE
TZID:America/Los_Angeles
BEGIN:DAYLIGHT
TZOFFSETFROM:-0800
TZOFFSETTO:-0700
TZNAME:PDT
DTSTART:20270314T100000
END:DAYLIGHT
BEGIN:STANDARD
TZOFFSETFROM:-0700
TZOFFSETTO:-0800
TZNAME:PST
DTSTART:20271107T090000
END:STANDARD
BEGIN:DAYLIGHT
TZOFFSETFROM:-0800
TZOFFSETTO:-0700
TZNAME:PDT
DTSTART:20280312T100000
END:DAYLIGHT
BEGIN:STANDARD
TZOFFSETFROM:-0700
TZOFFSETTO:-0800
TZNAME:PST
DTSTART:20281105T090000
END:STANDARD
BEGIN:DAYLIGHT
TZOFFSETFROM:-0800
TZOFFSETTO:-0700
TZNAME:PDT
DTSTART:20290311T100000
END:DAYLIGHT
BEGIN:STANDARD
TZOFFSETFROM:-0700
TZOFFSETTO:-0800
TZNAME:PST
DTSTART:20291104T090000
END:STANDARD
END:VTIMEZONE
BEGIN:VEVENT
DTSTART;TZID=America/Los_Angeles:20280914T190000
DTEND;TZID=America/Los_Angeles:20280914T210000
DTSTAMP:20260424T063828
CREATED:20260207T154408Z
LAST-MODIFIED:20260211T110003Z
UID:10010633-1852570800-1852578000@hangar24brewing.com
SUMMARY:Trivia Night: Epic Pub Quiz
DESCRIPTION:
URL:https://hangar24brewing.com/event/trivia-night-epic-pub-quiz-2/2028-09-14/
LOCATION:HANGAR 24 BREWING – ORANGE COUNTY\, CA
CATEGORIES:Orange County, CA Events
END:VEVENT
BEGIN:VEVENT
DTSTART;TZID=America/Los_Angeles:20280917T110000
DTEND;TZID=America/Los_Angeles:20280917T200000
DTSTAMP:20260424T063828
CREATED:20260211T035305Z
LAST-MODIFIED:20260211T035307Z
UID:10008394-1852801200-1852833600@hangar24brewing.com
SUMMARY:Happy Hour - ALL DAY
DESCRIPTION:
URL:https://hangar24brewing.com/event/happy-hour-all-day-2/2028-09-17/
END:VEVENT
BEGIN:VEVENT
DTSTART;TZID=America/Los_Angeles:20280918T180000
DTEND;TZID=America/Los_Angeles:20280918T200000
DTSTAMP:20260424T063828
CREATED:20260207T153334Z
LAST-MODIFIED:20260211T105548Z
UID:10012374-1852912800-1852920000@hangar24brewing.com
SUMMARY:"Sing Your Heart Out" Karaoke Singles Night
DESCRIPTION:
URL:https://hangar24brewing.com/event/sing-your-heart-out-karaoke-singles-night-3/2028-09-18/
LOCATION:HANGAR 24 BREWING – ORANGE COUNTY\, CA
CATEGORIES:Orange County, CA Events
END:VEVENT
BEGIN:VEVENT
DTSTART;VALUE=DATE:20280919
DTEND;VALUE=DATE:20280920
DTSTAMP:20260424T063828
CREATED:20230411T060633Z
LAST-MODIFIED:20260207T151741Z
UID:10010112-1852934400-1853020799@hangar24brewing.com
SUMMARY:TEACHER TUESDAY (25% OFF)
DESCRIPTION:Mug Club Day & Teacher Tuesday (25% OFF!)
URL:https://hangar24brewing.com/event/mug-club-day-2/2028-09-19/
LOCATION:HANGAR 24 BREWING – REDLANDS\, CA
END:VEVENT
BEGIN:VEVENT
DTSTART;VALUE=DATE:20280919
DTEND;VALUE=DATE:20280920
DTSTAMP:20260424T063828
CREATED:20250904T174742Z
LAST-MODIFIED:20260207T151846Z
UID:10010373-1852934400-1853020799@hangar24brewing.com
SUMMARY:Mug Club Discount Tuesdays ($1 off mug pours\, $2 off growler pours)
DESCRIPTION:
URL:https://hangar24brewing.com/event/mug-club-discount-tuesdays-1-off-mug-pours-2-off-growler-pours/2028-09-19/
LOCATION:HANGAR 24 BREWING – REDLANDS\, CA
END:VEVENT
BEGIN:VEVENT
DTSTART;TZID=America/Los_Angeles:20280919T190000
DTEND;TZID=America/Los_Angeles:20280919T220000
DTSTAMP:20260424T063828
CREATED:20250108T063359Z
LAST-MODIFIED:20260219T194135Z
UID:10007586-1853002800-1853013600@hangar24brewing.com
SUMMARY:Trivia Tuesdays (Pour House Trivia!)
DESCRIPTION:
URL:https://hangar24brewing.com/event/trivia-tuesdays-geeks-who-drink-3/2028-09-19/
END:VEVENT
BEGIN:VEVENT
DTSTART;TZID=America/Los_Angeles:20280920T173000
DTEND;TZID=America/Los_Angeles:20280920T193000
DTSTAMP:20260424T063828
CREATED:20251223T204203Z
LAST-MODIFIED:20260220T182628Z
UID:10008131-1853083800-1853091000@hangar24brewing.com
SUMMARY:Bingo Wednesdays!!
DESCRIPTION:
URL:https://hangar24brewing.com/event/bingo-night-2-2/2028-09-20/
LOCATION:HANGAR 24 BREWING – LAKE HAVASU CITY\, CA
CATEGORIES:Lake Havasu City, CA Events
END:VEVENT
BEGIN:VEVENT
DTSTART;TZID=America/Los_Angeles:20280921T180000
DTEND;TZID=America/Los_Angeles:20280921T200000
DTSTAMP:20260424T063828
CREATED:20251223T205854Z
LAST-MODIFIED:20260219T200301Z
UID:10009815-1853172000-1853179200@hangar24brewing.com
SUMMARY:Trivia Thursdays
DESCRIPTION:
URL:https://hangar24brewing.com/event/trivia-night-geeks-who-drink-2-2/2028-09-21/
LOCATION:HANGAR 24 BREWING – LAKE HAVASU CITY\, CA
CATEGORIES:Lake Havasu City, CA Events
END:VEVENT
BEGIN:VEVENT
DTSTART;TZID=America/Los_Angeles:20280921T180000
DTEND;TZID=America/Los_Angeles:20280921T230000
DTSTAMP:20260424T063829
CREATED:20251223T210917Z
LAST-MODIFIED:20260219T194242Z
UID:10007319-1853172000-1853190000@hangar24brewing.com
SUMMARY:College Night (live DJ & games)
DESCRIPTION:
URL:https://hangar24brewing.com/event/college-night-live-dj-games-2/2028-09-21/
END:VEVENT
BEGIN:VEVENT
DTSTART;TZID=America/Los_Angeles:20280921T183000
DTEND;TZID=America/Los_Angeles:20280921T203000
DTSTAMP:20260424T063829
CREATED:20251223T210501Z
LAST-MODIFIED:20260219T195413Z
UID:10011486-1853173800-1853181000@hangar24brewing.com
SUMMARY:Trivia Night
DESCRIPTION:
URL:https://hangar24brewing.com/event/trivia-night-7-2/2028-09-21/
END:VEVENT
BEGIN:VEVENT
DTSTART;TZID=America/Los_Angeles:20280921T190000
DTEND;TZID=America/Los_Angeles:20280921T210000
DTSTAMP:20260424T063829
CREATED:20260207T154408Z
LAST-MODIFIED:20260211T110003Z
UID:10010634-1853175600-1853182800@hangar24brewing.com
SUMMARY:Trivia Night: Epic Pub Quiz
DESCRIPTION:
URL:https://hangar24brewing.com/event/trivia-night-epic-pub-quiz-2/2028-09-21/
LOCATION:HANGAR 24 BREWING – ORANGE COUNTY\, CA
CATEGORIES:Orange County, CA Events
END:VEVENT
BEGIN:VEVENT
DTSTART;TZID=America/Los_Angeles:20280924T110000
DTEND;TZID=America/Los_Angeles:20280924T200000
DTSTAMP:20260424T063829
CREATED:20260211T035305Z
LAST-MODIFIED:20260211T035307Z
UID:10008395-1853406000-1853438400@hangar24brewing.com
SUMMARY:Happy Hour - ALL DAY
DESCRIPTION:
URL:https://hangar24brewing.com/event/happy-hour-all-day-2/2028-09-24/
END:VEVENT
BEGIN:VEVENT
DTSTART;TZID=America/Los_Angeles:20280925T180000
DTEND;TZID=America/Los_Angeles:20280925T200000
DTSTAMP:20260424T063829
CREATED:20260207T153334Z
LAST-MODIFIED:20260211T105548Z
UID:10012375-1853517600-1853524800@hangar24brewing.com
SUMMARY:"Sing Your Heart Out" Karaoke Singles Night
DESCRIPTION:
URL:https://hangar24brewing.com/event/sing-your-heart-out-karaoke-singles-night-3/2028-09-25/
LOCATION:HANGAR 24 BREWING – ORANGE COUNTY\, CA
CATEGORIES:Orange County, CA Events
END:VEVENT
BEGIN:VEVENT
DTSTART;VALUE=DATE:20280926
DTEND;VALUE=DATE:20280927
DTSTAMP:20260424T063829
CREATED:20230411T060633Z
LAST-MODIFIED:20260207T151741Z
UID:10010113-1853539200-1853625599@hangar24brewing.com
SUMMARY:TEACHER TUESDAY (25% OFF)
DESCRIPTION:Mug Club Day & Teacher Tuesday (25% OFF!)
URL:https://hangar24brewing.com/event/mug-club-day-2/2028-09-26/
LOCATION:HANGAR 24 BREWING – REDLANDS\, CA
END:VEVENT
BEGIN:VEVENT
DTSTART;VALUE=DATE:20280926
DTEND;VALUE=DATE:20280927
DTSTAMP:20260424T063829
CREATED:20250904T174742Z
LAST-MODIFIED:20260207T151846Z
UID:10010374-1853539200-1853625599@hangar24brewing.com
SUMMARY:Mug Club Discount Tuesdays ($1 off mug pours\, $2 off growler pours)
DESCRIPTION:
URL:https://hangar24brewing.com/event/mug-club-discount-tuesdays-1-off-mug-pours-2-off-growler-pours/2028-09-26/
LOCATION:HANGAR 24 BREWING – REDLANDS\, CA
END:VEVENT
BEGIN:VEVENT
DTSTART;TZID=America/Los_Angeles:20280926T190000
DTEND;TZID=America/Los_Angeles:20280926T220000
DTSTAMP:20260424T063829
CREATED:20250108T063359Z
LAST-MODIFIED:20260219T194135Z
UID:10007587-1853607600-1853618400@hangar24brewing.com
SUMMARY:Trivia Tuesdays (Pour House Trivia!)
DESCRIPTION:
URL:https://hangar24brewing.com/event/trivia-tuesdays-geeks-who-drink-3/2028-09-26/
END:VEVENT
BEGIN:VEVENT
DTSTART;TZID=America/Los_Angeles:20280927T173000
DTEND;TZID=America/Los_Angeles:20280927T193000
DTSTAMP:20260424T063829
CREATED:20251223T204203Z
LAST-MODIFIED:20260220T182628Z
UID:10008132-1853688600-1853695800@hangar24brewing.com
SUMMARY:Bingo Wednesdays!!
DESCRIPTION:
URL:https://hangar24brewing.com/event/bingo-night-2-2/2028-09-27/
LOCATION:HANGAR 24 BREWING – LAKE HAVASU CITY\, CA
CATEGORIES:Lake Havasu City, CA Events
END:VEVENT
BEGIN:VEVENT
DTSTART;TZID=America/Los_Angeles:20280928T180000
DTEND;TZID=America/Los_Angeles:20280928T200000
DTSTAMP:20260424T063829
CREATED:20251223T205854Z
LAST-MODIFIED:20260219T200301Z
UID:10009816-1853776800-1853784000@hangar24brewing.com
SUMMARY:Trivia Thursdays
DESCRIPTION:
URL:https://hangar24brewing.com/event/trivia-night-geeks-who-drink-2-2/2028-09-28/
LOCATION:HANGAR 24 BREWING – LAKE HAVASU CITY\, CA
CATEGORIES:Lake Havasu City, CA Events
END:VEVENT
BEGIN:VEVENT
DTSTART;TZID=America/Los_Angeles:20280928T180000
DTEND;TZID=America/Los_Angeles:20280928T230000
DTSTAMP:20260424T063829
CREATED:20251223T210917Z
LAST-MODIFIED:20260219T194242Z
UID:10007320-1853776800-1853794800@hangar24brewing.com
SUMMARY:College Night (live DJ & games)
DESCRIPTION:
URL:https://hangar24brewing.com/event/college-night-live-dj-games-2/2028-09-28/
END:VEVENT
BEGIN:VEVENT
DTSTART;TZID=America/Los_Angeles:20280928T183000
DTEND;TZID=America/Los_Angeles:20280928T203000
DTSTAMP:20260424T063829
CREATED:20251223T210501Z
LAST-MODIFIED:20260219T195413Z
UID:10011487-1853778600-1853785800@hangar24brewing.com
SUMMARY:Trivia Night
DESCRIPTION:
URL:https://hangar24brewing.com/event/trivia-night-7-2/2028-09-28/
END:VEVENT
BEGIN:VEVENT
DTSTART;TZID=America/Los_Angeles:20280928T190000
DTEND;TZID=America/Los_Angeles:20280928T210000
DTSTAMP:20260424T063829
CREATED:20260207T154408Z
LAST-MODIFIED:20260211T110003Z
UID:10010635-1853780400-1853787600@hangar24brewing.com
SUMMARY:Trivia Night: Epic Pub Quiz
DESCRIPTION:
URL:https://hangar24brewing.com/event/trivia-night-epic-pub-quiz-2/2028-09-28/
LOCATION:HANGAR 24 BREWING – ORANGE COUNTY\, CA
CATEGORIES:Orange County, CA Events
END:VEVENT
BEGIN:VEVENT
DTSTART;TZID=America/Los_Angeles:20281001T110000
DTEND;TZID=America/Los_Angeles:20281001T200000
DTSTAMP:20260424T063829
CREATED:20260211T035305Z
LAST-MODIFIED:20260211T035307Z
UID:10008396-1854010800-1854043200@hangar24brewing.com
SUMMARY:Happy Hour - ALL DAY
DESCRIPTION:
URL:https://hangar24brewing.com/event/happy-hour-all-day-2/2028-10-01/
END:VEVENT
BEGIN:VEVENT
DTSTART;TZID=America/Los_Angeles:20281002T180000
DTEND;TZID=America/Los_Angeles:20281002T200000
DTSTAMP:20260424T063829
CREATED:20260207T153334Z
LAST-MODIFIED:20260211T105548Z
UID:10012376-1854122400-1854129600@hangar24brewing.com
SUMMARY:"Sing Your Heart Out" Karaoke Singles Night
DESCRIPTION:
URL:https://hangar24brewing.com/event/sing-your-heart-out-karaoke-singles-night-3/2028-10-02/
LOCATION:HANGAR 24 BREWING – ORANGE COUNTY\, CA
CATEGORIES:Orange County, CA Events
END:VEVENT
BEGIN:VEVENT
DTSTART;VALUE=DATE:20281003
DTEND;VALUE=DATE:20281004
DTSTAMP:20260424T063829
CREATED:20230411T060633Z
LAST-MODIFIED:20260207T151741Z
UID:10010114-1854144000-1854230399@hangar24brewing.com
SUMMARY:TEACHER TUESDAY (25% OFF)
DESCRIPTION:Mug Club Day & Teacher Tuesday (25% OFF!)
URL:https://hangar24brewing.com/event/mug-club-day-2/2028-10-03/
LOCATION:HANGAR 24 BREWING – REDLANDS\, CA
END:VEVENT
BEGIN:VEVENT
DTSTART;VALUE=DATE:20281003
DTEND;VALUE=DATE:20281004
DTSTAMP:20260424T063829
CREATED:20250904T174742Z
LAST-MODIFIED:20260207T151846Z
UID:10010375-1854144000-1854230399@hangar24brewing.com
SUMMARY:Mug Club Discount Tuesdays ($1 off mug pours\, $2 off growler pours)
DESCRIPTION:
URL:https://hangar24brewing.com/event/mug-club-discount-tuesdays-1-off-mug-pours-2-off-growler-pours/2028-10-03/
LOCATION:HANGAR 24 BREWING – REDLANDS\, CA
END:VEVENT
BEGIN:VEVENT
DTSTART;TZID=America/Los_Angeles:20281003T190000
DTEND;TZID=America/Los_Angeles:20281003T220000
DTSTAMP:20260424T063829
CREATED:20250108T063359Z
LAST-MODIFIED:20260219T194135Z
UID:10007588-1854212400-1854223200@hangar24brewing.com
SUMMARY:Trivia Tuesdays (Pour House Trivia!)
DESCRIPTION:
URL:https://hangar24brewing.com/event/trivia-tuesdays-geeks-who-drink-3/2028-10-03/
END:VEVENT
BEGIN:VEVENT
DTSTART;TZID=America/Los_Angeles:20281004T173000
DTEND;TZID=America/Los_Angeles:20281004T193000
DTSTAMP:20260424T063829
CREATED:20251223T204203Z
LAST-MODIFIED:20260220T182628Z
UID:10008133-1854293400-1854300600@hangar24brewing.com
SUMMARY:Bingo Wednesdays!!
DESCRIPTION:
URL:https://hangar24brewing.com/event/bingo-night-2-2/2028-10-04/
LOCATION:HANGAR 24 BREWING – LAKE HAVASU CITY\, CA
CATEGORIES:Lake Havasu City, CA Events
END:VEVENT
BEGIN:VEVENT
DTSTART;TZID=America/Los_Angeles:20281005T180000
DTEND;TZID=America/Los_Angeles:20281005T200000
DTSTAMP:20260424T063829
CREATED:20251223T205854Z
LAST-MODIFIED:20260219T200301Z
UID:10009817-1854381600-1854388800@hangar24brewing.com
SUMMARY:Trivia Thursdays
DESCRIPTION:
URL:https://hangar24brewing.com/event/trivia-night-geeks-who-drink-2-2/2028-10-05/
LOCATION:HANGAR 24 BREWING – LAKE HAVASU CITY\, CA
CATEGORIES:Lake Havasu City, CA Events
END:VEVENT
BEGIN:VEVENT
DTSTART;TZID=America/Los_Angeles:20281005T180000
DTEND;TZID=America/Los_Angeles:20281005T230000
DTSTAMP:20260424T063829
CREATED:20251223T210917Z
LAST-MODIFIED:20260219T194242Z
UID:10007321-1854381600-1854399600@hangar24brewing.com
SUMMARY:College Night (live DJ & games)
DESCRIPTION:
URL:https://hangar24brewing.com/event/college-night-live-dj-games-2/2028-10-05/
END:VEVENT
BEGIN:VEVENT
DTSTART;TZID=America/Los_Angeles:20281005T183000
DTEND;TZID=America/Los_Angeles:20281005T203000
DTSTAMP:20260424T063829
CREATED:20251223T210501Z
LAST-MODIFIED:20260219T195413Z
UID:10011488-1854383400-1854390600@hangar24brewing.com
SUMMARY:Trivia Night
DESCRIPTION:
URL:https://hangar24brewing.com/event/trivia-night-7-2/2028-10-05/
END:VEVENT
END:VCALENDAR