BEGIN:VCALENDAR
VERSION:2.0
PRODID:-//Hangar 24 Craft Brewing - ECPv6.15.20//NONSGML v1.0//EN
CALSCALE:GREGORIAN
METHOD:PUBLISH
X-WR-CALNAME:Hangar 24 Craft Brewing
X-ORIGINAL-URL:https://hangar24brewing.com
X-WR-CALDESC:Events for Hangar 24 Craft Brewing
REFRESH-INTERVAL;VALUE=DURATION:PT1H
X-Robots-Tag:noindex
X-PUBLISHED-TTL:PT1H
BEGIN:VTIMEZONE
TZID:America/Los_Angeles
BEGIN:DAYLIGHT
TZOFFSETFROM:-0800
TZOFFSETTO:-0700
TZNAME:PDT
DTSTART:20270314T100000
END:DAYLIGHT
BEGIN:STANDARD
TZOFFSETFROM:-0700
TZOFFSETTO:-0800
TZNAME:PST
DTSTART:20271107T090000
END:STANDARD
BEGIN:DAYLIGHT
TZOFFSETFROM:-0800
TZOFFSETTO:-0700
TZNAME:PDT
DTSTART:20280312T100000
END:DAYLIGHT
BEGIN:STANDARD
TZOFFSETFROM:-0700
TZOFFSETTO:-0800
TZNAME:PST
DTSTART:20281105T090000
END:STANDARD
BEGIN:DAYLIGHT
TZOFFSETFROM:-0800
TZOFFSETTO:-0700
TZNAME:PDT
DTSTART:20290311T100000
END:DAYLIGHT
BEGIN:STANDARD
TZOFFSETFROM:-0700
TZOFFSETTO:-0800
TZNAME:PST
DTSTART:20291104T090000
END:STANDARD
END:VTIMEZONE
BEGIN:VEVENT
DTSTART;TZID=America/Los_Angeles:20281207T190000
DTEND;TZID=America/Los_Angeles:20281207T210000
DTSTAMP:20260424T155553
CREATED:20260207T154408Z
LAST-MODIFIED:20260211T110003Z
UID:10010645-1859828400-1859835600@hangar24brewing.com
SUMMARY:Trivia Night: Epic Pub Quiz
DESCRIPTION:
URL:https://hangar24brewing.com/event/trivia-night-epic-pub-quiz-2/2028-12-07/
LOCATION:HANGAR 24 BREWING – ORANGE COUNTY\, CA
CATEGORIES:Orange County, CA Events
END:VEVENT
BEGIN:VEVENT
DTSTART;TZID=America/Los_Angeles:20281210T110000
DTEND;TZID=America/Los_Angeles:20281210T200000
DTSTAMP:20260424T155553
CREATED:20260211T035305Z
LAST-MODIFIED:20260211T035307Z
UID:10008406-1860058800-1860091200@hangar24brewing.com
SUMMARY:Happy Hour - ALL DAY
DESCRIPTION:
URL:https://hangar24brewing.com/event/happy-hour-all-day-2/2028-12-10/
END:VEVENT
BEGIN:VEVENT
DTSTART;TZID=America/Los_Angeles:20281211T180000
DTEND;TZID=America/Los_Angeles:20281211T200000
DTSTAMP:20260424T155553
CREATED:20260207T153334Z
LAST-MODIFIED:20260211T105548Z
UID:10012386-1860170400-1860177600@hangar24brewing.com
SUMMARY:"Sing Your Heart Out" Karaoke Singles Night
DESCRIPTION:
URL:https://hangar24brewing.com/event/sing-your-heart-out-karaoke-singles-night-3/2028-12-11/
LOCATION:HANGAR 24 BREWING – ORANGE COUNTY\, CA
CATEGORIES:Orange County, CA Events
END:VEVENT
BEGIN:VEVENT
DTSTART;VALUE=DATE:20281212
DTEND;VALUE=DATE:20281213
DTSTAMP:20260424T155553
CREATED:20230411T060633Z
LAST-MODIFIED:20260207T151741Z
UID:10010124-1860192000-1860278399@hangar24brewing.com
SUMMARY:TEACHER TUESDAY (25% OFF)
DESCRIPTION:Mug Club Day & Teacher Tuesday (25% OFF!)
URL:https://hangar24brewing.com/event/mug-club-day-2/2028-12-12/
LOCATION:HANGAR 24 BREWING – REDLANDS\, CA
END:VEVENT
BEGIN:VEVENT
DTSTART;VALUE=DATE:20281212
DTEND;VALUE=DATE:20281213
DTSTAMP:20260424T155553
CREATED:20250904T174742Z
LAST-MODIFIED:20260207T151846Z
UID:10010385-1860192000-1860278399@hangar24brewing.com
SUMMARY:Mug Club Discount Tuesdays ($1 off mug pours\, $2 off growler pours)
DESCRIPTION:
URL:https://hangar24brewing.com/event/mug-club-discount-tuesdays-1-off-mug-pours-2-off-growler-pours/2028-12-12/
LOCATION:HANGAR 24 BREWING – REDLANDS\, CA
END:VEVENT
BEGIN:VEVENT
DTSTART;TZID=America/Los_Angeles:20281212T190000
DTEND;TZID=America/Los_Angeles:20281212T220000
DTSTAMP:20260424T155553
CREATED:20250108T063359Z
LAST-MODIFIED:20260219T194135Z
UID:10007598-1860260400-1860271200@hangar24brewing.com
SUMMARY:Trivia Tuesdays (Pour House Trivia!)
DESCRIPTION:
URL:https://hangar24brewing.com/event/trivia-tuesdays-geeks-who-drink-3/2028-12-12/
END:VEVENT
BEGIN:VEVENT
DTSTART;TZID=America/Los_Angeles:20281213T173000
DTEND;TZID=America/Los_Angeles:20281213T193000
DTSTAMP:20260424T155553
CREATED:20251223T204203Z
LAST-MODIFIED:20260220T182628Z
UID:10008143-1860341400-1860348600@hangar24brewing.com
SUMMARY:Bingo Wednesdays!!
DESCRIPTION:
URL:https://hangar24brewing.com/event/bingo-night-2-2/2028-12-13/
LOCATION:HANGAR 24 BREWING – LAKE HAVASU CITY\, CA
CATEGORIES:Lake Havasu City, CA Events
END:VEVENT
BEGIN:VEVENT
DTSTART;TZID=America/Los_Angeles:20281214T180000
DTEND;TZID=America/Los_Angeles:20281214T200000
DTSTAMP:20260424T155553
CREATED:20251223T205854Z
LAST-MODIFIED:20260219T200301Z
UID:10009827-1860429600-1860436800@hangar24brewing.com
SUMMARY:Trivia Thursdays
DESCRIPTION:
URL:https://hangar24brewing.com/event/trivia-night-geeks-who-drink-2-2/2028-12-14/
LOCATION:HANGAR 24 BREWING – LAKE HAVASU CITY\, CA
CATEGORIES:Lake Havasu City, CA Events
END:VEVENT
BEGIN:VEVENT
DTSTART;TZID=America/Los_Angeles:20281214T180000
DTEND;TZID=America/Los_Angeles:20281214T230000
DTSTAMP:20260424T155553
CREATED:20251223T210917Z
LAST-MODIFIED:20260219T194242Z
UID:10007331-1860429600-1860447600@hangar24brewing.com
SUMMARY:College Night (live DJ & games)
DESCRIPTION:
URL:https://hangar24brewing.com/event/college-night-live-dj-games-2/2028-12-14/
END:VEVENT
BEGIN:VEVENT
DTSTART;TZID=America/Los_Angeles:20281214T183000
DTEND;TZID=America/Los_Angeles:20281214T203000
DTSTAMP:20260424T155553
CREATED:20251223T210501Z
LAST-MODIFIED:20260219T195413Z
UID:10011498-1860431400-1860438600@hangar24brewing.com
SUMMARY:Trivia Night
DESCRIPTION:
URL:https://hangar24brewing.com/event/trivia-night-7-2/2028-12-14/
END:VEVENT
BEGIN:VEVENT
DTSTART;TZID=America/Los_Angeles:20281214T190000
DTEND;TZID=America/Los_Angeles:20281214T210000
DTSTAMP:20260424T155553
CREATED:20260207T154408Z
LAST-MODIFIED:20260211T110003Z
UID:10010646-1860433200-1860440400@hangar24brewing.com
SUMMARY:Trivia Night: Epic Pub Quiz
DESCRIPTION:
URL:https://hangar24brewing.com/event/trivia-night-epic-pub-quiz-2/2028-12-14/
LOCATION:HANGAR 24 BREWING – ORANGE COUNTY\, CA
CATEGORIES:Orange County, CA Events
END:VEVENT
BEGIN:VEVENT
DTSTART;TZID=America/Los_Angeles:20281217T110000
DTEND;TZID=America/Los_Angeles:20281217T200000
DTSTAMP:20260424T155553
CREATED:20260211T035305Z
LAST-MODIFIED:20260211T035307Z
UID:10008407-1860663600-1860696000@hangar24brewing.com
SUMMARY:Happy Hour - ALL DAY
DESCRIPTION:
URL:https://hangar24brewing.com/event/happy-hour-all-day-2/2028-12-17/
END:VEVENT
BEGIN:VEVENT
DTSTART;TZID=America/Los_Angeles:20281218T180000
DTEND;TZID=America/Los_Angeles:20281218T200000
DTSTAMP:20260424T155553
CREATED:20260207T153334Z
LAST-MODIFIED:20260211T105548Z
UID:10012387-1860775200-1860782400@hangar24brewing.com
SUMMARY:"Sing Your Heart Out" Karaoke Singles Night
DESCRIPTION:
URL:https://hangar24brewing.com/event/sing-your-heart-out-karaoke-singles-night-3/2028-12-18/
LOCATION:HANGAR 24 BREWING – ORANGE COUNTY\, CA
CATEGORIES:Orange County, CA Events
END:VEVENT
BEGIN:VEVENT
DTSTART;VALUE=DATE:20281219
DTEND;VALUE=DATE:20281220
DTSTAMP:20260424T155553
CREATED:20230411T060633Z
LAST-MODIFIED:20260207T151741Z
UID:10010125-1860796800-1860883199@hangar24brewing.com
SUMMARY:TEACHER TUESDAY (25% OFF)
DESCRIPTION:Mug Club Day & Teacher Tuesday (25% OFF!)
URL:https://hangar24brewing.com/event/mug-club-day-2/2028-12-19/
LOCATION:HANGAR 24 BREWING – REDLANDS\, CA
END:VEVENT
BEGIN:VEVENT
DTSTART;VALUE=DATE:20281219
DTEND;VALUE=DATE:20281220
DTSTAMP:20260424T155553
CREATED:20250904T174742Z
LAST-MODIFIED:20260207T151846Z
UID:10010386-1860796800-1860883199@hangar24brewing.com
SUMMARY:Mug Club Discount Tuesdays ($1 off mug pours\, $2 off growler pours)
DESCRIPTION:
URL:https://hangar24brewing.com/event/mug-club-discount-tuesdays-1-off-mug-pours-2-off-growler-pours/2028-12-19/
LOCATION:HANGAR 24 BREWING – REDLANDS\, CA
END:VEVENT
BEGIN:VEVENT
DTSTART;TZID=America/Los_Angeles:20281219T190000
DTEND;TZID=America/Los_Angeles:20281219T220000
DTSTAMP:20260424T155553
CREATED:20250108T063359Z
LAST-MODIFIED:20260219T194135Z
UID:10007599-1860865200-1860876000@hangar24brewing.com
SUMMARY:Trivia Tuesdays (Pour House Trivia!)
DESCRIPTION:
URL:https://hangar24brewing.com/event/trivia-tuesdays-geeks-who-drink-3/2028-12-19/
END:VEVENT
BEGIN:VEVENT
DTSTART;TZID=America/Los_Angeles:20281220T173000
DTEND;TZID=America/Los_Angeles:20281220T193000
DTSTAMP:20260424T155553
CREATED:20251223T204203Z
LAST-MODIFIED:20260220T182628Z
UID:10008144-1860946200-1860953400@hangar24brewing.com
SUMMARY:Bingo Wednesdays!!
DESCRIPTION:
URL:https://hangar24brewing.com/event/bingo-night-2-2/2028-12-20/
LOCATION:HANGAR 24 BREWING – LAKE HAVASU CITY\, CA
CATEGORIES:Lake Havasu City, CA Events
END:VEVENT
BEGIN:VEVENT
DTSTART;TZID=America/Los_Angeles:20281221T180000
DTEND;TZID=America/Los_Angeles:20281221T200000
DTSTAMP:20260424T155553
CREATED:20251223T205854Z
LAST-MODIFIED:20260219T200301Z
UID:10009828-1861034400-1861041600@hangar24brewing.com
SUMMARY:Trivia Thursdays
DESCRIPTION:
URL:https://hangar24brewing.com/event/trivia-night-geeks-who-drink-2-2/2028-12-21/
LOCATION:HANGAR 24 BREWING – LAKE HAVASU CITY\, CA
CATEGORIES:Lake Havasu City, CA Events
END:VEVENT
BEGIN:VEVENT
DTSTART;TZID=America/Los_Angeles:20281221T180000
DTEND;TZID=America/Los_Angeles:20281221T230000
DTSTAMP:20260424T155553
CREATED:20251223T210917Z
LAST-MODIFIED:20260219T194242Z
UID:10007332-1861034400-1861052400@hangar24brewing.com
SUMMARY:College Night (live DJ & games)
DESCRIPTION:
URL:https://hangar24brewing.com/event/college-night-live-dj-games-2/2028-12-21/
END:VEVENT
BEGIN:VEVENT
DTSTART;TZID=America/Los_Angeles:20281221T183000
DTEND;TZID=America/Los_Angeles:20281221T203000
DTSTAMP:20260424T155553
CREATED:20251223T210501Z
LAST-MODIFIED:20260219T195413Z
UID:10011499-1861036200-1861043400@hangar24brewing.com
SUMMARY:Trivia Night
DESCRIPTION:
URL:https://hangar24brewing.com/event/trivia-night-7-2/2028-12-21/
END:VEVENT
BEGIN:VEVENT
DTSTART;TZID=America/Los_Angeles:20281221T190000
DTEND;TZID=America/Los_Angeles:20281221T210000
DTSTAMP:20260424T155553
CREATED:20260207T154408Z
LAST-MODIFIED:20260211T110003Z
UID:10010647-1861038000-1861045200@hangar24brewing.com
SUMMARY:Trivia Night: Epic Pub Quiz
DESCRIPTION:
URL:https://hangar24brewing.com/event/trivia-night-epic-pub-quiz-2/2028-12-21/
LOCATION:HANGAR 24 BREWING – ORANGE COUNTY\, CA
CATEGORIES:Orange County, CA Events
END:VEVENT
BEGIN:VEVENT
DTSTART;TZID=America/Los_Angeles:20281224T110000
DTEND;TZID=America/Los_Angeles:20281224T200000
DTSTAMP:20260424T155553
CREATED:20260211T035305Z
LAST-MODIFIED:20260211T035307Z
UID:10008408-1861268400-1861300800@hangar24brewing.com
SUMMARY:Happy Hour - ALL DAY
DESCRIPTION:
URL:https://hangar24brewing.com/event/happy-hour-all-day-2/2028-12-24/
END:VEVENT
BEGIN:VEVENT
DTSTART;TZID=America/Los_Angeles:20281225T180000
DTEND;TZID=America/Los_Angeles:20281225T200000
DTSTAMP:20260424T155553
CREATED:20260207T153334Z
LAST-MODIFIED:20260211T105548Z
UID:10012388-1861380000-1861387200@hangar24brewing.com
SUMMARY:"Sing Your Heart Out" Karaoke Singles Night
DESCRIPTION:
URL:https://hangar24brewing.com/event/sing-your-heart-out-karaoke-singles-night-3/2028-12-25/
LOCATION:HANGAR 24 BREWING – ORANGE COUNTY\, CA
CATEGORIES:Orange County, CA Events
END:VEVENT
BEGIN:VEVENT
DTSTART;VALUE=DATE:20281226
DTEND;VALUE=DATE:20281227
DTSTAMP:20260424T155553
CREATED:20230411T060633Z
LAST-MODIFIED:20260207T151741Z
UID:10010126-1861401600-1861487999@hangar24brewing.com
SUMMARY:TEACHER TUESDAY (25% OFF)
DESCRIPTION:Mug Club Day & Teacher Tuesday (25% OFF!)
URL:https://hangar24brewing.com/event/mug-club-day-2/2028-12-26/
LOCATION:HANGAR 24 BREWING – REDLANDS\, CA
END:VEVENT
BEGIN:VEVENT
DTSTART;VALUE=DATE:20281226
DTEND;VALUE=DATE:20281227
DTSTAMP:20260424T155553
CREATED:20250904T174742Z
LAST-MODIFIED:20260207T151846Z
UID:10010387-1861401600-1861487999@hangar24brewing.com
SUMMARY:Mug Club Discount Tuesdays ($1 off mug pours\, $2 off growler pours)
DESCRIPTION:
URL:https://hangar24brewing.com/event/mug-club-discount-tuesdays-1-off-mug-pours-2-off-growler-pours/2028-12-26/
LOCATION:HANGAR 24 BREWING – REDLANDS\, CA
END:VEVENT
BEGIN:VEVENT
DTSTART;TZID=America/Los_Angeles:20281226T190000
DTEND;TZID=America/Los_Angeles:20281226T220000
DTSTAMP:20260424T155553
CREATED:20250108T063359Z
LAST-MODIFIED:20260219T194135Z
UID:10007600-1861470000-1861480800@hangar24brewing.com
SUMMARY:Trivia Tuesdays (Pour House Trivia!)
DESCRIPTION:
URL:https://hangar24brewing.com/event/trivia-tuesdays-geeks-who-drink-3/2028-12-26/
END:VEVENT
BEGIN:VEVENT
DTSTART;TZID=America/Los_Angeles:20281227T173000
DTEND;TZID=America/Los_Angeles:20281227T193000
DTSTAMP:20260424T155553
CREATED:20251223T204203Z
LAST-MODIFIED:20260220T182628Z
UID:10008145-1861551000-1861558200@hangar24brewing.com
SUMMARY:Bingo Wednesdays!!
DESCRIPTION:
URL:https://hangar24brewing.com/event/bingo-night-2-2/2028-12-27/
LOCATION:HANGAR 24 BREWING – LAKE HAVASU CITY\, CA
CATEGORIES:Lake Havasu City, CA Events
END:VEVENT
BEGIN:VEVENT
DTSTART;TZID=America/Los_Angeles:20281228T180000
DTEND;TZID=America/Los_Angeles:20281228T200000
DTSTAMP:20260424T155553
CREATED:20251223T205854Z
LAST-MODIFIED:20260219T200301Z
UID:10009829-1861639200-1861646400@hangar24brewing.com
SUMMARY:Trivia Thursdays
DESCRIPTION:
URL:https://hangar24brewing.com/event/trivia-night-geeks-who-drink-2-2/2028-12-28/
LOCATION:HANGAR 24 BREWING – LAKE HAVASU CITY\, CA
CATEGORIES:Lake Havasu City, CA Events
END:VEVENT
BEGIN:VEVENT
DTSTART;TZID=America/Los_Angeles:20281228T180000
DTEND;TZID=America/Los_Angeles:20281228T230000
DTSTAMP:20260424T155553
CREATED:20251223T210917Z
LAST-MODIFIED:20260219T194242Z
UID:10007333-1861639200-1861657200@hangar24brewing.com
SUMMARY:College Night (live DJ & games)
DESCRIPTION:
URL:https://hangar24brewing.com/event/college-night-live-dj-games-2/2028-12-28/
END:VEVENT
BEGIN:VEVENT
DTSTART;TZID=America/Los_Angeles:20281228T183000
DTEND;TZID=America/Los_Angeles:20281228T203000
DTSTAMP:20260424T155553
CREATED:20251223T210501Z
LAST-MODIFIED:20260219T195413Z
UID:10011500-1861641000-1861648200@hangar24brewing.com
SUMMARY:Trivia Night
DESCRIPTION:
URL:https://hangar24brewing.com/event/trivia-night-7-2/2028-12-28/
END:VEVENT
END:VCALENDAR