BEGIN:VCALENDAR
VERSION:2.0
PRODID:-//Hangar 24 Craft Brewing - ECPv6.15.20//NONSGML v1.0//EN
CALSCALE:GREGORIAN
METHOD:PUBLISH
X-ORIGINAL-URL:https://hangar24brewing.com
X-WR-CALDESC:Events for Hangar 24 Craft Brewing
REFRESH-INTERVAL;VALUE=DURATION:PT1H
X-Robots-Tag:noindex
X-PUBLISHED-TTL:PT1H
BEGIN:VTIMEZONE
TZID:America/Los_Angeles
BEGIN:DAYLIGHT
TZOFFSETFROM:-0800
TZOFFSETTO:-0700
TZNAME:PDT
DTSTART:20280312T100000
END:DAYLIGHT
BEGIN:STANDARD
TZOFFSETFROM:-0700
TZOFFSETTO:-0800
TZNAME:PST
DTSTART:20281105T090000
END:STANDARD
BEGIN:DAYLIGHT
TZOFFSETFROM:-0800
TZOFFSETTO:-0700
TZNAME:PDT
DTSTART:20290311T100000
END:DAYLIGHT
BEGIN:STANDARD
TZOFFSETFROM:-0700
TZOFFSETTO:-0800
TZNAME:PST
DTSTART:20291104T090000
END:STANDARD
BEGIN:DAYLIGHT
TZOFFSETFROM:-0800
TZOFFSETTO:-0700
TZNAME:PDT
DTSTART:20300310T100000
END:DAYLIGHT
BEGIN:STANDARD
TZOFFSETFROM:-0700
TZOFFSETTO:-0800
TZNAME:PST
DTSTART:20301103T090000
END:STANDARD
END:VTIMEZONE
BEGIN:VEVENT
DTSTART;TZID=America/Los_Angeles:20290118T190000
DTEND;TZID=America/Los_Angeles:20290118T210000
DTSTAMP:20260424T202843
CREATED:20260207T154408Z
LAST-MODIFIED:20260211T110003Z
UID:10010651-1863457200-1863464400@hangar24brewing.com
SUMMARY:Trivia Night: Epic Pub Quiz
DESCRIPTION:
URL:https://hangar24brewing.com/event/trivia-night-epic-pub-quiz-2/2029-01-18/
LOCATION:HANGAR 24 BREWING – ORANGE COUNTY\, CA
CATEGORIES:Orange County, CA Events
END:VEVENT
BEGIN:VEVENT
DTSTART;TZID=America/Los_Angeles:20290121T110000
DTEND;TZID=America/Los_Angeles:20290121T200000
DTSTAMP:20260424T202843
CREATED:20260211T035305Z
LAST-MODIFIED:20260211T035307Z
UID:10008412-1863687600-1863720000@hangar24brewing.com
SUMMARY:Happy Hour - ALL DAY
DESCRIPTION:
URL:https://hangar24brewing.com/event/happy-hour-all-day-2/2029-01-21/
END:VEVENT
BEGIN:VEVENT
DTSTART;TZID=America/Los_Angeles:20290122T180000
DTEND;TZID=America/Los_Angeles:20290122T200000
DTSTAMP:20260424T202843
CREATED:20260207T153334Z
LAST-MODIFIED:20260211T105548Z
UID:10012392-1863799200-1863806400@hangar24brewing.com
SUMMARY:"Sing Your Heart Out" Karaoke Singles Night
DESCRIPTION:
URL:https://hangar24brewing.com/event/sing-your-heart-out-karaoke-singles-night-3/2029-01-22/
LOCATION:HANGAR 24 BREWING – ORANGE COUNTY\, CA
CATEGORIES:Orange County, CA Events
END:VEVENT
BEGIN:VEVENT
DTSTART;VALUE=DATE:20290123
DTEND;VALUE=DATE:20290124
DTSTAMP:20260424T202843
CREATED:20230411T060633Z
LAST-MODIFIED:20260207T151741Z
UID:10010130-1863820800-1863907199@hangar24brewing.com
SUMMARY:TEACHER TUESDAY (25% OFF)
DESCRIPTION:Mug Club Day & Teacher Tuesday (25% OFF!)
URL:https://hangar24brewing.com/event/mug-club-day-2/2029-01-23/
LOCATION:HANGAR 24 BREWING – REDLANDS\, CA
END:VEVENT
BEGIN:VEVENT
DTSTART;VALUE=DATE:20290123
DTEND;VALUE=DATE:20290124
DTSTAMP:20260424T202843
CREATED:20250904T174742Z
LAST-MODIFIED:20260207T151846Z
UID:10010391-1863820800-1863907199@hangar24brewing.com
SUMMARY:Mug Club Discount Tuesdays ($1 off mug pours\, $2 off growler pours)
DESCRIPTION:
URL:https://hangar24brewing.com/event/mug-club-discount-tuesdays-1-off-mug-pours-2-off-growler-pours/2029-01-23/
LOCATION:HANGAR 24 BREWING – REDLANDS\, CA
END:VEVENT
BEGIN:VEVENT
DTSTART;TZID=America/Los_Angeles:20290123T190000
DTEND;TZID=America/Los_Angeles:20290123T220000
DTSTAMP:20260424T202843
CREATED:20250108T063359Z
LAST-MODIFIED:20260219T194135Z
UID:10007604-1863889200-1863900000@hangar24brewing.com
SUMMARY:Trivia Tuesdays (Pour House Trivia!)
DESCRIPTION:
URL:https://hangar24brewing.com/event/trivia-tuesdays-geeks-who-drink-3/2029-01-23/
END:VEVENT
BEGIN:VEVENT
DTSTART;TZID=America/Los_Angeles:20290124T173000
DTEND;TZID=America/Los_Angeles:20290124T193000
DTSTAMP:20260424T202843
CREATED:20251223T204203Z
LAST-MODIFIED:20260220T182628Z
UID:10008149-1863970200-1863977400@hangar24brewing.com
SUMMARY:Bingo Wednesdays!!
DESCRIPTION:
URL:https://hangar24brewing.com/event/bingo-night-2-2/2029-01-24/
LOCATION:HANGAR 24 BREWING – LAKE HAVASU CITY\, CA
CATEGORIES:Lake Havasu City, CA Events
END:VEVENT
BEGIN:VEVENT
DTSTART;TZID=America/Los_Angeles:20290125T180000
DTEND;TZID=America/Los_Angeles:20290125T200000
DTSTAMP:20260424T202843
CREATED:20251223T205854Z
LAST-MODIFIED:20260219T200301Z
UID:10009833-1864058400-1864065600@hangar24brewing.com
SUMMARY:Trivia Thursdays
DESCRIPTION:
URL:https://hangar24brewing.com/event/trivia-night-geeks-who-drink-2-2/2029-01-25/
LOCATION:HANGAR 24 BREWING – LAKE HAVASU CITY\, CA
CATEGORIES:Lake Havasu City, CA Events
END:VEVENT
BEGIN:VEVENT
DTSTART;TZID=America/Los_Angeles:20290125T180000
DTEND;TZID=America/Los_Angeles:20290125T230000
DTSTAMP:20260424T202843
CREATED:20251223T210917Z
LAST-MODIFIED:20260219T194242Z
UID:10007337-1864058400-1864076400@hangar24brewing.com
SUMMARY:College Night (live DJ & games)
DESCRIPTION:
URL:https://hangar24brewing.com/event/college-night-live-dj-games-2/2029-01-25/
END:VEVENT
BEGIN:VEVENT
DTSTART;TZID=America/Los_Angeles:20290125T183000
DTEND;TZID=America/Los_Angeles:20290125T203000
DTSTAMP:20260424T202843
CREATED:20251223T210501Z
LAST-MODIFIED:20260219T195413Z
UID:10011504-1864060200-1864067400@hangar24brewing.com
SUMMARY:Trivia Night
DESCRIPTION:
URL:https://hangar24brewing.com/event/trivia-night-7-2/2029-01-25/
END:VEVENT
BEGIN:VEVENT
DTSTART;TZID=America/Los_Angeles:20290125T190000
DTEND;TZID=America/Los_Angeles:20290125T210000
DTSTAMP:20260424T202843
CREATED:20260207T154408Z
LAST-MODIFIED:20260211T110003Z
UID:10010652-1864062000-1864069200@hangar24brewing.com
SUMMARY:Trivia Night: Epic Pub Quiz
DESCRIPTION:
URL:https://hangar24brewing.com/event/trivia-night-epic-pub-quiz-2/2029-01-25/
LOCATION:HANGAR 24 BREWING – ORANGE COUNTY\, CA
CATEGORIES:Orange County, CA Events
END:VEVENT
BEGIN:VEVENT
DTSTART;TZID=America/Los_Angeles:20290128T110000
DTEND;TZID=America/Los_Angeles:20290128T200000
DTSTAMP:20260424T202843
CREATED:20260211T035305Z
LAST-MODIFIED:20260211T035307Z
UID:10008413-1864292400-1864324800@hangar24brewing.com
SUMMARY:Happy Hour - ALL DAY
DESCRIPTION:
URL:https://hangar24brewing.com/event/happy-hour-all-day-2/2029-01-28/
END:VEVENT
BEGIN:VEVENT
DTSTART;TZID=America/Los_Angeles:20290129T180000
DTEND;TZID=America/Los_Angeles:20290129T200000
DTSTAMP:20260424T202843
CREATED:20260207T153334Z
LAST-MODIFIED:20260211T105548Z
UID:10012393-1864404000-1864411200@hangar24brewing.com
SUMMARY:"Sing Your Heart Out" Karaoke Singles Night
DESCRIPTION:
URL:https://hangar24brewing.com/event/sing-your-heart-out-karaoke-singles-night-3/2029-01-29/
LOCATION:HANGAR 24 BREWING – ORANGE COUNTY\, CA
CATEGORIES:Orange County, CA Events
END:VEVENT
BEGIN:VEVENT
DTSTART;VALUE=DATE:20290130
DTEND;VALUE=DATE:20290131
DTSTAMP:20260424T202843
CREATED:20230411T060633Z
LAST-MODIFIED:20260207T151741Z
UID:10010131-1864425600-1864511999@hangar24brewing.com
SUMMARY:TEACHER TUESDAY (25% OFF)
DESCRIPTION:Mug Club Day & Teacher Tuesday (25% OFF!)
URL:https://hangar24brewing.com/event/mug-club-day-2/2029-01-30/
LOCATION:HANGAR 24 BREWING – REDLANDS\, CA
END:VEVENT
BEGIN:VEVENT
DTSTART;VALUE=DATE:20290130
DTEND;VALUE=DATE:20290131
DTSTAMP:20260424T202843
CREATED:20250904T174742Z
LAST-MODIFIED:20260207T151846Z
UID:10010392-1864425600-1864511999@hangar24brewing.com
SUMMARY:Mug Club Discount Tuesdays ($1 off mug pours\, $2 off growler pours)
DESCRIPTION:
URL:https://hangar24brewing.com/event/mug-club-discount-tuesdays-1-off-mug-pours-2-off-growler-pours/2029-01-30/
LOCATION:HANGAR 24 BREWING – REDLANDS\, CA
END:VEVENT
BEGIN:VEVENT
DTSTART;TZID=America/Los_Angeles:20290130T190000
DTEND;TZID=America/Los_Angeles:20290130T220000
DTSTAMP:20260424T202843
CREATED:20250108T063359Z
LAST-MODIFIED:20260219T194135Z
UID:10007605-1864494000-1864504800@hangar24brewing.com
SUMMARY:Trivia Tuesdays (Pour House Trivia!)
DESCRIPTION:
URL:https://hangar24brewing.com/event/trivia-tuesdays-geeks-who-drink-3/2029-01-30/
END:VEVENT
BEGIN:VEVENT
DTSTART;TZID=America/Los_Angeles:20290131T173000
DTEND;TZID=America/Los_Angeles:20290131T193000
DTSTAMP:20260424T202843
CREATED:20251223T204203Z
LAST-MODIFIED:20260220T182628Z
UID:10008150-1864575000-1864582200@hangar24brewing.com
SUMMARY:Bingo Wednesdays!!
DESCRIPTION:
URL:https://hangar24brewing.com/event/bingo-night-2-2/2029-01-31/
LOCATION:HANGAR 24 BREWING – LAKE HAVASU CITY\, CA
CATEGORIES:Lake Havasu City, CA Events
END:VEVENT
BEGIN:VEVENT
DTSTART;TZID=America/Los_Angeles:20290201T180000
DTEND;TZID=America/Los_Angeles:20290201T200000
DTSTAMP:20260424T202843
CREATED:20251223T205854Z
LAST-MODIFIED:20260219T200301Z
UID:10009834-1864663200-1864670400@hangar24brewing.com
SUMMARY:Trivia Thursdays
DESCRIPTION:
URL:https://hangar24brewing.com/event/trivia-night-geeks-who-drink-2-2/2029-02-01/
LOCATION:HANGAR 24 BREWING – LAKE HAVASU CITY\, CA
CATEGORIES:Lake Havasu City, CA Events
END:VEVENT
BEGIN:VEVENT
DTSTART;TZID=America/Los_Angeles:20290201T180000
DTEND;TZID=America/Los_Angeles:20290201T230000
DTSTAMP:20260424T202843
CREATED:20251223T210917Z
LAST-MODIFIED:20260219T194242Z
UID:10007338-1864663200-1864681200@hangar24brewing.com
SUMMARY:College Night (live DJ & games)
DESCRIPTION:
URL:https://hangar24brewing.com/event/college-night-live-dj-games-2/2029-02-01/
END:VEVENT
BEGIN:VEVENT
DTSTART;TZID=America/Los_Angeles:20290201T183000
DTEND;TZID=America/Los_Angeles:20290201T203000
DTSTAMP:20260424T202843
CREATED:20251223T210501Z
LAST-MODIFIED:20260219T195413Z
UID:10011505-1864665000-1864672200@hangar24brewing.com
SUMMARY:Trivia Night
DESCRIPTION:
URL:https://hangar24brewing.com/event/trivia-night-7-2/2029-02-01/
END:VEVENT
BEGIN:VEVENT
DTSTART;TZID=America/Los_Angeles:20290201T190000
DTEND;TZID=America/Los_Angeles:20290201T210000
DTSTAMP:20260424T202843
CREATED:20260207T154408Z
LAST-MODIFIED:20260211T110003Z
UID:10010653-1864666800-1864674000@hangar24brewing.com
SUMMARY:Trivia Night: Epic Pub Quiz
DESCRIPTION:
URL:https://hangar24brewing.com/event/trivia-night-epic-pub-quiz-2/2029-02-01/
LOCATION:HANGAR 24 BREWING – ORANGE COUNTY\, CA
CATEGORIES:Orange County, CA Events
END:VEVENT
BEGIN:VEVENT
DTSTART;TZID=America/Los_Angeles:20290204T110000
DTEND;TZID=America/Los_Angeles:20290204T200000
DTSTAMP:20260424T202843
CREATED:20260211T035305Z
LAST-MODIFIED:20260211T035307Z
UID:10008414-1864897200-1864929600@hangar24brewing.com
SUMMARY:Happy Hour - ALL DAY
DESCRIPTION:
URL:https://hangar24brewing.com/event/happy-hour-all-day-2/2029-02-04/
END:VEVENT
BEGIN:VEVENT
DTSTART;TZID=America/Los_Angeles:20290205T180000
DTEND;TZID=America/Los_Angeles:20290205T200000
DTSTAMP:20260424T202843
CREATED:20260207T153334Z
LAST-MODIFIED:20260211T105548Z
UID:10012394-1865008800-1865016000@hangar24brewing.com
SUMMARY:"Sing Your Heart Out" Karaoke Singles Night
DESCRIPTION:
URL:https://hangar24brewing.com/event/sing-your-heart-out-karaoke-singles-night-3/2029-02-05/
LOCATION:HANGAR 24 BREWING – ORANGE COUNTY\, CA
CATEGORIES:Orange County, CA Events
END:VEVENT
BEGIN:VEVENT
DTSTART;VALUE=DATE:20290206
DTEND;VALUE=DATE:20290207
DTSTAMP:20260424T202843
CREATED:20230411T060633Z
LAST-MODIFIED:20260207T151741Z
UID:10010132-1865030400-1865116799@hangar24brewing.com
SUMMARY:TEACHER TUESDAY (25% OFF)
DESCRIPTION:Mug Club Day & Teacher Tuesday (25% OFF!)
URL:https://hangar24brewing.com/event/mug-club-day-2/2029-02-06/
LOCATION:HANGAR 24 BREWING – REDLANDS\, CA
END:VEVENT
BEGIN:VEVENT
DTSTART;VALUE=DATE:20290206
DTEND;VALUE=DATE:20290207
DTSTAMP:20260424T202843
CREATED:20250904T174742Z
LAST-MODIFIED:20260207T151846Z
UID:10010393-1865030400-1865116799@hangar24brewing.com
SUMMARY:Mug Club Discount Tuesdays ($1 off mug pours\, $2 off growler pours)
DESCRIPTION:
URL:https://hangar24brewing.com/event/mug-club-discount-tuesdays-1-off-mug-pours-2-off-growler-pours/2029-02-06/
LOCATION:HANGAR 24 BREWING – REDLANDS\, CA
END:VEVENT
BEGIN:VEVENT
DTSTART;TZID=America/Los_Angeles:20290206T190000
DTEND;TZID=America/Los_Angeles:20290206T220000
DTSTAMP:20260424T202843
CREATED:20250108T063359Z
LAST-MODIFIED:20260219T194135Z
UID:10007606-1865098800-1865109600@hangar24brewing.com
SUMMARY:Trivia Tuesdays (Pour House Trivia!)
DESCRIPTION:
URL:https://hangar24brewing.com/event/trivia-tuesdays-geeks-who-drink-3/2029-02-06/
END:VEVENT
BEGIN:VEVENT
DTSTART;TZID=America/Los_Angeles:20290207T173000
DTEND;TZID=America/Los_Angeles:20290207T193000
DTSTAMP:20260424T202843
CREATED:20251223T204203Z
LAST-MODIFIED:20260220T182628Z
UID:10008151-1865179800-1865187000@hangar24brewing.com
SUMMARY:Bingo Wednesdays!!
DESCRIPTION:
URL:https://hangar24brewing.com/event/bingo-night-2-2/2029-02-07/
LOCATION:HANGAR 24 BREWING – LAKE HAVASU CITY\, CA
CATEGORIES:Lake Havasu City, CA Events
END:VEVENT
BEGIN:VEVENT
DTSTART;TZID=America/Los_Angeles:20290208T180000
DTEND;TZID=America/Los_Angeles:20290208T200000
DTSTAMP:20260424T202843
CREATED:20251223T205854Z
LAST-MODIFIED:20260219T200301Z
UID:10009835-1865268000-1865275200@hangar24brewing.com
SUMMARY:Trivia Thursdays
DESCRIPTION:
URL:https://hangar24brewing.com/event/trivia-night-geeks-who-drink-2-2/2029-02-08/
LOCATION:HANGAR 24 BREWING – LAKE HAVASU CITY\, CA
CATEGORIES:Lake Havasu City, CA Events
END:VEVENT
BEGIN:VEVENT
DTSTART;TZID=America/Los_Angeles:20290208T180000
DTEND;TZID=America/Los_Angeles:20290208T230000
DTSTAMP:20260424T202843
CREATED:20251223T210917Z
LAST-MODIFIED:20260219T194242Z
UID:10007339-1865268000-1865286000@hangar24brewing.com
SUMMARY:College Night (live DJ & games)
DESCRIPTION:
URL:https://hangar24brewing.com/event/college-night-live-dj-games-2/2029-02-08/
END:VEVENT
BEGIN:VEVENT
DTSTART;TZID=America/Los_Angeles:20290208T183000
DTEND;TZID=America/Los_Angeles:20290208T203000
DTSTAMP:20260424T202843
CREATED:20251223T210501Z
LAST-MODIFIED:20260219T195413Z
UID:10011506-1865269800-1865277000@hangar24brewing.com
SUMMARY:Trivia Night
DESCRIPTION:
URL:https://hangar24brewing.com/event/trivia-night-7-2/2029-02-08/
END:VEVENT
END:VCALENDAR