BEGIN:VCALENDAR
VERSION:2.0
PRODID:-//Hangar 24 Craft Brewing - ECPv6.15.20//NONSGML v1.0//EN
CALSCALE:GREGORIAN
METHOD:PUBLISH
X-WR-CALNAME:Hangar 24 Craft Brewing
X-ORIGINAL-URL:https://hangar24brewing.com
X-WR-CALDESC:Events for Hangar 24 Craft Brewing
REFRESH-INTERVAL;VALUE=DURATION:PT1H
X-Robots-Tag:noindex
X-PUBLISHED-TTL:PT1H
BEGIN:VTIMEZONE
TZID:America/Los_Angeles
BEGIN:DAYLIGHT
TZOFFSETFROM:-0800
TZOFFSETTO:-0700
TZNAME:PDT
DTSTART:20280312T100000
END:DAYLIGHT
BEGIN:STANDARD
TZOFFSETFROM:-0700
TZOFFSETTO:-0800
TZNAME:PST
DTSTART:20281105T090000
END:STANDARD
BEGIN:DAYLIGHT
TZOFFSETFROM:-0800
TZOFFSETTO:-0700
TZNAME:PDT
DTSTART:20290311T100000
END:DAYLIGHT
BEGIN:STANDARD
TZOFFSETFROM:-0700
TZOFFSETTO:-0800
TZNAME:PST
DTSTART:20291104T090000
END:STANDARD
BEGIN:DAYLIGHT
TZOFFSETFROM:-0800
TZOFFSETTO:-0700
TZNAME:PDT
DTSTART:20300310T100000
END:DAYLIGHT
BEGIN:STANDARD
TZOFFSETFROM:-0700
TZOFFSETTO:-0800
TZNAME:PST
DTSTART:20301103T090000
END:STANDARD
END:VTIMEZONE
BEGIN:VEVENT
DTSTART;VALUE=DATE:20290403
DTEND;VALUE=DATE:20290404
DTSTAMP:20260425T040550
CREATED:20250904T174742Z
LAST-MODIFIED:20260207T151846Z
UID:10010401-1869868800-1869955199@hangar24brewing.com
SUMMARY:Mug Club Discount Tuesdays ($1 off mug pours\, $2 off growler pours)
DESCRIPTION:
URL:https://hangar24brewing.com/event/mug-club-discount-tuesdays-1-off-mug-pours-2-off-growler-pours/2029-04-03/
LOCATION:HANGAR 24 BREWING – REDLANDS\, CA
END:VEVENT
BEGIN:VEVENT
DTSTART;TZID=America/Los_Angeles:20290403T190000
DTEND;TZID=America/Los_Angeles:20290403T220000
DTSTAMP:20260425T040550
CREATED:20250108T063359Z
LAST-MODIFIED:20260219T194135Z
UID:10007614-1869937200-1869948000@hangar24brewing.com
SUMMARY:Trivia Tuesdays (Pour House Trivia!)
DESCRIPTION:
URL:https://hangar24brewing.com/event/trivia-tuesdays-geeks-who-drink-3/2029-04-03/
END:VEVENT
BEGIN:VEVENT
DTSTART;TZID=America/Los_Angeles:20290404T173000
DTEND;TZID=America/Los_Angeles:20290404T193000
DTSTAMP:20260425T040551
CREATED:20251223T204203Z
LAST-MODIFIED:20260220T182628Z
UID:10008159-1870018200-1870025400@hangar24brewing.com
SUMMARY:Bingo Wednesdays!!
DESCRIPTION:
URL:https://hangar24brewing.com/event/bingo-night-2-2/2029-04-04/
LOCATION:HANGAR 24 BREWING – LAKE HAVASU CITY\, CA
CATEGORIES:Lake Havasu City, CA Events
END:VEVENT
BEGIN:VEVENT
DTSTART;TZID=America/Los_Angeles:20290405T180000
DTEND;TZID=America/Los_Angeles:20290405T200000
DTSTAMP:20260425T040551
CREATED:20251223T205854Z
LAST-MODIFIED:20260219T200301Z
UID:10009843-1870106400-1870113600@hangar24brewing.com
SUMMARY:Trivia Thursdays
DESCRIPTION:
URL:https://hangar24brewing.com/event/trivia-night-geeks-who-drink-2-2/2029-04-05/
LOCATION:HANGAR 24 BREWING – LAKE HAVASU CITY\, CA
CATEGORIES:Lake Havasu City, CA Events
END:VEVENT
BEGIN:VEVENT
DTSTART;TZID=America/Los_Angeles:20290405T180000
DTEND;TZID=America/Los_Angeles:20290405T230000
DTSTAMP:20260425T040551
CREATED:20251223T210917Z
LAST-MODIFIED:20260219T194242Z
UID:10007347-1870106400-1870124400@hangar24brewing.com
SUMMARY:College Night (live DJ & games)
DESCRIPTION:
URL:https://hangar24brewing.com/event/college-night-live-dj-games-2/2029-04-05/
END:VEVENT
BEGIN:VEVENT
DTSTART;TZID=America/Los_Angeles:20290405T183000
DTEND;TZID=America/Los_Angeles:20290405T203000
DTSTAMP:20260425T040551
CREATED:20251223T210501Z
LAST-MODIFIED:20260219T195413Z
UID:10011514-1870108200-1870115400@hangar24brewing.com
SUMMARY:Trivia Night
DESCRIPTION:
URL:https://hangar24brewing.com/event/trivia-night-7-2/2029-04-05/
END:VEVENT
BEGIN:VEVENT
DTSTART;TZID=America/Los_Angeles:20290405T190000
DTEND;TZID=America/Los_Angeles:20290405T210000
DTSTAMP:20260425T040551
CREATED:20260207T154408Z
LAST-MODIFIED:20260211T110003Z
UID:10010662-1870110000-1870117200@hangar24brewing.com
SUMMARY:Trivia Night: Epic Pub Quiz
DESCRIPTION:
URL:https://hangar24brewing.com/event/trivia-night-epic-pub-quiz-2/2029-04-05/
LOCATION:HANGAR 24 BREWING – ORANGE COUNTY\, CA
CATEGORIES:Orange County, CA Events
END:VEVENT
BEGIN:VEVENT
DTSTART;TZID=America/Los_Angeles:20290408T110000
DTEND;TZID=America/Los_Angeles:20290408T200000
DTSTAMP:20260425T040551
CREATED:20260211T035305Z
LAST-MODIFIED:20260211T035307Z
UID:10008423-1870340400-1870372800@hangar24brewing.com
SUMMARY:Happy Hour - ALL DAY
DESCRIPTION:
URL:https://hangar24brewing.com/event/happy-hour-all-day-2/2029-04-08/
END:VEVENT
BEGIN:VEVENT
DTSTART;TZID=America/Los_Angeles:20290409T180000
DTEND;TZID=America/Los_Angeles:20290409T200000
DTSTAMP:20260425T040551
CREATED:20260207T153334Z
LAST-MODIFIED:20260211T105548Z
UID:10012403-1870452000-1870459200@hangar24brewing.com
SUMMARY:"Sing Your Heart Out" Karaoke Singles Night
DESCRIPTION:
URL:https://hangar24brewing.com/event/sing-your-heart-out-karaoke-singles-night-3/2029-04-09/
LOCATION:HANGAR 24 BREWING – ORANGE COUNTY\, CA
CATEGORIES:Orange County, CA Events
END:VEVENT
BEGIN:VEVENT
DTSTART;VALUE=DATE:20290410
DTEND;VALUE=DATE:20290411
DTSTAMP:20260425T040551
CREATED:20230411T060633Z
LAST-MODIFIED:20260207T151741Z
UID:10010141-1870473600-1870559999@hangar24brewing.com
SUMMARY:TEACHER TUESDAY (25% OFF)
DESCRIPTION:Mug Club Day & Teacher Tuesday (25% OFF!)
URL:https://hangar24brewing.com/event/mug-club-day-2/2029-04-10/
LOCATION:HANGAR 24 BREWING – REDLANDS\, CA
END:VEVENT
BEGIN:VEVENT
DTSTART;VALUE=DATE:20290410
DTEND;VALUE=DATE:20290411
DTSTAMP:20260425T040551
CREATED:20250904T174742Z
LAST-MODIFIED:20260207T151846Z
UID:10010402-1870473600-1870559999@hangar24brewing.com
SUMMARY:Mug Club Discount Tuesdays ($1 off mug pours\, $2 off growler pours)
DESCRIPTION:
URL:https://hangar24brewing.com/event/mug-club-discount-tuesdays-1-off-mug-pours-2-off-growler-pours/2029-04-10/
LOCATION:HANGAR 24 BREWING – REDLANDS\, CA
END:VEVENT
BEGIN:VEVENT
DTSTART;TZID=America/Los_Angeles:20290410T190000
DTEND;TZID=America/Los_Angeles:20290410T220000
DTSTAMP:20260425T040551
CREATED:20250108T063359Z
LAST-MODIFIED:20260219T194135Z
UID:10007615-1870542000-1870552800@hangar24brewing.com
SUMMARY:Trivia Tuesdays (Pour House Trivia!)
DESCRIPTION:
URL:https://hangar24brewing.com/event/trivia-tuesdays-geeks-who-drink-3/2029-04-10/
END:VEVENT
BEGIN:VEVENT
DTSTART;TZID=America/Los_Angeles:20290411T173000
DTEND;TZID=America/Los_Angeles:20290411T193000
DTSTAMP:20260425T040551
CREATED:20251223T204203Z
LAST-MODIFIED:20260220T182628Z
UID:10008160-1870623000-1870630200@hangar24brewing.com
SUMMARY:Bingo Wednesdays!!
DESCRIPTION:
URL:https://hangar24brewing.com/event/bingo-night-2-2/2029-04-11/
LOCATION:HANGAR 24 BREWING – LAKE HAVASU CITY\, CA
CATEGORIES:Lake Havasu City, CA Events
END:VEVENT
BEGIN:VEVENT
DTSTART;TZID=America/Los_Angeles:20290412T180000
DTEND;TZID=America/Los_Angeles:20290412T200000
DTSTAMP:20260425T040551
CREATED:20251223T205854Z
LAST-MODIFIED:20260219T200301Z
UID:10009844-1870711200-1870718400@hangar24brewing.com
SUMMARY:Trivia Thursdays
DESCRIPTION:
URL:https://hangar24brewing.com/event/trivia-night-geeks-who-drink-2-2/2029-04-12/
LOCATION:HANGAR 24 BREWING – LAKE HAVASU CITY\, CA
CATEGORIES:Lake Havasu City, CA Events
END:VEVENT
BEGIN:VEVENT
DTSTART;TZID=America/Los_Angeles:20290412T180000
DTEND;TZID=America/Los_Angeles:20290412T230000
DTSTAMP:20260425T040551
CREATED:20251223T210917Z
LAST-MODIFIED:20260219T194242Z
UID:10007348-1870711200-1870729200@hangar24brewing.com
SUMMARY:College Night (live DJ & games)
DESCRIPTION:
URL:https://hangar24brewing.com/event/college-night-live-dj-games-2/2029-04-12/
END:VEVENT
BEGIN:VEVENT
DTSTART;TZID=America/Los_Angeles:20290412T183000
DTEND;TZID=America/Los_Angeles:20290412T203000
DTSTAMP:20260425T040551
CREATED:20251223T210501Z
LAST-MODIFIED:20260219T195413Z
UID:10011515-1870713000-1870720200@hangar24brewing.com
SUMMARY:Trivia Night
DESCRIPTION:
URL:https://hangar24brewing.com/event/trivia-night-7-2/2029-04-12/
END:VEVENT
BEGIN:VEVENT
DTSTART;TZID=America/Los_Angeles:20290412T190000
DTEND;TZID=America/Los_Angeles:20290412T210000
DTSTAMP:20260425T040551
CREATED:20260207T154408Z
LAST-MODIFIED:20260211T110003Z
UID:10010663-1870714800-1870722000@hangar24brewing.com
SUMMARY:Trivia Night: Epic Pub Quiz
DESCRIPTION:
URL:https://hangar24brewing.com/event/trivia-night-epic-pub-quiz-2/2029-04-12/
LOCATION:HANGAR 24 BREWING – ORANGE COUNTY\, CA
CATEGORIES:Orange County, CA Events
END:VEVENT
BEGIN:VEVENT
DTSTART;TZID=America/Los_Angeles:20290415T110000
DTEND;TZID=America/Los_Angeles:20290415T200000
DTSTAMP:20260425T040551
CREATED:20260211T035305Z
LAST-MODIFIED:20260211T035307Z
UID:10008424-1870945200-1870977600@hangar24brewing.com
SUMMARY:Happy Hour - ALL DAY
DESCRIPTION:
URL:https://hangar24brewing.com/event/happy-hour-all-day-2/2029-04-15/
END:VEVENT
BEGIN:VEVENT
DTSTART;TZID=America/Los_Angeles:20290416T180000
DTEND;TZID=America/Los_Angeles:20290416T200000
DTSTAMP:20260425T040551
CREATED:20260207T153334Z
LAST-MODIFIED:20260211T105548Z
UID:10012404-1871056800-1871064000@hangar24brewing.com
SUMMARY:"Sing Your Heart Out" Karaoke Singles Night
DESCRIPTION:
URL:https://hangar24brewing.com/event/sing-your-heart-out-karaoke-singles-night-3/2029-04-16/
LOCATION:HANGAR 24 BREWING – ORANGE COUNTY\, CA
CATEGORIES:Orange County, CA Events
END:VEVENT
BEGIN:VEVENT
DTSTART;VALUE=DATE:20290417
DTEND;VALUE=DATE:20290418
DTSTAMP:20260425T040551
CREATED:20230411T060633Z
LAST-MODIFIED:20260207T151741Z
UID:10010142-1871078400-1871164799@hangar24brewing.com
SUMMARY:TEACHER TUESDAY (25% OFF)
DESCRIPTION:Mug Club Day & Teacher Tuesday (25% OFF!)
URL:https://hangar24brewing.com/event/mug-club-day-2/2029-04-17/
LOCATION:HANGAR 24 BREWING – REDLANDS\, CA
END:VEVENT
BEGIN:VEVENT
DTSTART;VALUE=DATE:20290417
DTEND;VALUE=DATE:20290418
DTSTAMP:20260425T040551
CREATED:20250904T174742Z
LAST-MODIFIED:20260207T151846Z
UID:10010403-1871078400-1871164799@hangar24brewing.com
SUMMARY:Mug Club Discount Tuesdays ($1 off mug pours\, $2 off growler pours)
DESCRIPTION:
URL:https://hangar24brewing.com/event/mug-club-discount-tuesdays-1-off-mug-pours-2-off-growler-pours/2029-04-17/
LOCATION:HANGAR 24 BREWING – REDLANDS\, CA
END:VEVENT
BEGIN:VEVENT
DTSTART;TZID=America/Los_Angeles:20290417T190000
DTEND;TZID=America/Los_Angeles:20290417T220000
DTSTAMP:20260425T040551
CREATED:20250108T063359Z
LAST-MODIFIED:20260219T194135Z
UID:10007616-1871146800-1871157600@hangar24brewing.com
SUMMARY:Trivia Tuesdays (Pour House Trivia!)
DESCRIPTION:
URL:https://hangar24brewing.com/event/trivia-tuesdays-geeks-who-drink-3/2029-04-17/
END:VEVENT
BEGIN:VEVENT
DTSTART;TZID=America/Los_Angeles:20290418T173000
DTEND;TZID=America/Los_Angeles:20290418T193000
DTSTAMP:20260425T040551
CREATED:20251223T204203Z
LAST-MODIFIED:20260220T182628Z
UID:10008161-1871227800-1871235000@hangar24brewing.com
SUMMARY:Bingo Wednesdays!!
DESCRIPTION:
URL:https://hangar24brewing.com/event/bingo-night-2-2/2029-04-18/
LOCATION:HANGAR 24 BREWING – LAKE HAVASU CITY\, CA
CATEGORIES:Lake Havasu City, CA Events
END:VEVENT
BEGIN:VEVENT
DTSTART;TZID=America/Los_Angeles:20290419T180000
DTEND;TZID=America/Los_Angeles:20290419T200000
DTSTAMP:20260425T040551
CREATED:20251223T205854Z
LAST-MODIFIED:20260219T200301Z
UID:10009845-1871316000-1871323200@hangar24brewing.com
SUMMARY:Trivia Thursdays
DESCRIPTION:
URL:https://hangar24brewing.com/event/trivia-night-geeks-who-drink-2-2/2029-04-19/
LOCATION:HANGAR 24 BREWING – LAKE HAVASU CITY\, CA
CATEGORIES:Lake Havasu City, CA Events
END:VEVENT
BEGIN:VEVENT
DTSTART;TZID=America/Los_Angeles:20290419T180000
DTEND;TZID=America/Los_Angeles:20290419T230000
DTSTAMP:20260425T040551
CREATED:20251223T210917Z
LAST-MODIFIED:20260219T194242Z
UID:10007349-1871316000-1871334000@hangar24brewing.com
SUMMARY:College Night (live DJ & games)
DESCRIPTION:
URL:https://hangar24brewing.com/event/college-night-live-dj-games-2/2029-04-19/
END:VEVENT
BEGIN:VEVENT
DTSTART;TZID=America/Los_Angeles:20290419T183000
DTEND;TZID=America/Los_Angeles:20290419T203000
DTSTAMP:20260425T040551
CREATED:20251223T210501Z
LAST-MODIFIED:20260219T195413Z
UID:10011516-1871317800-1871325000@hangar24brewing.com
SUMMARY:Trivia Night
DESCRIPTION:
URL:https://hangar24brewing.com/event/trivia-night-7-2/2029-04-19/
END:VEVENT
BEGIN:VEVENT
DTSTART;TZID=America/Los_Angeles:20290419T190000
DTEND;TZID=America/Los_Angeles:20290419T210000
DTSTAMP:20260425T040551
CREATED:20260207T154408Z
LAST-MODIFIED:20260211T110003Z
UID:10010664-1871319600-1871326800@hangar24brewing.com
SUMMARY:Trivia Night: Epic Pub Quiz
DESCRIPTION:
URL:https://hangar24brewing.com/event/trivia-night-epic-pub-quiz-2/2029-04-19/
LOCATION:HANGAR 24 BREWING – ORANGE COUNTY\, CA
CATEGORIES:Orange County, CA Events
END:VEVENT
BEGIN:VEVENT
DTSTART;TZID=America/Los_Angeles:20290422T110000
DTEND;TZID=America/Los_Angeles:20290422T200000
DTSTAMP:20260425T040551
CREATED:20260211T035305Z
LAST-MODIFIED:20260211T035307Z
UID:10008425-1871550000-1871582400@hangar24brewing.com
SUMMARY:Happy Hour - ALL DAY
DESCRIPTION:
URL:https://hangar24brewing.com/event/happy-hour-all-day-2/2029-04-22/
END:VEVENT
BEGIN:VEVENT
DTSTART;TZID=America/Los_Angeles:20290423T180000
DTEND;TZID=America/Los_Angeles:20290423T200000
DTSTAMP:20260425T040551
CREATED:20260207T153334Z
LAST-MODIFIED:20260211T105548Z
UID:10012405-1871661600-1871668800@hangar24brewing.com
SUMMARY:"Sing Your Heart Out" Karaoke Singles Night
DESCRIPTION:
URL:https://hangar24brewing.com/event/sing-your-heart-out-karaoke-singles-night-3/2029-04-23/
LOCATION:HANGAR 24 BREWING – ORANGE COUNTY\, CA
CATEGORIES:Orange County, CA Events
END:VEVENT
BEGIN:VEVENT
DTSTART;VALUE=DATE:20290424
DTEND;VALUE=DATE:20290425
DTSTAMP:20260425T040551
CREATED:20230411T060633Z
LAST-MODIFIED:20260207T151741Z
UID:10010143-1871683200-1871769599@hangar24brewing.com
SUMMARY:TEACHER TUESDAY (25% OFF)
DESCRIPTION:Mug Club Day & Teacher Tuesday (25% OFF!)
URL:https://hangar24brewing.com/event/mug-club-day-2/2029-04-24/
LOCATION:HANGAR 24 BREWING – REDLANDS\, CA
END:VEVENT
END:VCALENDAR