BEGIN:VCALENDAR
VERSION:2.0
PRODID:-//Hangar 24 Craft Brewing - ECPv6.15.20//NONSGML v1.0//EN
CALSCALE:GREGORIAN
METHOD:PUBLISH
X-ORIGINAL-URL:https://hangar24brewing.com
X-WR-CALDESC:Events for Hangar 24 Craft Brewing
REFRESH-INTERVAL;VALUE=DURATION:PT1H
X-Robots-Tag:noindex
X-PUBLISHED-TTL:PT1H
BEGIN:VTIMEZONE
TZID:America/Los_Angeles
BEGIN:DAYLIGHT
TZOFFSETFROM:-0800
TZOFFSETTO:-0700
TZNAME:PDT
DTSTART:20280312T100000
END:DAYLIGHT
BEGIN:STANDARD
TZOFFSETFROM:-0700
TZOFFSETTO:-0800
TZNAME:PST
DTSTART:20281105T090000
END:STANDARD
BEGIN:DAYLIGHT
TZOFFSETFROM:-0800
TZOFFSETTO:-0700
TZNAME:PDT
DTSTART:20290311T100000
END:DAYLIGHT
BEGIN:STANDARD
TZOFFSETFROM:-0700
TZOFFSETTO:-0800
TZNAME:PST
DTSTART:20291104T090000
END:STANDARD
BEGIN:DAYLIGHT
TZOFFSETFROM:-0800
TZOFFSETTO:-0700
TZNAME:PDT
DTSTART:20300310T100000
END:DAYLIGHT
BEGIN:STANDARD
TZOFFSETFROM:-0700
TZOFFSETTO:-0800
TZNAME:PST
DTSTART:20301103T090000
END:STANDARD
END:VTIMEZONE
BEGIN:VEVENT
DTSTART;VALUE=DATE:20290417
DTEND;VALUE=DATE:20290418
DTSTAMP:20260425T053922
CREATED:20250904T174742Z
LAST-MODIFIED:20260207T151846Z
UID:10010403-1871078400-1871164799@hangar24brewing.com
SUMMARY:Mug Club Discount Tuesdays ($1 off mug pours\, $2 off growler pours)
DESCRIPTION:
URL:https://hangar24brewing.com/event/mug-club-discount-tuesdays-1-off-mug-pours-2-off-growler-pours/2029-04-17/
LOCATION:HANGAR 24 BREWING – REDLANDS\, CA
END:VEVENT
BEGIN:VEVENT
DTSTART;TZID=America/Los_Angeles:20290417T190000
DTEND;TZID=America/Los_Angeles:20290417T220000
DTSTAMP:20260425T053922
CREATED:20250108T063359Z
LAST-MODIFIED:20260219T194135Z
UID:10007616-1871146800-1871157600@hangar24brewing.com
SUMMARY:Trivia Tuesdays (Pour House Trivia!)
DESCRIPTION:
URL:https://hangar24brewing.com/event/trivia-tuesdays-geeks-who-drink-3/2029-04-17/
END:VEVENT
BEGIN:VEVENT
DTSTART;TZID=America/Los_Angeles:20290418T173000
DTEND;TZID=America/Los_Angeles:20290418T193000
DTSTAMP:20260425T053922
CREATED:20251223T204203Z
LAST-MODIFIED:20260220T182628Z
UID:10008161-1871227800-1871235000@hangar24brewing.com
SUMMARY:Bingo Wednesdays!!
DESCRIPTION:
URL:https://hangar24brewing.com/event/bingo-night-2-2/2029-04-18/
LOCATION:HANGAR 24 BREWING – LAKE HAVASU CITY\, CA
CATEGORIES:Lake Havasu City, CA Events
END:VEVENT
BEGIN:VEVENT
DTSTART;TZID=America/Los_Angeles:20290419T180000
DTEND;TZID=America/Los_Angeles:20290419T200000
DTSTAMP:20260425T053922
CREATED:20251223T205854Z
LAST-MODIFIED:20260219T200301Z
UID:10009845-1871316000-1871323200@hangar24brewing.com
SUMMARY:Trivia Thursdays
DESCRIPTION:
URL:https://hangar24brewing.com/event/trivia-night-geeks-who-drink-2-2/2029-04-19/
LOCATION:HANGAR 24 BREWING – LAKE HAVASU CITY\, CA
CATEGORIES:Lake Havasu City, CA Events
END:VEVENT
BEGIN:VEVENT
DTSTART;TZID=America/Los_Angeles:20290419T180000
DTEND;TZID=America/Los_Angeles:20290419T230000
DTSTAMP:20260425T053922
CREATED:20251223T210917Z
LAST-MODIFIED:20260219T194242Z
UID:10007349-1871316000-1871334000@hangar24brewing.com
SUMMARY:College Night (live DJ & games)
DESCRIPTION:
URL:https://hangar24brewing.com/event/college-night-live-dj-games-2/2029-04-19/
END:VEVENT
BEGIN:VEVENT
DTSTART;TZID=America/Los_Angeles:20290419T183000
DTEND;TZID=America/Los_Angeles:20290419T203000
DTSTAMP:20260425T053922
CREATED:20251223T210501Z
LAST-MODIFIED:20260219T195413Z
UID:10011516-1871317800-1871325000@hangar24brewing.com
SUMMARY:Trivia Night
DESCRIPTION:
URL:https://hangar24brewing.com/event/trivia-night-7-2/2029-04-19/
END:VEVENT
BEGIN:VEVENT
DTSTART;TZID=America/Los_Angeles:20290419T190000
DTEND;TZID=America/Los_Angeles:20290419T210000
DTSTAMP:20260425T053922
CREATED:20260207T154408Z
LAST-MODIFIED:20260211T110003Z
UID:10010664-1871319600-1871326800@hangar24brewing.com
SUMMARY:Trivia Night: Epic Pub Quiz
DESCRIPTION:
URL:https://hangar24brewing.com/event/trivia-night-epic-pub-quiz-2/2029-04-19/
LOCATION:HANGAR 24 BREWING – ORANGE COUNTY\, CA
CATEGORIES:Orange County, CA Events
END:VEVENT
BEGIN:VEVENT
DTSTART;TZID=America/Los_Angeles:20290422T110000
DTEND;TZID=America/Los_Angeles:20290422T200000
DTSTAMP:20260425T053922
CREATED:20260211T035305Z
LAST-MODIFIED:20260211T035307Z
UID:10008425-1871550000-1871582400@hangar24brewing.com
SUMMARY:Happy Hour - ALL DAY
DESCRIPTION:
URL:https://hangar24brewing.com/event/happy-hour-all-day-2/2029-04-22/
END:VEVENT
BEGIN:VEVENT
DTSTART;TZID=America/Los_Angeles:20290423T180000
DTEND;TZID=America/Los_Angeles:20290423T200000
DTSTAMP:20260425T053922
CREATED:20260207T153334Z
LAST-MODIFIED:20260211T105548Z
UID:10012405-1871661600-1871668800@hangar24brewing.com
SUMMARY:"Sing Your Heart Out" Karaoke Singles Night
DESCRIPTION:
URL:https://hangar24brewing.com/event/sing-your-heart-out-karaoke-singles-night-3/2029-04-23/
LOCATION:HANGAR 24 BREWING – ORANGE COUNTY\, CA
CATEGORIES:Orange County, CA Events
END:VEVENT
BEGIN:VEVENT
DTSTART;VALUE=DATE:20290424
DTEND;VALUE=DATE:20290425
DTSTAMP:20260425T053922
CREATED:20230411T060633Z
LAST-MODIFIED:20260207T151741Z
UID:10010143-1871683200-1871769599@hangar24brewing.com
SUMMARY:TEACHER TUESDAY (25% OFF)
DESCRIPTION:Mug Club Day & Teacher Tuesday (25% OFF!)
URL:https://hangar24brewing.com/event/mug-club-day-2/2029-04-24/
LOCATION:HANGAR 24 BREWING – REDLANDS\, CA
END:VEVENT
BEGIN:VEVENT
DTSTART;VALUE=DATE:20290424
DTEND;VALUE=DATE:20290425
DTSTAMP:20260425T053922
CREATED:20250904T174742Z
LAST-MODIFIED:20260207T151846Z
UID:10010404-1871683200-1871769599@hangar24brewing.com
SUMMARY:Mug Club Discount Tuesdays ($1 off mug pours\, $2 off growler pours)
DESCRIPTION:
URL:https://hangar24brewing.com/event/mug-club-discount-tuesdays-1-off-mug-pours-2-off-growler-pours/2029-04-24/
LOCATION:HANGAR 24 BREWING – REDLANDS\, CA
END:VEVENT
BEGIN:VEVENT
DTSTART;TZID=America/Los_Angeles:20290424T190000
DTEND;TZID=America/Los_Angeles:20290424T220000
DTSTAMP:20260425T053922
CREATED:20250108T063359Z
LAST-MODIFIED:20260219T194135Z
UID:10007617-1871751600-1871762400@hangar24brewing.com
SUMMARY:Trivia Tuesdays (Pour House Trivia!)
DESCRIPTION:
URL:https://hangar24brewing.com/event/trivia-tuesdays-geeks-who-drink-3/2029-04-24/
END:VEVENT
BEGIN:VEVENT
DTSTART;TZID=America/Los_Angeles:20290425T173000
DTEND;TZID=America/Los_Angeles:20290425T193000
DTSTAMP:20260425T053922
CREATED:20251223T204203Z
LAST-MODIFIED:20260220T182628Z
UID:10008162-1871832600-1871839800@hangar24brewing.com
SUMMARY:Bingo Wednesdays!!
DESCRIPTION:
URL:https://hangar24brewing.com/event/bingo-night-2-2/2029-04-25/
LOCATION:HANGAR 24 BREWING – LAKE HAVASU CITY\, CA
CATEGORIES:Lake Havasu City, CA Events
END:VEVENT
BEGIN:VEVENT
DTSTART;TZID=America/Los_Angeles:20290426T180000
DTEND;TZID=America/Los_Angeles:20290426T200000
DTSTAMP:20260425T053922
CREATED:20251223T205854Z
LAST-MODIFIED:20260219T200301Z
UID:10009846-1871920800-1871928000@hangar24brewing.com
SUMMARY:Trivia Thursdays
DESCRIPTION:
URL:https://hangar24brewing.com/event/trivia-night-geeks-who-drink-2-2/2029-04-26/
LOCATION:HANGAR 24 BREWING – LAKE HAVASU CITY\, CA
CATEGORIES:Lake Havasu City, CA Events
END:VEVENT
BEGIN:VEVENT
DTSTART;TZID=America/Los_Angeles:20290426T180000
DTEND;TZID=America/Los_Angeles:20290426T230000
DTSTAMP:20260425T053922
CREATED:20251223T210917Z
LAST-MODIFIED:20260219T194242Z
UID:10007350-1871920800-1871938800@hangar24brewing.com
SUMMARY:College Night (live DJ & games)
DESCRIPTION:
URL:https://hangar24brewing.com/event/college-night-live-dj-games-2/2029-04-26/
END:VEVENT
BEGIN:VEVENT
DTSTART;TZID=America/Los_Angeles:20290426T183000
DTEND;TZID=America/Los_Angeles:20290426T203000
DTSTAMP:20260425T053922
CREATED:20251223T210501Z
LAST-MODIFIED:20260219T195413Z
UID:10011517-1871922600-1871929800@hangar24brewing.com
SUMMARY:Trivia Night
DESCRIPTION:
URL:https://hangar24brewing.com/event/trivia-night-7-2/2029-04-26/
END:VEVENT
BEGIN:VEVENT
DTSTART;TZID=America/Los_Angeles:20290426T190000
DTEND;TZID=America/Los_Angeles:20290426T210000
DTSTAMP:20260425T053922
CREATED:20260207T154408Z
LAST-MODIFIED:20260211T110003Z
UID:10010665-1871924400-1871931600@hangar24brewing.com
SUMMARY:Trivia Night: Epic Pub Quiz
DESCRIPTION:
URL:https://hangar24brewing.com/event/trivia-night-epic-pub-quiz-2/2029-04-26/
LOCATION:HANGAR 24 BREWING – ORANGE COUNTY\, CA
CATEGORIES:Orange County, CA Events
END:VEVENT
BEGIN:VEVENT
DTSTART;TZID=America/Los_Angeles:20290429T110000
DTEND;TZID=America/Los_Angeles:20290429T200000
DTSTAMP:20260425T053922
CREATED:20260211T035305Z
LAST-MODIFIED:20260211T035307Z
UID:10008426-1872154800-1872187200@hangar24brewing.com
SUMMARY:Happy Hour - ALL DAY
DESCRIPTION:
URL:https://hangar24brewing.com/event/happy-hour-all-day-2/2029-04-29/
END:VEVENT
BEGIN:VEVENT
DTSTART;TZID=America/Los_Angeles:20290430T180000
DTEND;TZID=America/Los_Angeles:20290430T200000
DTSTAMP:20260425T053922
CREATED:20260207T153334Z
LAST-MODIFIED:20260211T105548Z
UID:10012406-1872266400-1872273600@hangar24brewing.com
SUMMARY:"Sing Your Heart Out" Karaoke Singles Night
DESCRIPTION:
URL:https://hangar24brewing.com/event/sing-your-heart-out-karaoke-singles-night-3/2029-04-30/
LOCATION:HANGAR 24 BREWING – ORANGE COUNTY\, CA
CATEGORIES:Orange County, CA Events
END:VEVENT
BEGIN:VEVENT
DTSTART;VALUE=DATE:20290501
DTEND;VALUE=DATE:20290502
DTSTAMP:20260425T053922
CREATED:20230411T060633Z
LAST-MODIFIED:20260207T151741Z
UID:10010144-1872288000-1872374399@hangar24brewing.com
SUMMARY:TEACHER TUESDAY (25% OFF)
DESCRIPTION:Mug Club Day & Teacher Tuesday (25% OFF!)
URL:https://hangar24brewing.com/event/mug-club-day-2/2029-05-01/
LOCATION:HANGAR 24 BREWING – REDLANDS\, CA
END:VEVENT
BEGIN:VEVENT
DTSTART;VALUE=DATE:20290501
DTEND;VALUE=DATE:20290502
DTSTAMP:20260425T053922
CREATED:20250904T174742Z
LAST-MODIFIED:20260207T151846Z
UID:10010405-1872288000-1872374399@hangar24brewing.com
SUMMARY:Mug Club Discount Tuesdays ($1 off mug pours\, $2 off growler pours)
DESCRIPTION:
URL:https://hangar24brewing.com/event/mug-club-discount-tuesdays-1-off-mug-pours-2-off-growler-pours/2029-05-01/
LOCATION:HANGAR 24 BREWING – REDLANDS\, CA
END:VEVENT
BEGIN:VEVENT
DTSTART;TZID=America/Los_Angeles:20290501T190000
DTEND;TZID=America/Los_Angeles:20290501T220000
DTSTAMP:20260425T053922
CREATED:20250108T063359Z
LAST-MODIFIED:20260219T194135Z
UID:10007618-1872356400-1872367200@hangar24brewing.com
SUMMARY:Trivia Tuesdays (Pour House Trivia!)
DESCRIPTION:
URL:https://hangar24brewing.com/event/trivia-tuesdays-geeks-who-drink-3/2029-05-01/
END:VEVENT
BEGIN:VEVENT
DTSTART;TZID=America/Los_Angeles:20290502T173000
DTEND;TZID=America/Los_Angeles:20290502T193000
DTSTAMP:20260425T053922
CREATED:20251223T204203Z
LAST-MODIFIED:20260220T182628Z
UID:10008163-1872437400-1872444600@hangar24brewing.com
SUMMARY:Bingo Wednesdays!!
DESCRIPTION:
URL:https://hangar24brewing.com/event/bingo-night-2-2/2029-05-02/
LOCATION:HANGAR 24 BREWING – LAKE HAVASU CITY\, CA
CATEGORIES:Lake Havasu City, CA Events
END:VEVENT
BEGIN:VEVENT
DTSTART;TZID=America/Los_Angeles:20290503T180000
DTEND;TZID=America/Los_Angeles:20290503T200000
DTSTAMP:20260425T053922
CREATED:20251223T205854Z
LAST-MODIFIED:20260219T200301Z
UID:10009847-1872525600-1872532800@hangar24brewing.com
SUMMARY:Trivia Thursdays
DESCRIPTION:
URL:https://hangar24brewing.com/event/trivia-night-geeks-who-drink-2-2/2029-05-03/
LOCATION:HANGAR 24 BREWING – LAKE HAVASU CITY\, CA
CATEGORIES:Lake Havasu City, CA Events
END:VEVENT
BEGIN:VEVENT
DTSTART;TZID=America/Los_Angeles:20290503T180000
DTEND;TZID=America/Los_Angeles:20290503T230000
DTSTAMP:20260425T053922
CREATED:20251223T210917Z
LAST-MODIFIED:20260219T194242Z
UID:10007351-1872525600-1872543600@hangar24brewing.com
SUMMARY:College Night (live DJ & games)
DESCRIPTION:
URL:https://hangar24brewing.com/event/college-night-live-dj-games-2/2029-05-03/
END:VEVENT
BEGIN:VEVENT
DTSTART;TZID=America/Los_Angeles:20290503T183000
DTEND;TZID=America/Los_Angeles:20290503T203000
DTSTAMP:20260425T053922
CREATED:20251223T210501Z
LAST-MODIFIED:20260219T195413Z
UID:10011518-1872527400-1872534600@hangar24brewing.com
SUMMARY:Trivia Night
DESCRIPTION:
URL:https://hangar24brewing.com/event/trivia-night-7-2/2029-05-03/
END:VEVENT
BEGIN:VEVENT
DTSTART;TZID=America/Los_Angeles:20290503T190000
DTEND;TZID=America/Los_Angeles:20290503T210000
DTSTAMP:20260425T053922
CREATED:20260207T154408Z
LAST-MODIFIED:20260211T110003Z
UID:10010666-1872529200-1872536400@hangar24brewing.com
SUMMARY:Trivia Night: Epic Pub Quiz
DESCRIPTION:
URL:https://hangar24brewing.com/event/trivia-night-epic-pub-quiz-2/2029-05-03/
LOCATION:HANGAR 24 BREWING – ORANGE COUNTY\, CA
CATEGORIES:Orange County, CA Events
END:VEVENT
BEGIN:VEVENT
DTSTART;TZID=America/Los_Angeles:20290506T110000
DTEND;TZID=America/Los_Angeles:20290506T200000
DTSTAMP:20260425T053922
CREATED:20260211T035305Z
LAST-MODIFIED:20260211T035307Z
UID:10008427-1872759600-1872792000@hangar24brewing.com
SUMMARY:Happy Hour - ALL DAY
DESCRIPTION:
URL:https://hangar24brewing.com/event/happy-hour-all-day-2/2029-05-06/
END:VEVENT
BEGIN:VEVENT
DTSTART;TZID=America/Los_Angeles:20290507T180000
DTEND;TZID=America/Los_Angeles:20290507T200000
DTSTAMP:20260425T053922
CREATED:20260207T153334Z
LAST-MODIFIED:20260211T105548Z
UID:10012407-1872871200-1872878400@hangar24brewing.com
SUMMARY:"Sing Your Heart Out" Karaoke Singles Night
DESCRIPTION:
URL:https://hangar24brewing.com/event/sing-your-heart-out-karaoke-singles-night-3/2029-05-07/
LOCATION:HANGAR 24 BREWING – ORANGE COUNTY\, CA
CATEGORIES:Orange County, CA Events
END:VEVENT
BEGIN:VEVENT
DTSTART;VALUE=DATE:20290508
DTEND;VALUE=DATE:20290509
DTSTAMP:20260425T053922
CREATED:20230411T060633Z
LAST-MODIFIED:20260207T151741Z
UID:10010145-1872892800-1872979199@hangar24brewing.com
SUMMARY:TEACHER TUESDAY (25% OFF)
DESCRIPTION:Mug Club Day & Teacher Tuesday (25% OFF!)
URL:https://hangar24brewing.com/event/mug-club-day-2/2029-05-08/
LOCATION:HANGAR 24 BREWING – REDLANDS\, CA
END:VEVENT
END:VCALENDAR