BEGIN:VCALENDAR
VERSION:2.0
PRODID:-//Hangar 24 Craft Brewing - ECPv6.15.20//NONSGML v1.0//EN
CALSCALE:GREGORIAN
METHOD:PUBLISH
X-WR-CALNAME:Hangar 24 Craft Brewing
X-ORIGINAL-URL:https://hangar24brewing.com
X-WR-CALDESC:Events for Hangar 24 Craft Brewing
REFRESH-INTERVAL;VALUE=DURATION:PT1H
X-Robots-Tag:noindex
X-PUBLISHED-TTL:PT1H
BEGIN:VTIMEZONE
TZID:America/Los_Angeles
BEGIN:DAYLIGHT
TZOFFSETFROM:-0800
TZOFFSETTO:-0700
TZNAME:PDT
DTSTART:20280312T100000
END:DAYLIGHT
BEGIN:STANDARD
TZOFFSETFROM:-0700
TZOFFSETTO:-0800
TZNAME:PST
DTSTART:20281105T090000
END:STANDARD
BEGIN:DAYLIGHT
TZOFFSETFROM:-0800
TZOFFSETTO:-0700
TZNAME:PDT
DTSTART:20290311T100000
END:DAYLIGHT
BEGIN:STANDARD
TZOFFSETFROM:-0700
TZOFFSETTO:-0800
TZNAME:PST
DTSTART:20291104T090000
END:STANDARD
BEGIN:DAYLIGHT
TZOFFSETFROM:-0800
TZOFFSETTO:-0700
TZNAME:PDT
DTSTART:20300310T100000
END:DAYLIGHT
BEGIN:STANDARD
TZOFFSETFROM:-0700
TZOFFSETTO:-0800
TZNAME:PST
DTSTART:20301103T090000
END:STANDARD
END:VTIMEZONE
BEGIN:VEVENT
DTSTART;VALUE=DATE:20290612
DTEND;VALUE=DATE:20290613
DTSTAMP:20260425T114720
CREATED:20250904T174742Z
LAST-MODIFIED:20260207T151846Z
UID:10010411-1875916800-1876003199@hangar24brewing.com
SUMMARY:Mug Club Discount Tuesdays ($1 off mug pours\, $2 off growler pours)
DESCRIPTION:
URL:https://hangar24brewing.com/event/mug-club-discount-tuesdays-1-off-mug-pours-2-off-growler-pours/2029-06-12/
LOCATION:HANGAR 24 BREWING – REDLANDS\, CA
END:VEVENT
BEGIN:VEVENT
DTSTART;TZID=America/Los_Angeles:20290612T190000
DTEND;TZID=America/Los_Angeles:20290612T220000
DTSTAMP:20260425T114720
CREATED:20250108T063359Z
LAST-MODIFIED:20260219T194135Z
UID:10007624-1875985200-1875996000@hangar24brewing.com
SUMMARY:Trivia Tuesdays (Pour House Trivia!)
DESCRIPTION:
URL:https://hangar24brewing.com/event/trivia-tuesdays-geeks-who-drink-3/2029-06-12/
END:VEVENT
BEGIN:VEVENT
DTSTART;TZID=America/Los_Angeles:20290613T173000
DTEND;TZID=America/Los_Angeles:20290613T193000
DTSTAMP:20260425T114720
CREATED:20251223T204203Z
LAST-MODIFIED:20260220T182628Z
UID:10008169-1876066200-1876073400@hangar24brewing.com
SUMMARY:Bingo Wednesdays!!
DESCRIPTION:
URL:https://hangar24brewing.com/event/bingo-night-2-2/2029-06-13/
LOCATION:HANGAR 24 BREWING – LAKE HAVASU CITY\, CA
CATEGORIES:Lake Havasu City, CA Events
END:VEVENT
BEGIN:VEVENT
DTSTART;TZID=America/Los_Angeles:20290614T180000
DTEND;TZID=America/Los_Angeles:20290614T200000
DTSTAMP:20260425T114720
CREATED:20251223T205854Z
LAST-MODIFIED:20260219T200301Z
UID:10009853-1876154400-1876161600@hangar24brewing.com
SUMMARY:Trivia Thursdays
DESCRIPTION:
URL:https://hangar24brewing.com/event/trivia-night-geeks-who-drink-2-2/2029-06-14/
LOCATION:HANGAR 24 BREWING – LAKE HAVASU CITY\, CA
CATEGORIES:Lake Havasu City, CA Events
END:VEVENT
BEGIN:VEVENT
DTSTART;TZID=America/Los_Angeles:20290614T180000
DTEND;TZID=America/Los_Angeles:20290614T230000
DTSTAMP:20260425T114720
CREATED:20251223T210917Z
LAST-MODIFIED:20260219T194242Z
UID:10007357-1876154400-1876172400@hangar24brewing.com
SUMMARY:College Night (live DJ & games)
DESCRIPTION:
URL:https://hangar24brewing.com/event/college-night-live-dj-games-2/2029-06-14/
END:VEVENT
BEGIN:VEVENT
DTSTART;TZID=America/Los_Angeles:20290614T183000
DTEND;TZID=America/Los_Angeles:20290614T203000
DTSTAMP:20260425T114720
CREATED:20251223T210501Z
LAST-MODIFIED:20260219T195413Z
UID:10011524-1876156200-1876163400@hangar24brewing.com
SUMMARY:Trivia Night
DESCRIPTION:
URL:https://hangar24brewing.com/event/trivia-night-7-2/2029-06-14/
END:VEVENT
BEGIN:VEVENT
DTSTART;TZID=America/Los_Angeles:20290614T190000
DTEND;TZID=America/Los_Angeles:20290614T210000
DTSTAMP:20260425T114720
CREATED:20260207T154408Z
LAST-MODIFIED:20260211T110003Z
UID:10010672-1876158000-1876165200@hangar24brewing.com
SUMMARY:Trivia Night: Epic Pub Quiz
DESCRIPTION:
URL:https://hangar24brewing.com/event/trivia-night-epic-pub-quiz-2/2029-06-14/
LOCATION:HANGAR 24 BREWING – ORANGE COUNTY\, CA
CATEGORIES:Orange County, CA Events
END:VEVENT
BEGIN:VEVENT
DTSTART;TZID=America/Los_Angeles:20290617T110000
DTEND;TZID=America/Los_Angeles:20290617T200000
DTSTAMP:20260425T114720
CREATED:20260211T035305Z
LAST-MODIFIED:20260211T035307Z
UID:10008433-1876388400-1876420800@hangar24brewing.com
SUMMARY:Happy Hour - ALL DAY
DESCRIPTION:
URL:https://hangar24brewing.com/event/happy-hour-all-day-2/2029-06-17/
END:VEVENT
BEGIN:VEVENT
DTSTART;TZID=America/Los_Angeles:20290618T180000
DTEND;TZID=America/Los_Angeles:20290618T200000
DTSTAMP:20260425T114720
CREATED:20260207T153334Z
LAST-MODIFIED:20260211T105548Z
UID:10012413-1876500000-1876507200@hangar24brewing.com
SUMMARY:"Sing Your Heart Out" Karaoke Singles Night
DESCRIPTION:
URL:https://hangar24brewing.com/event/sing-your-heart-out-karaoke-singles-night-3/2029-06-18/
LOCATION:HANGAR 24 BREWING – ORANGE COUNTY\, CA
CATEGORIES:Orange County, CA Events
END:VEVENT
BEGIN:VEVENT
DTSTART;VALUE=DATE:20290619
DTEND;VALUE=DATE:20290620
DTSTAMP:20260425T114720
CREATED:20230411T060633Z
LAST-MODIFIED:20260207T151741Z
UID:10010151-1876521600-1876607999@hangar24brewing.com
SUMMARY:TEACHER TUESDAY (25% OFF)
DESCRIPTION:Mug Club Day & Teacher Tuesday (25% OFF!)
URL:https://hangar24brewing.com/event/mug-club-day-2/2029-06-19/
LOCATION:HANGAR 24 BREWING – REDLANDS\, CA
END:VEVENT
BEGIN:VEVENT
DTSTART;VALUE=DATE:20290619
DTEND;VALUE=DATE:20290620
DTSTAMP:20260425T114720
CREATED:20250904T174742Z
LAST-MODIFIED:20260207T151846Z
UID:10010412-1876521600-1876607999@hangar24brewing.com
SUMMARY:Mug Club Discount Tuesdays ($1 off mug pours\, $2 off growler pours)
DESCRIPTION:
URL:https://hangar24brewing.com/event/mug-club-discount-tuesdays-1-off-mug-pours-2-off-growler-pours/2029-06-19/
LOCATION:HANGAR 24 BREWING – REDLANDS\, CA
END:VEVENT
BEGIN:VEVENT
DTSTART;TZID=America/Los_Angeles:20290619T190000
DTEND;TZID=America/Los_Angeles:20290619T220000
DTSTAMP:20260425T114720
CREATED:20250108T063359Z
LAST-MODIFIED:20260219T194135Z
UID:10007625-1876590000-1876600800@hangar24brewing.com
SUMMARY:Trivia Tuesdays (Pour House Trivia!)
DESCRIPTION:
URL:https://hangar24brewing.com/event/trivia-tuesdays-geeks-who-drink-3/2029-06-19/
END:VEVENT
BEGIN:VEVENT
DTSTART;TZID=America/Los_Angeles:20290620T173000
DTEND;TZID=America/Los_Angeles:20290620T193000
DTSTAMP:20260425T114720
CREATED:20251223T204203Z
LAST-MODIFIED:20260220T182628Z
UID:10008170-1876671000-1876678200@hangar24brewing.com
SUMMARY:Bingo Wednesdays!!
DESCRIPTION:
URL:https://hangar24brewing.com/event/bingo-night-2-2/2029-06-20/
LOCATION:HANGAR 24 BREWING – LAKE HAVASU CITY\, CA
CATEGORIES:Lake Havasu City, CA Events
END:VEVENT
BEGIN:VEVENT
DTSTART;TZID=America/Los_Angeles:20290621T180000
DTEND;TZID=America/Los_Angeles:20290621T200000
DTSTAMP:20260425T114720
CREATED:20251223T205854Z
LAST-MODIFIED:20260219T200301Z
UID:10009854-1876759200-1876766400@hangar24brewing.com
SUMMARY:Trivia Thursdays
DESCRIPTION:
URL:https://hangar24brewing.com/event/trivia-night-geeks-who-drink-2-2/2029-06-21/
LOCATION:HANGAR 24 BREWING – LAKE HAVASU CITY\, CA
CATEGORIES:Lake Havasu City, CA Events
END:VEVENT
BEGIN:VEVENT
DTSTART;TZID=America/Los_Angeles:20290621T180000
DTEND;TZID=America/Los_Angeles:20290621T230000
DTSTAMP:20260425T114720
CREATED:20251223T210917Z
LAST-MODIFIED:20260219T194242Z
UID:10007358-1876759200-1876777200@hangar24brewing.com
SUMMARY:College Night (live DJ & games)
DESCRIPTION:
URL:https://hangar24brewing.com/event/college-night-live-dj-games-2/2029-06-21/
END:VEVENT
BEGIN:VEVENT
DTSTART;TZID=America/Los_Angeles:20290621T183000
DTEND;TZID=America/Los_Angeles:20290621T203000
DTSTAMP:20260425T114720
CREATED:20251223T210501Z
LAST-MODIFIED:20260219T195413Z
UID:10011525-1876761000-1876768200@hangar24brewing.com
SUMMARY:Trivia Night
DESCRIPTION:
URL:https://hangar24brewing.com/event/trivia-night-7-2/2029-06-21/
END:VEVENT
BEGIN:VEVENT
DTSTART;TZID=America/Los_Angeles:20290621T190000
DTEND;TZID=America/Los_Angeles:20290621T210000
DTSTAMP:20260425T114720
CREATED:20260207T154408Z
LAST-MODIFIED:20260211T110003Z
UID:10010673-1876762800-1876770000@hangar24brewing.com
SUMMARY:Trivia Night: Epic Pub Quiz
DESCRIPTION:
URL:https://hangar24brewing.com/event/trivia-night-epic-pub-quiz-2/2029-06-21/
LOCATION:HANGAR 24 BREWING – ORANGE COUNTY\, CA
CATEGORIES:Orange County, CA Events
END:VEVENT
BEGIN:VEVENT
DTSTART;TZID=America/Los_Angeles:20290624T110000
DTEND;TZID=America/Los_Angeles:20290624T200000
DTSTAMP:20260425T114720
CREATED:20260211T035305Z
LAST-MODIFIED:20260211T035307Z
UID:10008434-1876993200-1877025600@hangar24brewing.com
SUMMARY:Happy Hour - ALL DAY
DESCRIPTION:
URL:https://hangar24brewing.com/event/happy-hour-all-day-2/2029-06-24/
END:VEVENT
BEGIN:VEVENT
DTSTART;TZID=America/Los_Angeles:20290625T180000
DTEND;TZID=America/Los_Angeles:20290625T200000
DTSTAMP:20260425T114720
CREATED:20260207T153334Z
LAST-MODIFIED:20260211T105548Z
UID:10012414-1877104800-1877112000@hangar24brewing.com
SUMMARY:"Sing Your Heart Out" Karaoke Singles Night
DESCRIPTION:
URL:https://hangar24brewing.com/event/sing-your-heart-out-karaoke-singles-night-3/2029-06-25/
LOCATION:HANGAR 24 BREWING – ORANGE COUNTY\, CA
CATEGORIES:Orange County, CA Events
END:VEVENT
BEGIN:VEVENT
DTSTART;VALUE=DATE:20290626
DTEND;VALUE=DATE:20290627
DTSTAMP:20260425T114720
CREATED:20230411T060633Z
LAST-MODIFIED:20260207T151741Z
UID:10010152-1877126400-1877212799@hangar24brewing.com
SUMMARY:TEACHER TUESDAY (25% OFF)
DESCRIPTION:Mug Club Day & Teacher Tuesday (25% OFF!)
URL:https://hangar24brewing.com/event/mug-club-day-2/2029-06-26/
LOCATION:HANGAR 24 BREWING – REDLANDS\, CA
END:VEVENT
BEGIN:VEVENT
DTSTART;VALUE=DATE:20290626
DTEND;VALUE=DATE:20290627
DTSTAMP:20260425T114720
CREATED:20250904T174742Z
LAST-MODIFIED:20260207T151846Z
UID:10010413-1877126400-1877212799@hangar24brewing.com
SUMMARY:Mug Club Discount Tuesdays ($1 off mug pours\, $2 off growler pours)
DESCRIPTION:
URL:https://hangar24brewing.com/event/mug-club-discount-tuesdays-1-off-mug-pours-2-off-growler-pours/2029-06-26/
LOCATION:HANGAR 24 BREWING – REDLANDS\, CA
END:VEVENT
BEGIN:VEVENT
DTSTART;TZID=America/Los_Angeles:20290626T190000
DTEND;TZID=America/Los_Angeles:20290626T220000
DTSTAMP:20260425T114720
CREATED:20250108T063359Z
LAST-MODIFIED:20260219T194135Z
UID:10007626-1877194800-1877205600@hangar24brewing.com
SUMMARY:Trivia Tuesdays (Pour House Trivia!)
DESCRIPTION:
URL:https://hangar24brewing.com/event/trivia-tuesdays-geeks-who-drink-3/2029-06-26/
END:VEVENT
BEGIN:VEVENT
DTSTART;TZID=America/Los_Angeles:20290627T173000
DTEND;TZID=America/Los_Angeles:20290627T193000
DTSTAMP:20260425T114720
CREATED:20251223T204203Z
LAST-MODIFIED:20260220T182628Z
UID:10008171-1877275800-1877283000@hangar24brewing.com
SUMMARY:Bingo Wednesdays!!
DESCRIPTION:
URL:https://hangar24brewing.com/event/bingo-night-2-2/2029-06-27/
LOCATION:HANGAR 24 BREWING – LAKE HAVASU CITY\, CA
CATEGORIES:Lake Havasu City, CA Events
END:VEVENT
BEGIN:VEVENT
DTSTART;TZID=America/Los_Angeles:20290628T180000
DTEND;TZID=America/Los_Angeles:20290628T200000
DTSTAMP:20260425T114720
CREATED:20251223T205854Z
LAST-MODIFIED:20260219T200301Z
UID:10009855-1877364000-1877371200@hangar24brewing.com
SUMMARY:Trivia Thursdays
DESCRIPTION:
URL:https://hangar24brewing.com/event/trivia-night-geeks-who-drink-2-2/2029-06-28/
LOCATION:HANGAR 24 BREWING – LAKE HAVASU CITY\, CA
CATEGORIES:Lake Havasu City, CA Events
END:VEVENT
BEGIN:VEVENT
DTSTART;TZID=America/Los_Angeles:20290628T180000
DTEND;TZID=America/Los_Angeles:20290628T230000
DTSTAMP:20260425T114720
CREATED:20251223T210917Z
LAST-MODIFIED:20260219T194242Z
UID:10007359-1877364000-1877382000@hangar24brewing.com
SUMMARY:College Night (live DJ & games)
DESCRIPTION:
URL:https://hangar24brewing.com/event/college-night-live-dj-games-2/2029-06-28/
END:VEVENT
BEGIN:VEVENT
DTSTART;TZID=America/Los_Angeles:20290628T183000
DTEND;TZID=America/Los_Angeles:20290628T203000
DTSTAMP:20260425T114720
CREATED:20251223T210501Z
LAST-MODIFIED:20260219T195413Z
UID:10011526-1877365800-1877373000@hangar24brewing.com
SUMMARY:Trivia Night
DESCRIPTION:
URL:https://hangar24brewing.com/event/trivia-night-7-2/2029-06-28/
END:VEVENT
BEGIN:VEVENT
DTSTART;TZID=America/Los_Angeles:20290628T190000
DTEND;TZID=America/Los_Angeles:20290628T210000
DTSTAMP:20260425T114720
CREATED:20260207T154408Z
LAST-MODIFIED:20260211T110003Z
UID:10010674-1877367600-1877374800@hangar24brewing.com
SUMMARY:Trivia Night: Epic Pub Quiz
DESCRIPTION:
URL:https://hangar24brewing.com/event/trivia-night-epic-pub-quiz-2/2029-06-28/
LOCATION:HANGAR 24 BREWING – ORANGE COUNTY\, CA
CATEGORIES:Orange County, CA Events
END:VEVENT
BEGIN:VEVENT
DTSTART;TZID=America/Los_Angeles:20290701T110000
DTEND;TZID=America/Los_Angeles:20290701T200000
DTSTAMP:20260425T114720
CREATED:20260211T035305Z
LAST-MODIFIED:20260211T035307Z
UID:10008435-1877598000-1877630400@hangar24brewing.com
SUMMARY:Happy Hour - ALL DAY
DESCRIPTION:
URL:https://hangar24brewing.com/event/happy-hour-all-day-2/2029-07-01/
END:VEVENT
BEGIN:VEVENT
DTSTART;TZID=America/Los_Angeles:20290702T180000
DTEND;TZID=America/Los_Angeles:20290702T200000
DTSTAMP:20260425T114720
CREATED:20260207T153334Z
LAST-MODIFIED:20260211T105548Z
UID:10012415-1877709600-1877716800@hangar24brewing.com
SUMMARY:"Sing Your Heart Out" Karaoke Singles Night
DESCRIPTION:
URL:https://hangar24brewing.com/event/sing-your-heart-out-karaoke-singles-night-3/2029-07-02/
LOCATION:HANGAR 24 BREWING – ORANGE COUNTY\, CA
CATEGORIES:Orange County, CA Events
END:VEVENT
BEGIN:VEVENT
DTSTART;VALUE=DATE:20290703
DTEND;VALUE=DATE:20290704
DTSTAMP:20260425T114720
CREATED:20230411T060633Z
LAST-MODIFIED:20260207T151741Z
UID:10010153-1877731200-1877817599@hangar24brewing.com
SUMMARY:TEACHER TUESDAY (25% OFF)
DESCRIPTION:Mug Club Day & Teacher Tuesday (25% OFF!)
URL:https://hangar24brewing.com/event/mug-club-day-2/2029-07-03/
LOCATION:HANGAR 24 BREWING – REDLANDS\, CA
END:VEVENT
END:VCALENDAR