BEGIN:VCALENDAR
VERSION:2.0
PRODID:-//Hangar 24 Craft Brewing - ECPv6.15.20//NONSGML v1.0//EN
CALSCALE:GREGORIAN
METHOD:PUBLISH
X-WR-CALNAME:Hangar 24 Craft Brewing
X-ORIGINAL-URL:https://hangar24brewing.com
X-WR-CALDESC:Events for Hangar 24 Craft Brewing
REFRESH-INTERVAL;VALUE=DURATION:PT1H
X-Robots-Tag:noindex
X-PUBLISHED-TTL:PT1H
BEGIN:VTIMEZONE
TZID:America/Los_Angeles
BEGIN:DAYLIGHT
TZOFFSETFROM:-0800
TZOFFSETTO:-0700
TZNAME:PDT
DTSTART:20280312T100000
END:DAYLIGHT
BEGIN:STANDARD
TZOFFSETFROM:-0700
TZOFFSETTO:-0800
TZNAME:PST
DTSTART:20281105T090000
END:STANDARD
BEGIN:DAYLIGHT
TZOFFSETFROM:-0800
TZOFFSETTO:-0700
TZNAME:PDT
DTSTART:20290311T100000
END:DAYLIGHT
BEGIN:STANDARD
TZOFFSETFROM:-0700
TZOFFSETTO:-0800
TZNAME:PST
DTSTART:20291104T090000
END:STANDARD
BEGIN:DAYLIGHT
TZOFFSETFROM:-0800
TZOFFSETTO:-0700
TZNAME:PDT
DTSTART:20300310T100000
END:DAYLIGHT
BEGIN:STANDARD
TZOFFSETFROM:-0700
TZOFFSETTO:-0800
TZNAME:PST
DTSTART:20301103T090000
END:STANDARD
END:VTIMEZONE
BEGIN:VEVENT
DTSTART;VALUE=DATE:20290724
DTEND;VALUE=DATE:20290725
DTSTAMP:20260425T170842
CREATED:20250904T174742Z
LAST-MODIFIED:20260207T151846Z
UID:10010417-1879545600-1879631999@hangar24brewing.com
SUMMARY:Mug Club Discount Tuesdays ($1 off mug pours\, $2 off growler pours)
DESCRIPTION:
URL:https://hangar24brewing.com/event/mug-club-discount-tuesdays-1-off-mug-pours-2-off-growler-pours/2029-07-24/
LOCATION:HANGAR 24 BREWING – REDLANDS\, CA
END:VEVENT
BEGIN:VEVENT
DTSTART;TZID=America/Los_Angeles:20290724T190000
DTEND;TZID=America/Los_Angeles:20290724T220000
DTSTAMP:20260425T170842
CREATED:20250108T063359Z
LAST-MODIFIED:20260219T194135Z
UID:10007630-1879614000-1879624800@hangar24brewing.com
SUMMARY:Trivia Tuesdays (Pour House Trivia!)
DESCRIPTION:
URL:https://hangar24brewing.com/event/trivia-tuesdays-geeks-who-drink-3/2029-07-24/
END:VEVENT
BEGIN:VEVENT
DTSTART;TZID=America/Los_Angeles:20290725T173000
DTEND;TZID=America/Los_Angeles:20290725T193000
DTSTAMP:20260425T170842
CREATED:20251223T204203Z
LAST-MODIFIED:20260220T182628Z
UID:10008175-1879695000-1879702200@hangar24brewing.com
SUMMARY:Bingo Wednesdays!!
DESCRIPTION:
URL:https://hangar24brewing.com/event/bingo-night-2-2/2029-07-25/
LOCATION:HANGAR 24 BREWING – LAKE HAVASU CITY\, CA
CATEGORIES:Lake Havasu City, CA Events
END:VEVENT
BEGIN:VEVENT
DTSTART;TZID=America/Los_Angeles:20290726T180000
DTEND;TZID=America/Los_Angeles:20290726T200000
DTSTAMP:20260425T170842
CREATED:20251223T205854Z
LAST-MODIFIED:20260219T200301Z
UID:10009859-1879783200-1879790400@hangar24brewing.com
SUMMARY:Trivia Thursdays
DESCRIPTION:
URL:https://hangar24brewing.com/event/trivia-night-geeks-who-drink-2-2/2029-07-26/
LOCATION:HANGAR 24 BREWING – LAKE HAVASU CITY\, CA
CATEGORIES:Lake Havasu City, CA Events
END:VEVENT
BEGIN:VEVENT
DTSTART;TZID=America/Los_Angeles:20290726T180000
DTEND;TZID=America/Los_Angeles:20290726T230000
DTSTAMP:20260425T170843
CREATED:20251223T210917Z
LAST-MODIFIED:20260219T194242Z
UID:10007363-1879783200-1879801200@hangar24brewing.com
SUMMARY:College Night (live DJ & games)
DESCRIPTION:
URL:https://hangar24brewing.com/event/college-night-live-dj-games-2/2029-07-26/
END:VEVENT
BEGIN:VEVENT
DTSTART;TZID=America/Los_Angeles:20290726T183000
DTEND;TZID=America/Los_Angeles:20290726T203000
DTSTAMP:20260425T170843
CREATED:20251223T210501Z
LAST-MODIFIED:20260219T195413Z
UID:10011530-1879785000-1879792200@hangar24brewing.com
SUMMARY:Trivia Night
DESCRIPTION:
URL:https://hangar24brewing.com/event/trivia-night-7-2/2029-07-26/
END:VEVENT
BEGIN:VEVENT
DTSTART;TZID=America/Los_Angeles:20290726T190000
DTEND;TZID=America/Los_Angeles:20290726T210000
DTSTAMP:20260425T170843
CREATED:20260207T154408Z
LAST-MODIFIED:20260211T110003Z
UID:10010678-1879786800-1879794000@hangar24brewing.com
SUMMARY:Trivia Night: Epic Pub Quiz
DESCRIPTION:
URL:https://hangar24brewing.com/event/trivia-night-epic-pub-quiz-2/2029-07-26/
LOCATION:HANGAR 24 BREWING – ORANGE COUNTY\, CA
CATEGORIES:Orange County, CA Events
END:VEVENT
BEGIN:VEVENT
DTSTART;TZID=America/Los_Angeles:20290729T110000
DTEND;TZID=America/Los_Angeles:20290729T200000
DTSTAMP:20260425T170843
CREATED:20260211T035305Z
LAST-MODIFIED:20260211T035307Z
UID:10008439-1880017200-1880049600@hangar24brewing.com
SUMMARY:Happy Hour - ALL DAY
DESCRIPTION:
URL:https://hangar24brewing.com/event/happy-hour-all-day-2/2029-07-29/
END:VEVENT
BEGIN:VEVENT
DTSTART;TZID=America/Los_Angeles:20290730T180000
DTEND;TZID=America/Los_Angeles:20290730T200000
DTSTAMP:20260425T170843
CREATED:20260207T153334Z
LAST-MODIFIED:20260211T105548Z
UID:10012419-1880128800-1880136000@hangar24brewing.com
SUMMARY:"Sing Your Heart Out" Karaoke Singles Night
DESCRIPTION:
URL:https://hangar24brewing.com/event/sing-your-heart-out-karaoke-singles-night-3/2029-07-30/
LOCATION:HANGAR 24 BREWING – ORANGE COUNTY\, CA
CATEGORIES:Orange County, CA Events
END:VEVENT
BEGIN:VEVENT
DTSTART;VALUE=DATE:20290731
DTEND;VALUE=DATE:20290801
DTSTAMP:20260425T170843
CREATED:20230411T060633Z
LAST-MODIFIED:20260207T151741Z
UID:10010157-1880150400-1880236799@hangar24brewing.com
SUMMARY:TEACHER TUESDAY (25% OFF)
DESCRIPTION:Mug Club Day & Teacher Tuesday (25% OFF!)
URL:https://hangar24brewing.com/event/mug-club-day-2/2029-07-31/
LOCATION:HANGAR 24 BREWING – REDLANDS\, CA
END:VEVENT
BEGIN:VEVENT
DTSTART;VALUE=DATE:20290731
DTEND;VALUE=DATE:20290801
DTSTAMP:20260425T170843
CREATED:20250904T174742Z
LAST-MODIFIED:20260207T151846Z
UID:10010418-1880150400-1880236799@hangar24brewing.com
SUMMARY:Mug Club Discount Tuesdays ($1 off mug pours\, $2 off growler pours)
DESCRIPTION:
URL:https://hangar24brewing.com/event/mug-club-discount-tuesdays-1-off-mug-pours-2-off-growler-pours/2029-07-31/
LOCATION:HANGAR 24 BREWING – REDLANDS\, CA
END:VEVENT
BEGIN:VEVENT
DTSTART;TZID=America/Los_Angeles:20290731T190000
DTEND;TZID=America/Los_Angeles:20290731T220000
DTSTAMP:20260425T170843
CREATED:20250108T063359Z
LAST-MODIFIED:20260219T194135Z
UID:10007631-1880218800-1880229600@hangar24brewing.com
SUMMARY:Trivia Tuesdays (Pour House Trivia!)
DESCRIPTION:
URL:https://hangar24brewing.com/event/trivia-tuesdays-geeks-who-drink-3/2029-07-31/
END:VEVENT
BEGIN:VEVENT
DTSTART;TZID=America/Los_Angeles:20290801T173000
DTEND;TZID=America/Los_Angeles:20290801T193000
DTSTAMP:20260425T170843
CREATED:20251223T204203Z
LAST-MODIFIED:20260220T182628Z
UID:10008176-1880299800-1880307000@hangar24brewing.com
SUMMARY:Bingo Wednesdays!!
DESCRIPTION:
URL:https://hangar24brewing.com/event/bingo-night-2-2/2029-08-01/
LOCATION:HANGAR 24 BREWING – LAKE HAVASU CITY\, CA
CATEGORIES:Lake Havasu City, CA Events
END:VEVENT
BEGIN:VEVENT
DTSTART;TZID=America/Los_Angeles:20290802T180000
DTEND;TZID=America/Los_Angeles:20290802T200000
DTSTAMP:20260425T170843
CREATED:20251223T205854Z
LAST-MODIFIED:20260219T200301Z
UID:10009860-1880388000-1880395200@hangar24brewing.com
SUMMARY:Trivia Thursdays
DESCRIPTION:
URL:https://hangar24brewing.com/event/trivia-night-geeks-who-drink-2-2/2029-08-02/
LOCATION:HANGAR 24 BREWING – LAKE HAVASU CITY\, CA
CATEGORIES:Lake Havasu City, CA Events
END:VEVENT
BEGIN:VEVENT
DTSTART;TZID=America/Los_Angeles:20290802T180000
DTEND;TZID=America/Los_Angeles:20290802T230000
DTSTAMP:20260425T170843
CREATED:20251223T210917Z
LAST-MODIFIED:20260219T194242Z
UID:10007364-1880388000-1880406000@hangar24brewing.com
SUMMARY:College Night (live DJ & games)
DESCRIPTION:
URL:https://hangar24brewing.com/event/college-night-live-dj-games-2/2029-08-02/
END:VEVENT
BEGIN:VEVENT
DTSTART;TZID=America/Los_Angeles:20290802T183000
DTEND;TZID=America/Los_Angeles:20290802T203000
DTSTAMP:20260425T170843
CREATED:20251223T210501Z
LAST-MODIFIED:20260219T195413Z
UID:10011531-1880389800-1880397000@hangar24brewing.com
SUMMARY:Trivia Night
DESCRIPTION:
URL:https://hangar24brewing.com/event/trivia-night-7-2/2029-08-02/
END:VEVENT
BEGIN:VEVENT
DTSTART;TZID=America/Los_Angeles:20290802T190000
DTEND;TZID=America/Los_Angeles:20290802T210000
DTSTAMP:20260425T170843
CREATED:20260207T154408Z
LAST-MODIFIED:20260211T110003Z
UID:10010679-1880391600-1880398800@hangar24brewing.com
SUMMARY:Trivia Night: Epic Pub Quiz
DESCRIPTION:
URL:https://hangar24brewing.com/event/trivia-night-epic-pub-quiz-2/2029-08-02/
LOCATION:HANGAR 24 BREWING – ORANGE COUNTY\, CA
CATEGORIES:Orange County, CA Events
END:VEVENT
BEGIN:VEVENT
DTSTART;TZID=America/Los_Angeles:20290805T110000
DTEND;TZID=America/Los_Angeles:20290805T200000
DTSTAMP:20260425T170843
CREATED:20260211T035305Z
LAST-MODIFIED:20260211T035307Z
UID:10008440-1880622000-1880654400@hangar24brewing.com
SUMMARY:Happy Hour - ALL DAY
DESCRIPTION:
URL:https://hangar24brewing.com/event/happy-hour-all-day-2/2029-08-05/
END:VEVENT
BEGIN:VEVENT
DTSTART;TZID=America/Los_Angeles:20290806T180000
DTEND;TZID=America/Los_Angeles:20290806T200000
DTSTAMP:20260425T170843
CREATED:20260207T153334Z
LAST-MODIFIED:20260211T105548Z
UID:10012420-1880733600-1880740800@hangar24brewing.com
SUMMARY:"Sing Your Heart Out" Karaoke Singles Night
DESCRIPTION:
URL:https://hangar24brewing.com/event/sing-your-heart-out-karaoke-singles-night-3/2029-08-06/
LOCATION:HANGAR 24 BREWING – ORANGE COUNTY\, CA
CATEGORIES:Orange County, CA Events
END:VEVENT
BEGIN:VEVENT
DTSTART;VALUE=DATE:20290807
DTEND;VALUE=DATE:20290808
DTSTAMP:20260425T170843
CREATED:20230411T060633Z
LAST-MODIFIED:20260207T151741Z
UID:10010158-1880755200-1880841599@hangar24brewing.com
SUMMARY:TEACHER TUESDAY (25% OFF)
DESCRIPTION:Mug Club Day & Teacher Tuesday (25% OFF!)
URL:https://hangar24brewing.com/event/mug-club-day-2/2029-08-07/
LOCATION:HANGAR 24 BREWING – REDLANDS\, CA
END:VEVENT
BEGIN:VEVENT
DTSTART;VALUE=DATE:20290807
DTEND;VALUE=DATE:20290808
DTSTAMP:20260425T170843
CREATED:20250904T174742Z
LAST-MODIFIED:20260207T151846Z
UID:10010419-1880755200-1880841599@hangar24brewing.com
SUMMARY:Mug Club Discount Tuesdays ($1 off mug pours\, $2 off growler pours)
DESCRIPTION:
URL:https://hangar24brewing.com/event/mug-club-discount-tuesdays-1-off-mug-pours-2-off-growler-pours/2029-08-07/
LOCATION:HANGAR 24 BREWING – REDLANDS\, CA
END:VEVENT
BEGIN:VEVENT
DTSTART;TZID=America/Los_Angeles:20290807T190000
DTEND;TZID=America/Los_Angeles:20290807T220000
DTSTAMP:20260425T170843
CREATED:20250108T063359Z
LAST-MODIFIED:20260219T194135Z
UID:10007632-1880823600-1880834400@hangar24brewing.com
SUMMARY:Trivia Tuesdays (Pour House Trivia!)
DESCRIPTION:
URL:https://hangar24brewing.com/event/trivia-tuesdays-geeks-who-drink-3/2029-08-07/
END:VEVENT
BEGIN:VEVENT
DTSTART;TZID=America/Los_Angeles:20290808T173000
DTEND;TZID=America/Los_Angeles:20290808T193000
DTSTAMP:20260425T170843
CREATED:20251223T204203Z
LAST-MODIFIED:20260220T182628Z
UID:10008177-1880904600-1880911800@hangar24brewing.com
SUMMARY:Bingo Wednesdays!!
DESCRIPTION:
URL:https://hangar24brewing.com/event/bingo-night-2-2/2029-08-08/
LOCATION:HANGAR 24 BREWING – LAKE HAVASU CITY\, CA
CATEGORIES:Lake Havasu City, CA Events
END:VEVENT
BEGIN:VEVENT
DTSTART;TZID=America/Los_Angeles:20290809T180000
DTEND;TZID=America/Los_Angeles:20290809T200000
DTSTAMP:20260425T170843
CREATED:20251223T205854Z
LAST-MODIFIED:20260219T200301Z
UID:10009861-1880992800-1881000000@hangar24brewing.com
SUMMARY:Trivia Thursdays
DESCRIPTION:
URL:https://hangar24brewing.com/event/trivia-night-geeks-who-drink-2-2/2029-08-09/
LOCATION:HANGAR 24 BREWING – LAKE HAVASU CITY\, CA
CATEGORIES:Lake Havasu City, CA Events
END:VEVENT
BEGIN:VEVENT
DTSTART;TZID=America/Los_Angeles:20290809T180000
DTEND;TZID=America/Los_Angeles:20290809T230000
DTSTAMP:20260425T170843
CREATED:20251223T210917Z
LAST-MODIFIED:20260219T194242Z
UID:10007365-1880992800-1881010800@hangar24brewing.com
SUMMARY:College Night (live DJ & games)
DESCRIPTION:
URL:https://hangar24brewing.com/event/college-night-live-dj-games-2/2029-08-09/
END:VEVENT
BEGIN:VEVENT
DTSTART;TZID=America/Los_Angeles:20290809T183000
DTEND;TZID=America/Los_Angeles:20290809T203000
DTSTAMP:20260425T170843
CREATED:20251223T210501Z
LAST-MODIFIED:20260219T195413Z
UID:10011532-1880994600-1881001800@hangar24brewing.com
SUMMARY:Trivia Night
DESCRIPTION:
URL:https://hangar24brewing.com/event/trivia-night-7-2/2029-08-09/
END:VEVENT
BEGIN:VEVENT
DTSTART;TZID=America/Los_Angeles:20290809T190000
DTEND;TZID=America/Los_Angeles:20290809T210000
DTSTAMP:20260425T170843
CREATED:20260207T154408Z
LAST-MODIFIED:20260211T110003Z
UID:10010680-1880996400-1881003600@hangar24brewing.com
SUMMARY:Trivia Night: Epic Pub Quiz
DESCRIPTION:
URL:https://hangar24brewing.com/event/trivia-night-epic-pub-quiz-2/2029-08-09/
LOCATION:HANGAR 24 BREWING – ORANGE COUNTY\, CA
CATEGORIES:Orange County, CA Events
END:VEVENT
BEGIN:VEVENT
DTSTART;TZID=America/Los_Angeles:20290812T110000
DTEND;TZID=America/Los_Angeles:20290812T200000
DTSTAMP:20260425T170843
CREATED:20260211T035305Z
LAST-MODIFIED:20260211T035307Z
UID:10008441-1881226800-1881259200@hangar24brewing.com
SUMMARY:Happy Hour - ALL DAY
DESCRIPTION:
URL:https://hangar24brewing.com/event/happy-hour-all-day-2/2029-08-12/
END:VEVENT
BEGIN:VEVENT
DTSTART;TZID=America/Los_Angeles:20290813T180000
DTEND;TZID=America/Los_Angeles:20290813T200000
DTSTAMP:20260425T170843
CREATED:20260207T153334Z
LAST-MODIFIED:20260211T105548Z
UID:10012421-1881338400-1881345600@hangar24brewing.com
SUMMARY:"Sing Your Heart Out" Karaoke Singles Night
DESCRIPTION:
URL:https://hangar24brewing.com/event/sing-your-heart-out-karaoke-singles-night-3/2029-08-13/
LOCATION:HANGAR 24 BREWING – ORANGE COUNTY\, CA
CATEGORIES:Orange County, CA Events
END:VEVENT
BEGIN:VEVENT
DTSTART;VALUE=DATE:20290814
DTEND;VALUE=DATE:20290815
DTSTAMP:20260425T170843
CREATED:20230411T060633Z
LAST-MODIFIED:20260207T151741Z
UID:10010159-1881360000-1881446399@hangar24brewing.com
SUMMARY:TEACHER TUESDAY (25% OFF)
DESCRIPTION:Mug Club Day & Teacher Tuesday (25% OFF!)
URL:https://hangar24brewing.com/event/mug-club-day-2/2029-08-14/
LOCATION:HANGAR 24 BREWING – REDLANDS\, CA
END:VEVENT
END:VCALENDAR