BEGIN:VCALENDAR
VERSION:2.0
PRODID:-//Hangar 24 Craft Brewing - ECPv6.15.20//NONSGML v1.0//EN
CALSCALE:GREGORIAN
METHOD:PUBLISH
X-ORIGINAL-URL:https://hangar24brewing.com
X-WR-CALDESC:Events for Hangar 24 Craft Brewing
REFRESH-INTERVAL;VALUE=DURATION:PT1H
X-Robots-Tag:noindex
X-PUBLISHED-TTL:PT1H
BEGIN:VTIMEZONE
TZID:America/Los_Angeles
BEGIN:DAYLIGHT
TZOFFSETFROM:-0800
TZOFFSETTO:-0700
TZNAME:PDT
DTSTART:20280312T100000
END:DAYLIGHT
BEGIN:STANDARD
TZOFFSETFROM:-0700
TZOFFSETTO:-0800
TZNAME:PST
DTSTART:20281105T090000
END:STANDARD
BEGIN:DAYLIGHT
TZOFFSETFROM:-0800
TZOFFSETTO:-0700
TZNAME:PDT
DTSTART:20290311T100000
END:DAYLIGHT
BEGIN:STANDARD
TZOFFSETFROM:-0700
TZOFFSETTO:-0800
TZNAME:PST
DTSTART:20291104T090000
END:STANDARD
BEGIN:DAYLIGHT
TZOFFSETFROM:-0800
TZOFFSETTO:-0700
TZNAME:PDT
DTSTART:20300310T100000
END:DAYLIGHT
BEGIN:STANDARD
TZOFFSETFROM:-0700
TZOFFSETTO:-0800
TZNAME:PST
DTSTART:20301103T090000
END:STANDARD
END:VTIMEZONE
BEGIN:VEVENT
DTSTART;TZID=America/Los_Angeles:20290821T190000
DTEND;TZID=America/Los_Angeles:20290821T220000
DTSTAMP:20260425T202937
CREATED:20250108T063359Z
LAST-MODIFIED:20260219T194135Z
UID:10007634-1882033200-1882044000@hangar24brewing.com
SUMMARY:Trivia Tuesdays (Pour House Trivia!)
DESCRIPTION:
URL:https://hangar24brewing.com/event/trivia-tuesdays-geeks-who-drink-3/2029-08-21/
END:VEVENT
BEGIN:VEVENT
DTSTART;TZID=America/Los_Angeles:20290822T173000
DTEND;TZID=America/Los_Angeles:20290822T193000
DTSTAMP:20260425T202937
CREATED:20251223T204203Z
LAST-MODIFIED:20260220T182628Z
UID:10008179-1882114200-1882121400@hangar24brewing.com
SUMMARY:Bingo Wednesdays!!
DESCRIPTION:
URL:https://hangar24brewing.com/event/bingo-night-2-2/2029-08-22/
LOCATION:HANGAR 24 BREWING – LAKE HAVASU CITY\, CA
CATEGORIES:Lake Havasu City, CA Events
END:VEVENT
BEGIN:VEVENT
DTSTART;TZID=America/Los_Angeles:20290823T180000
DTEND;TZID=America/Los_Angeles:20290823T200000
DTSTAMP:20260425T202937
CREATED:20251223T205854Z
LAST-MODIFIED:20260219T200301Z
UID:10009863-1882202400-1882209600@hangar24brewing.com
SUMMARY:Trivia Thursdays
DESCRIPTION:
URL:https://hangar24brewing.com/event/trivia-night-geeks-who-drink-2-2/2029-08-23/
LOCATION:HANGAR 24 BREWING – LAKE HAVASU CITY\, CA
CATEGORIES:Lake Havasu City, CA Events
END:VEVENT
BEGIN:VEVENT
DTSTART;TZID=America/Los_Angeles:20290823T180000
DTEND;TZID=America/Los_Angeles:20290823T230000
DTSTAMP:20260425T202937
CREATED:20251223T210917Z
LAST-MODIFIED:20260219T194242Z
UID:10007367-1882202400-1882220400@hangar24brewing.com
SUMMARY:College Night (live DJ & games)
DESCRIPTION:
URL:https://hangar24brewing.com/event/college-night-live-dj-games-2/2029-08-23/
END:VEVENT
BEGIN:VEVENT
DTSTART;TZID=America/Los_Angeles:20290823T183000
DTEND;TZID=America/Los_Angeles:20290823T203000
DTSTAMP:20260425T202937
CREATED:20251223T210501Z
LAST-MODIFIED:20260219T195413Z
UID:10011534-1882204200-1882211400@hangar24brewing.com
SUMMARY:Trivia Night
DESCRIPTION:
URL:https://hangar24brewing.com/event/trivia-night-7-2/2029-08-23/
END:VEVENT
BEGIN:VEVENT
DTSTART;TZID=America/Los_Angeles:20290823T190000
DTEND;TZID=America/Los_Angeles:20290823T210000
DTSTAMP:20260425T202937
CREATED:20260207T154408Z
LAST-MODIFIED:20260211T110003Z
UID:10010682-1882206000-1882213200@hangar24brewing.com
SUMMARY:Trivia Night: Epic Pub Quiz
DESCRIPTION:
URL:https://hangar24brewing.com/event/trivia-night-epic-pub-quiz-2/2029-08-23/
LOCATION:HANGAR 24 BREWING – ORANGE COUNTY\, CA
CATEGORIES:Orange County, CA Events
END:VEVENT
BEGIN:VEVENT
DTSTART;TZID=America/Los_Angeles:20290826T110000
DTEND;TZID=America/Los_Angeles:20290826T200000
DTSTAMP:20260425T202937
CREATED:20260211T035305Z
LAST-MODIFIED:20260211T035307Z
UID:10008443-1882436400-1882468800@hangar24brewing.com
SUMMARY:Happy Hour - ALL DAY
DESCRIPTION:
URL:https://hangar24brewing.com/event/happy-hour-all-day-2/2029-08-26/
END:VEVENT
BEGIN:VEVENT
DTSTART;TZID=America/Los_Angeles:20290827T180000
DTEND;TZID=America/Los_Angeles:20290827T200000
DTSTAMP:20260425T202937
CREATED:20260207T153334Z
LAST-MODIFIED:20260211T105548Z
UID:10012423-1882548000-1882555200@hangar24brewing.com
SUMMARY:"Sing Your Heart Out" Karaoke Singles Night
DESCRIPTION:
URL:https://hangar24brewing.com/event/sing-your-heart-out-karaoke-singles-night-3/2029-08-27/
LOCATION:HANGAR 24 BREWING – ORANGE COUNTY\, CA
CATEGORIES:Orange County, CA Events
END:VEVENT
BEGIN:VEVENT
DTSTART;VALUE=DATE:20290828
DTEND;VALUE=DATE:20290829
DTSTAMP:20260425T202937
CREATED:20230411T060633Z
LAST-MODIFIED:20260207T151741Z
UID:10010161-1882569600-1882655999@hangar24brewing.com
SUMMARY:TEACHER TUESDAY (25% OFF)
DESCRIPTION:Mug Club Day & Teacher Tuesday (25% OFF!)
URL:https://hangar24brewing.com/event/mug-club-day-2/2029-08-28/
LOCATION:HANGAR 24 BREWING – REDLANDS\, CA
END:VEVENT
BEGIN:VEVENT
DTSTART;VALUE=DATE:20290828
DTEND;VALUE=DATE:20290829
DTSTAMP:20260425T202937
CREATED:20250904T174742Z
LAST-MODIFIED:20260207T151846Z
UID:10010422-1882569600-1882655999@hangar24brewing.com
SUMMARY:Mug Club Discount Tuesdays ($1 off mug pours\, $2 off growler pours)
DESCRIPTION:
URL:https://hangar24brewing.com/event/mug-club-discount-tuesdays-1-off-mug-pours-2-off-growler-pours/2029-08-28/
LOCATION:HANGAR 24 BREWING – REDLANDS\, CA
END:VEVENT
BEGIN:VEVENT
DTSTART;TZID=America/Los_Angeles:20290828T190000
DTEND;TZID=America/Los_Angeles:20290828T220000
DTSTAMP:20260425T202937
CREATED:20250108T063359Z
LAST-MODIFIED:20260219T194135Z
UID:10007635-1882638000-1882648800@hangar24brewing.com
SUMMARY:Trivia Tuesdays (Pour House Trivia!)
DESCRIPTION:
URL:https://hangar24brewing.com/event/trivia-tuesdays-geeks-who-drink-3/2029-08-28/
END:VEVENT
BEGIN:VEVENT
DTSTART;TZID=America/Los_Angeles:20290829T173000
DTEND;TZID=America/Los_Angeles:20290829T193000
DTSTAMP:20260425T202937
CREATED:20251223T204203Z
LAST-MODIFIED:20260220T182628Z
UID:10008180-1882719000-1882726200@hangar24brewing.com
SUMMARY:Bingo Wednesdays!!
DESCRIPTION:
URL:https://hangar24brewing.com/event/bingo-night-2-2/2029-08-29/
LOCATION:HANGAR 24 BREWING – LAKE HAVASU CITY\, CA
CATEGORIES:Lake Havasu City, CA Events
END:VEVENT
BEGIN:VEVENT
DTSTART;TZID=America/Los_Angeles:20290830T180000
DTEND;TZID=America/Los_Angeles:20290830T200000
DTSTAMP:20260425T202937
CREATED:20251223T205854Z
LAST-MODIFIED:20260219T200301Z
UID:10009864-1882807200-1882814400@hangar24brewing.com
SUMMARY:Trivia Thursdays
DESCRIPTION:
URL:https://hangar24brewing.com/event/trivia-night-geeks-who-drink-2-2/2029-08-30/
LOCATION:HANGAR 24 BREWING – LAKE HAVASU CITY\, CA
CATEGORIES:Lake Havasu City, CA Events
END:VEVENT
BEGIN:VEVENT
DTSTART;TZID=America/Los_Angeles:20290830T180000
DTEND;TZID=America/Los_Angeles:20290830T230000
DTSTAMP:20260425T202937
CREATED:20251223T210917Z
LAST-MODIFIED:20260219T194242Z
UID:10007368-1882807200-1882825200@hangar24brewing.com
SUMMARY:College Night (live DJ & games)
DESCRIPTION:
URL:https://hangar24brewing.com/event/college-night-live-dj-games-2/2029-08-30/
END:VEVENT
BEGIN:VEVENT
DTSTART;TZID=America/Los_Angeles:20290830T183000
DTEND;TZID=America/Los_Angeles:20290830T203000
DTSTAMP:20260425T202937
CREATED:20251223T210501Z
LAST-MODIFIED:20260219T195413Z
UID:10011535-1882809000-1882816200@hangar24brewing.com
SUMMARY:Trivia Night
DESCRIPTION:
URL:https://hangar24brewing.com/event/trivia-night-7-2/2029-08-30/
END:VEVENT
BEGIN:VEVENT
DTSTART;TZID=America/Los_Angeles:20290830T190000
DTEND;TZID=America/Los_Angeles:20290830T210000
DTSTAMP:20260425T202937
CREATED:20260207T154408Z
LAST-MODIFIED:20260211T110003Z
UID:10010683-1882810800-1882818000@hangar24brewing.com
SUMMARY:Trivia Night: Epic Pub Quiz
DESCRIPTION:
URL:https://hangar24brewing.com/event/trivia-night-epic-pub-quiz-2/2029-08-30/
LOCATION:HANGAR 24 BREWING – ORANGE COUNTY\, CA
CATEGORIES:Orange County, CA Events
END:VEVENT
BEGIN:VEVENT
DTSTART;TZID=America/Los_Angeles:20290902T110000
DTEND;TZID=America/Los_Angeles:20290902T200000
DTSTAMP:20260425T202937
CREATED:20260211T035305Z
LAST-MODIFIED:20260211T035307Z
UID:10008444-1883041200-1883073600@hangar24brewing.com
SUMMARY:Happy Hour - ALL DAY
DESCRIPTION:
URL:https://hangar24brewing.com/event/happy-hour-all-day-2/2029-09-02/
END:VEVENT
BEGIN:VEVENT
DTSTART;TZID=America/Los_Angeles:20290903T180000
DTEND;TZID=America/Los_Angeles:20290903T200000
DTSTAMP:20260425T202937
CREATED:20260207T153334Z
LAST-MODIFIED:20260211T105548Z
UID:10012424-1883152800-1883160000@hangar24brewing.com
SUMMARY:"Sing Your Heart Out" Karaoke Singles Night
DESCRIPTION:
URL:https://hangar24brewing.com/event/sing-your-heart-out-karaoke-singles-night-3/2029-09-03/
LOCATION:HANGAR 24 BREWING – ORANGE COUNTY\, CA
CATEGORIES:Orange County, CA Events
END:VEVENT
BEGIN:VEVENT
DTSTART;VALUE=DATE:20290904
DTEND;VALUE=DATE:20290905
DTSTAMP:20260425T202937
CREATED:20230411T060633Z
LAST-MODIFIED:20260207T151741Z
UID:10010162-1883174400-1883260799@hangar24brewing.com
SUMMARY:TEACHER TUESDAY (25% OFF)
DESCRIPTION:Mug Club Day & Teacher Tuesday (25% OFF!)
URL:https://hangar24brewing.com/event/mug-club-day-2/2029-09-04/
LOCATION:HANGAR 24 BREWING – REDLANDS\, CA
END:VEVENT
BEGIN:VEVENT
DTSTART;VALUE=DATE:20290904
DTEND;VALUE=DATE:20290905
DTSTAMP:20260425T202937
CREATED:20250904T174742Z
LAST-MODIFIED:20260207T151846Z
UID:10010423-1883174400-1883260799@hangar24brewing.com
SUMMARY:Mug Club Discount Tuesdays ($1 off mug pours\, $2 off growler pours)
DESCRIPTION:
URL:https://hangar24brewing.com/event/mug-club-discount-tuesdays-1-off-mug-pours-2-off-growler-pours/2029-09-04/
LOCATION:HANGAR 24 BREWING – REDLANDS\, CA
END:VEVENT
BEGIN:VEVENT
DTSTART;TZID=America/Los_Angeles:20290904T190000
DTEND;TZID=America/Los_Angeles:20290904T220000
DTSTAMP:20260425T202937
CREATED:20250108T063359Z
LAST-MODIFIED:20260219T194135Z
UID:10007636-1883242800-1883253600@hangar24brewing.com
SUMMARY:Trivia Tuesdays (Pour House Trivia!)
DESCRIPTION:
URL:https://hangar24brewing.com/event/trivia-tuesdays-geeks-who-drink-3/2029-09-04/
END:VEVENT
BEGIN:VEVENT
DTSTART;TZID=America/Los_Angeles:20290905T173000
DTEND;TZID=America/Los_Angeles:20290905T193000
DTSTAMP:20260425T202937
CREATED:20251223T204203Z
LAST-MODIFIED:20260220T182628Z
UID:10008181-1883323800-1883331000@hangar24brewing.com
SUMMARY:Bingo Wednesdays!!
DESCRIPTION:
URL:https://hangar24brewing.com/event/bingo-night-2-2/2029-09-05/
LOCATION:HANGAR 24 BREWING – LAKE HAVASU CITY\, CA
CATEGORIES:Lake Havasu City, CA Events
END:VEVENT
BEGIN:VEVENT
DTSTART;TZID=America/Los_Angeles:20290906T180000
DTEND;TZID=America/Los_Angeles:20290906T200000
DTSTAMP:20260425T202937
CREATED:20251223T205854Z
LAST-MODIFIED:20260219T200301Z
UID:10009865-1883412000-1883419200@hangar24brewing.com
SUMMARY:Trivia Thursdays
DESCRIPTION:
URL:https://hangar24brewing.com/event/trivia-night-geeks-who-drink-2-2/2029-09-06/
LOCATION:HANGAR 24 BREWING – LAKE HAVASU CITY\, CA
CATEGORIES:Lake Havasu City, CA Events
END:VEVENT
BEGIN:VEVENT
DTSTART;TZID=America/Los_Angeles:20290906T180000
DTEND;TZID=America/Los_Angeles:20290906T230000
DTSTAMP:20260425T202937
CREATED:20251223T210917Z
LAST-MODIFIED:20260219T194242Z
UID:10007369-1883412000-1883430000@hangar24brewing.com
SUMMARY:College Night (live DJ & games)
DESCRIPTION:
URL:https://hangar24brewing.com/event/college-night-live-dj-games-2/2029-09-06/
END:VEVENT
BEGIN:VEVENT
DTSTART;TZID=America/Los_Angeles:20290906T183000
DTEND;TZID=America/Los_Angeles:20290906T203000
DTSTAMP:20260425T202937
CREATED:20251223T210501Z
LAST-MODIFIED:20260219T195413Z
UID:10011536-1883413800-1883421000@hangar24brewing.com
SUMMARY:Trivia Night
DESCRIPTION:
URL:https://hangar24brewing.com/event/trivia-night-7-2/2029-09-06/
END:VEVENT
BEGIN:VEVENT
DTSTART;TZID=America/Los_Angeles:20290906T190000
DTEND;TZID=America/Los_Angeles:20290906T210000
DTSTAMP:20260425T202937
CREATED:20260207T154408Z
LAST-MODIFIED:20260211T110003Z
UID:10010684-1883415600-1883422800@hangar24brewing.com
SUMMARY:Trivia Night: Epic Pub Quiz
DESCRIPTION:
URL:https://hangar24brewing.com/event/trivia-night-epic-pub-quiz-2/2029-09-06/
LOCATION:HANGAR 24 BREWING – ORANGE COUNTY\, CA
CATEGORIES:Orange County, CA Events
END:VEVENT
BEGIN:VEVENT
DTSTART;TZID=America/Los_Angeles:20290909T110000
DTEND;TZID=America/Los_Angeles:20290909T200000
DTSTAMP:20260425T202937
CREATED:20260211T035305Z
LAST-MODIFIED:20260211T035307Z
UID:10008445-1883646000-1883678400@hangar24brewing.com
SUMMARY:Happy Hour - ALL DAY
DESCRIPTION:
URL:https://hangar24brewing.com/event/happy-hour-all-day-2/2029-09-09/
END:VEVENT
BEGIN:VEVENT
DTSTART;TZID=America/Los_Angeles:20290910T180000
DTEND;TZID=America/Los_Angeles:20290910T200000
DTSTAMP:20260425T202937
CREATED:20260207T153334Z
LAST-MODIFIED:20260211T105548Z
UID:10012425-1883757600-1883764800@hangar24brewing.com
SUMMARY:"Sing Your Heart Out" Karaoke Singles Night
DESCRIPTION:
URL:https://hangar24brewing.com/event/sing-your-heart-out-karaoke-singles-night-3/2029-09-10/
LOCATION:HANGAR 24 BREWING – ORANGE COUNTY\, CA
CATEGORIES:Orange County, CA Events
END:VEVENT
BEGIN:VEVENT
DTSTART;VALUE=DATE:20290911
DTEND;VALUE=DATE:20290912
DTSTAMP:20260425T202937
CREATED:20230411T060633Z
LAST-MODIFIED:20260207T151741Z
UID:10010163-1883779200-1883865599@hangar24brewing.com
SUMMARY:TEACHER TUESDAY (25% OFF)
DESCRIPTION:Mug Club Day & Teacher Tuesday (25% OFF!)
URL:https://hangar24brewing.com/event/mug-club-day-2/2029-09-11/
LOCATION:HANGAR 24 BREWING – REDLANDS\, CA
END:VEVENT
BEGIN:VEVENT
DTSTART;VALUE=DATE:20290911
DTEND;VALUE=DATE:20290912
DTSTAMP:20260425T202937
CREATED:20250904T174742Z
LAST-MODIFIED:20260207T151846Z
UID:10010424-1883779200-1883865599@hangar24brewing.com
SUMMARY:Mug Club Discount Tuesdays ($1 off mug pours\, $2 off growler pours)
DESCRIPTION:
URL:https://hangar24brewing.com/event/mug-club-discount-tuesdays-1-off-mug-pours-2-off-growler-pours/2029-09-11/
LOCATION:HANGAR 24 BREWING – REDLANDS\, CA
END:VEVENT
END:VCALENDAR